From mboxrd@z Thu Jan 1 00:00:00 1970 Return-Path: Received: from mails.dpdk.org (mails.dpdk.org [217.70.189.124]) by inbox.dpdk.org (Postfix) with ESMTP id C608248B0B for ; Fri, 14 Nov 2025 16:41:00 +0100 (CET) Received: from mails.dpdk.org (localhost [127.0.0.1]) by mails.dpdk.org (Postfix) with ESMTP id AA5CA4068E; Fri, 14 Nov 2025 16:41:00 +0100 (CET) Received: from mail-pj1-f99.google.com (mail-pj1-f99.google.com [209.85.216.99]) by mails.dpdk.org (Postfix) with ESMTP id 011594068E for ; Fri, 14 Nov 2025 16:40:58 +0100 (CET) Received: by mail-pj1-f99.google.com with SMTP id 98e67ed59e1d1-3418ad69672so1590951a91.3 for ; Fri, 14 Nov 2025 07:40:58 -0800 (PST) DKIM-Signature: v=1; a=rsa-sha256; c=relaxed/relaxed; d=iol.unh.edu; s=unh-iol; t=1763134858; x=1763739658; darn=dpdk.org; h=references:in-reply-to:cc:to:from:subject:message-id:date:from:to :cc:subject:date:message-id:reply-to; bh=z2zAfK8i1AtcPBXwwGduWbhnjU3iMWWHpxyIPSlL9cg=; b=L+Pm4pQwT5vM4rnlL3KJyYeiBut5t6Km8M8YWYl5FDUQ/i+upw1jvaCxpFbYoWWuPB ucXXhtvZVf/fIDNypWB30hAuu5UVc6owJT3LM09enXVi+chWraVClgCTZyyU9EvuY4rM G62YS5CO5nJ5xGU984fGgQ8iCq6zjtS/QbYIY= X-Google-DKIM-Signature: v=1; a=rsa-sha256; c=relaxed/relaxed; d=1e100.net; s=20230601; t=1763134858; x=1763739658; h=references:in-reply-to:cc:to:from:subject:message-id:date:x-gm-gg :x-gm-message-state:from:to:cc:subject:date:message-id:reply-to; bh=z2zAfK8i1AtcPBXwwGduWbhnjU3iMWWHpxyIPSlL9cg=; b=tyHIe+tPzj/kVh335jxu1DBlt1AjaON+6gsnPzpw0HQWbX0Y2C9hsii0A+DR36MOH6 cB1c0zmbuxTODNAQgoH946emsjICHw5nnNRQvVtiZrIEPsacgPviMyUulTqEd57qjfmW jMmseIYG36E9Oelb7MFUam/69yZ/U/juLHtBJbQUUsyiSdf1TylU/T+0CFcvyFF690cG TgoHXpIklisjLqR/uliW+JjB8B1Sob3h0XUaLg0emnUr+dH1dbPrRWHXuWQ0FnoTalu/ ekH0iFcQjg74OH3LbjawHktyOqU/e6fjt1sp6vzaVrWWahp4FCsAZ7VgSzQSTqfiLNrV ruMA== X-Gm-Message-State: AOJu0Yy26plBsII/D4vPquiMjTTci+pUFjLPzS8ukL8MMtCyOoaboGQO C+1Z5bOSB1weyeeTAD8dskFBHPam/W1x/3QajnwwLI4ys3oOlMAik9uliZk6ujQhYOzImmR/I95 hvKYcengbG1hfEZlhuZnf1Z3ddcnlKzAdEo+7hwbsq3OAKPfTaevA0f9If21k X-Gm-Gg: ASbGnctQZeqDcXw4LywD3fsAfZA7iAzXnuMPqIEEkxI3D2ts4jm+Hy2eGNQpGpkEw1k O+s+Ts8hcx3P4xS+u3wB1PjcKQaJTbI/fFm7uIhgYhv+FglPV9hpefQ1wv4w6nG3ZKTFqZ32z2U GNUEpi28MLKHSk3t4SdHyexVGNM8jkC9jQL2JjqplSuiaAQHn5TpsOSY2Lqnp1aZ0bW/5JnQ6F6 nYXufU9hRb1V97OCoAH0LTNDHoeqxQdhMZf1tqJtlOeoHR3mx3LMOLE3Saft+0mxxUSJzZj5BED rrPp+8kRiSfJ0/qrlhLM3ScbBqEW70gLL4JOab0AoQAyPhekqdl6gj6XxtvW0coNIotytSUIC/s P0v6SlU3I X-Google-Smtp-Source: AGHT+IHMiUl3AOxvcU9tHk+KaAN1cXxIVf3OUJPQc+Zejb+rSaEfmMQcFxw8mBTdc5gazAPKxvCDq0Yi5HO+ X-Received: by 2002:a17:902:e74b:b0:295:fbc7:d282 with SMTP id d9443c01a7336-2986a6f081emr39958495ad.27.1763134858000; Fri, 14 Nov 2025 07:40:58 -0800 (PST) Received: from postal.iol.unh.edu (postal.iol.unh.edu. [2606:4100:3880:1234::84]) by smtp-relay.gmail.com with ESMTPS id d9443c01a7336-2985c2c3d86sm5765985ad.57.2025.11.14.07.40.57 (version=TLS1_2 cipher=ECDHE-ECDSA-AES128-GCM-SHA256 bits=128/128); Fri, 14 Nov 2025 07:40:57 -0800 (PST) X-Relaying-Domain: iol.unh.edu Date: Fri, 14 Nov 2025 07:40:57 -0800 (PST) Message-ID: <69174d89.170a0220.301bc3.c644SMTPIN_ADDED_MISSING@mx.google.com> Received: from [172.21.0.2] (unknown [172.18.0.240]) by postal.iol.unh.edu (Postfix) with ESMTP id 2388D6051830; Fri, 14 Nov 2025 10:40:57 -0500 (EST) Subject: |SUCCESS| pw158770 [PATCH] net/idpf: fix missing offload from conver From: dpdklab@iol.unh.edu To: Test Report Cc: dpdk-test-reports@iol.unh.edu, Bruce Richardson In-Reply-To: <20251113145021.3793930-1-ciara.loftus@intel.com> References: <20251113145021.3793930-1-ciara.loftus@intel.com> Content-Type: text/plain X-BeenThere: test-report@dpdk.org X-Mailman-Version: 2.1.29 Precedence: list List-Id: automatic DPDK test reports List-Unsubscribe: , List-Archive: List-Post: List-Help: List-Subscribe: , Errors-To: test-report-bounces@dpdk.org Test-Label: iol-compile-arm64-testing Test-Status: SUCCESS http://dpdk.org/patch/158770 _Testing PASS_ Submitter: Ciara Loftus Date: Thursday, November 13 2025 14:50:21 DPDK git baseline: Repo:dpdk-next-net-intel Branch: master CommitID:e5357d609907d504f4705e4899f3dad43cb4b70f 158770 --> testing pass Upstream job id: Generic-DPDK-Compile-Meson#444155 Test environment and result as below: +------------------------------+--------------------+ | Environment | dpdk_meson_compile | +==============================+====================+ | Red Hat Enterprise Linux 9.5 | PASS | +------------------------------+--------------------+ | Ubuntu 20.04 | PASS | +------------------------------+--------------------+ | Debian GNU/Linux 12 | PASS | +------------------------------+--------------------+ | Fedora Linux 42 | PASS | +------------------------------+--------------------+ | Ubuntu 22.04 | PASS | +------------------------------+--------------------+ | Ubuntu 24.04 | PASS | +------------------------------+--------------------+ | CentOS Stream 9 | PASS | +------------------------------+--------------------+ | CentOS Stream 10 | PASS | +------------------------------+--------------------+ Red Hat Enterprise Linux 9.5 Kernel: 5.4 Compiler: gcc gcc (GCC) 11.5.0 20240719 (Red Hat 11.5.0-2) Ubuntu 20.04 Kernel: 5.15 Compiler: aarch64-linux-gnu-gcc gcc (Ubuntu 9.4.0-1ubuntu1~20.04.2) 9.4.0 Debian GNU/Linux 12 Kernel: 5.4 Compiler: gcc gcc (Debian 12.2.0-14+deb12u1) 12.2.0 Fedora Linux 42 Kernel: 5.4 Compiler: gcc gcc (GCC) 15.2.1 20250808 (Red Hat 15.2.1-1) Ubuntu 22.04 Kernel: 5.4 Compiler: gcc gcc (Ubuntu 11.4.0-1ubuntu1~22.04) 11.4.0 Ubuntu 24.04 Kernel: 5.4 Compiler: gcc gcc (Ubuntu 13.3.0-6ubuntu2~24.04) 13.3.0 CentOS Stream 9 Kernel: 5.4 Compiler: gcc gcc (GCC) 11.5.0 20240719 (Red Hat 11.5.0-11) CentOS Stream 10 Kernel: 5.4 Compiler: gcc gcc (GCC) 14.2.1 20250110 (Red Hat 14.2.1-8) To view detailed results, visit: https://lab.dpdk.org/results/dashboard/patchsets/34578/ UNH-IOL DPDK Community Lab To manage your email subscriptions, visit: https://lab.dpdk.org/results/dashboard/preferences/subscriptions/