From mboxrd@z Thu Jan 1 00:00:00 1970 Return-Path: Received: from mails.dpdk.org (mails.dpdk.org [217.70.189.124]) by inbox.dpdk.org (Postfix) with ESMTP id CC6CD48B0B for ; Fri, 14 Nov 2025 16:41:56 +0100 (CET) Received: from mails.dpdk.org (localhost [127.0.0.1]) by mails.dpdk.org (Postfix) with ESMTP id C7BE44068E; Fri, 14 Nov 2025 16:41:56 +0100 (CET) Received: from mail-qt1-f227.google.com (mail-qt1-f227.google.com [209.85.160.227]) by mails.dpdk.org (Postfix) with ESMTP id 55EF44068E for ; Fri, 14 Nov 2025 16:41:56 +0100 (CET) Received: by mail-qt1-f227.google.com with SMTP id d75a77b69052e-4eda6c385c0so16449271cf.3 for ; Fri, 14 Nov 2025 07:41:56 -0800 (PST) DKIM-Signature: v=1; a=rsa-sha256; c=relaxed/relaxed; d=iol.unh.edu; s=unh-iol; t=1763134915; x=1763739715; darn=dpdk.org; h=references:in-reply-to:cc:to:from:subject:message-id:date:from:to :cc:subject:date:message-id:reply-to; bh=P16TL8viIzfIJ/tdVLBE8wS6uUBFOz9fK8EUv0Iaw7w=; b=E1ARZANiGIljFPZExKtdRoBMVxylvKEieZqSJqyF4jZ20WIHrfhhRqCiLPiM0Gixuq 1duCgwUb2Zsv4c3t/KFRxezKJPufuxjKGh1Yw4QgUCaWP5t+hlQIL+4Wp96NF4jo8vW9 r8GbzxycleanWOIyAqKqi82Q0PkcjKGUBOWB0= X-Google-DKIM-Signature: v=1; a=rsa-sha256; c=relaxed/relaxed; d=1e100.net; s=20230601; t=1763134915; x=1763739715; h=references:in-reply-to:cc:to:from:subject:message-id:date:x-gm-gg :x-gm-message-state:from:to:cc:subject:date:message-id:reply-to; bh=P16TL8viIzfIJ/tdVLBE8wS6uUBFOz9fK8EUv0Iaw7w=; b=QT6pLwob1mhIRHlRxYyDRU+57Ty65KNuQS2Hilr3qbjPt5GaTUBM3S4oOrRB72WSnV CF+v6UvGwVMJ5yU/CUdTUw3TGBMYJat2+uETKIpeLZ7J2bjuMijREVLBUdF7EUv5Ok7B 6U+8YrlbzrmtTg4aKRY13LRMC6YtzxUR1OcWDUaCix0RSLH90fMKqKLSbOn6k65Ze8Tf fcu2aanYoXZKqlwlXGxSaHzvljInG36EK06bwzyjFGU1SP+X9sVa1pYq/o/akwcGsDB+ zMX/u7OB8Hg9xSznWA/glh1itxKDntniPM9+vNCvfpKWiywgTZ6nTXXbJ5S4rL7FFMuK bArQ== X-Gm-Message-State: AOJu0YzV9xGmt1aMKPxn2fsKbTCVg/FCNbBbZaPzEzm13xxC8xIw2waD EFubLuvOHMUKiDLeB3EfJXEYQrkvVJwB7bop6jaM3+e3uw81Oxht2UcIcaBUKPAoh0izdmRC5pV X8zPCIfi+R6Pb+3jvua/UUfyBWhicC3nVplLB90EAR3v0 X-Gm-Gg: ASbGncsaHmkoaDe7HVD6zgn5GYO9B6pXiJTNOzoesU4yqZO3zQda0ZpzFY3IgsMEQLT 6jphc+QmjHjAXQrrxaOAeweP7Ofib1cYRGWulR2REofi8IRZCquZhNDAVPFRl2yih1X7qzzBlXH CUzXpZAQpImttkbF6BHJDQjMy3fVlOuXPhlRFnYshLHe/hh+IuNKOttLU8cvaARtyQoe4TcdIdc fv6F5RQonHvFiW4wu+Dn9Kkw4sxIKQJRFN9bIJXDuSePWdbLzjgQTpozuuEGMTWPbT2nzBJEIZv gRxe7j5DfBn3LftO2yWq7zNRfYOTBV4RouD93wzLgzWVHuuPj6y0ztM0wmSRQiUZHwkzSmMQN+f edZWG9wyh7w9u09F03dACrnCQriFmTSc= X-Google-Smtp-Source: AGHT+IE7jj1iM54wgPp0/RrtEXYT09oTGYCmCeXlTm53JRnCmGmzG3Cgt2MAlzWAXynHHeBp1Sr8cePMKUHK X-Received: by 2002:ac8:584c:0:b0:4ed:6139:8ea1 with SMTP id d75a77b69052e-4edf203cd50mr49311561cf.10.1763134915616; Fri, 14 Nov 2025 07:41:55 -0800 (PST) Received: from postal.iol.unh.edu (postal.iol.unh.edu. [132.177.123.84]) by smtp-relay.gmail.com with ESMTPS id d75a77b69052e-4ede884695dsm2146801cf.10.2025.11.14.07.41.55 (version=TLS1_2 cipher=ECDHE-ECDSA-AES128-GCM-SHA256 bits=128/128); Fri, 14 Nov 2025 07:41:55 -0800 (PST) X-Relaying-Domain: iol.unh.edu Date: Fri, 14 Nov 2025 07:41:55 -0800 (PST) Message-ID: <69174dc3.050a0220.4e7d2.a8feSMTPIN_ADDED_MISSING@mx.google.com> Received: from [172.21.0.2] (unknown [172.18.0.240]) by postal.iol.unh.edu (Postfix) with ESMTP id 345886051830; Fri, 14 Nov 2025 10:41:55 -0500 (EST) Subject: |SUCCESS| pw158760 [PATCH] net/mlx5/windows: fix match criteria in f From: dpdklab@iol.unh.edu To: Test Report Cc: dpdk-test-reports@iol.unh.edu In-Reply-To: <20251113122642.1193-1-isharoni@nvidia.com> References: <20251113122642.1193-1-isharoni@nvidia.com> Content-Type: text/plain X-BeenThere: test-report@dpdk.org X-Mailman-Version: 2.1.29 Precedence: list List-Id: automatic DPDK test reports List-Unsubscribe: , List-Archive: List-Post: List-Help: List-Subscribe: , Errors-To: test-report-bounces@dpdk.org Test-Label: iol-compile-arm64-testing Test-Status: SUCCESS http://dpdk.org/patch/158760 _Testing PASS_ Submitter: Itai Sharoni Date: Thursday, November 13 2025 12:26:41 DPDK git baseline: Repo:dpdk-next-net-mlx Branch: master CommitID:ae657d56b1f0ea979b3f611edf28d773efc2ddcf 158760 --> testing pass Upstream job id: Generic-DPDK-Compile-Meson#444105 Test environment and result as below: +------------------------------+--------------------+ | Environment | dpdk_meson_compile | +==============================+====================+ | Red Hat Enterprise Linux 9.5 | PASS | +------------------------------+--------------------+ | Ubuntu 20.04 | PASS | +------------------------------+--------------------+ | Debian GNU/Linux 12 | PASS | +------------------------------+--------------------+ | Fedora Linux 42 | PASS | +------------------------------+--------------------+ | Ubuntu 22.04 | PASS | +------------------------------+--------------------+ | Ubuntu 24.04 | PASS | +------------------------------+--------------------+ | CentOS Stream 9 | PASS | +------------------------------+--------------------+ | CentOS Stream 10 | PASS | +------------------------------+--------------------+ Red Hat Enterprise Linux 9.5 Kernel: 5.4 Compiler: gcc gcc (GCC) 11.5.0 20240719 (Red Hat 11.5.0-2) Ubuntu 20.04 Kernel: 5.15 Compiler: aarch64-linux-gnu-gcc gcc (Ubuntu 9.4.0-1ubuntu1~20.04.2) 9.4.0 Debian GNU/Linux 12 Kernel: 5.4 Compiler: gcc gcc (Debian 12.2.0-14+deb12u1) 12.2.0 Fedora Linux 42 Kernel: 5.4 Compiler: gcc gcc (GCC) 15.2.1 20250808 (Red Hat 15.2.1-1) Ubuntu 22.04 Kernel: 5.4 Compiler: gcc gcc (Ubuntu 11.4.0-1ubuntu1~22.04) 11.4.0 Ubuntu 24.04 Kernel: 5.4 Compiler: gcc gcc (Ubuntu 13.3.0-6ubuntu2~24.04) 13.3.0 CentOS Stream 9 Kernel: 5.4 Compiler: gcc gcc (GCC) 11.5.0 20240719 (Red Hat 11.5.0-11) CentOS Stream 10 Kernel: 5.4 Compiler: gcc gcc (GCC) 14.2.1 20250110 (Red Hat 14.2.1-8) To view detailed results, visit: https://lab.dpdk.org/results/dashboard/patchsets/34575/ UNH-IOL DPDK Community Lab To manage your email subscriptions, visit: https://lab.dpdk.org/results/dashboard/preferences/subscriptions/