From mboxrd@z Thu Jan 1 00:00:00 1970 Return-Path: Received: from mails.dpdk.org (mails.dpdk.org [217.70.189.124]) by inbox.dpdk.org (Postfix) with ESMTP id 717C948B0B for ; Fri, 14 Nov 2025 16:48:46 +0100 (CET) Received: from mails.dpdk.org (localhost [127.0.0.1]) by mails.dpdk.org (Postfix) with ESMTP id 6C45C40151; Fri, 14 Nov 2025 16:48:46 +0100 (CET) Received: from mail-yx1-f99.google.com (mail-yx1-f99.google.com [74.125.224.99]) by mails.dpdk.org (Postfix) with ESMTP id 4516740151 for ; Fri, 14 Nov 2025 16:48:45 +0100 (CET) Received: by mail-yx1-f99.google.com with SMTP id 956f58d0204a3-63bc1aeb427so1892976d50.3 for ; Fri, 14 Nov 2025 07:48:45 -0800 (PST) DKIM-Signature: v=1; a=rsa-sha256; c=relaxed/relaxed; d=iol.unh.edu; s=unh-iol; t=1763135324; x=1763740124; darn=dpdk.org; h=references:in-reply-to:cc:to:from:subject:message-id:date:from:to :cc:subject:date:message-id:reply-to; bh=bRLBfa7YLV2rqHpye0PPvNTA9sEbHho/PLN9RPPtM6Q=; b=PGCTMniUt+OYAWtJGHPodgo0Iup/iqKNJ7OnhB3MxERMyryiNL85Yy+CsWeyojU/U0 BDz9JJaeIXmGVFkkF3Qpc7x95oqB5LRdNasHHWnyC0xXhmubEHuzQIhelNuvSOPZK4hB F+hkmmKyQo47w6c8iBJLhRI6238+rUkSu+4sI= X-Google-DKIM-Signature: v=1; a=rsa-sha256; c=relaxed/relaxed; d=1e100.net; s=20230601; t=1763135324; x=1763740124; h=references:in-reply-to:cc:to:from:subject:message-id:date:x-gm-gg :x-gm-message-state:from:to:cc:subject:date:message-id:reply-to; bh=bRLBfa7YLV2rqHpye0PPvNTA9sEbHho/PLN9RPPtM6Q=; b=o2wY3EA2AcUSKpsg1X1YGp9dKYj0f1d6WTP6SzA3x97RmRKKIIPFlPj2enzSULV2m8 ppLitU19jf7LoBaKdBAtEpUJhCBtSG3GYsEugkHBJ6jpc2g24dwpTyRDSNtNic4f+kRD unZpsx8g+6OEyEEAikOrGjQIHbZh/lrBjj+MZmMwWoG3pV7YwbJ+OTub4ZoJvSQ1chZl kkYcE7DkTfmKdbIoufBggV4snnzl/Rn6LTG6pXJ8j5hsByfV3X8AFTvqcpT8+92kJuS7 vLm1tYLPs4jdWawZrLnQs+Ur6OO4aZuVYoIaWorIT933jtBrfWQo9Qx8+YlHIAPLyajK gZxw== X-Gm-Message-State: AOJu0Ywi7OlKS9KzSSMyP8KBLhjqZPTOAJ/8NAETL5q+bodwt1puLeXQ 7+IWHgK1rljXbRXNkMq5vaLyljOPL9txtcLo4UwBCNfVq94JYShpnMh0/BDeXdb4rSWGhy5f4An IeQxJIZlGWnynXUtoRKnGTzKGe/Hv5vByRCe5g47bygut X-Gm-Gg: ASbGnctkMYLsBmzsyxRPpgOaPKnZf0w72ksnPTScADAe+4jOVVhRhjzCk6zskFR+okg Mg+MlNC6cfctty50CA9yeTj00BqKOJWD22QugN8T0p/K15VvGWbcZQA0V0Y1tHyPylXPjiFWfmU sk0F1e+36l3GcKUha4Jodh+UzqSryv6yDT0E/KjZmL1fRKEQhDMjrQUsp8IP/KBG3uUyUfwRmIe HNj6jgMZ/VkYTWt5zuOFfOhkg0fdl7WbJnJiT5KAOFmwIVqFIF5Wpk7VWwImNSoABhJCgWG67RC KfOuInwg7rDIFKhbVZJ/ldLPcO2mqB74Cfy4l5SAlJWhpEQWsgY36t601uPLDD1qZQSpcrnHhhf g0l6G8N2W5PDVA803VFEyyG3jAg5pHpI= X-Google-Smtp-Source: AGHT+IFlzYPzzxu0TVWSQSn2yTnrPhyAuGMHpakqJ0HB8njiV6ijC8Bh9YdTlWHbLp7VigpTPg1/8TPRTvsM X-Received: by 2002:a05:690e:15d4:b0:63f:bdfa:666 with SMTP id 956f58d0204a3-641e74f73b7mr2235849d50.27.1763135324654; Fri, 14 Nov 2025 07:48:44 -0800 (PST) Received: from postal.iol.unh.edu (postal.iol.unh.edu. [132.177.123.84]) by smtp-relay.gmail.com with ESMTPS id 00721157ae682-78821df1c8dsm2979967b3.4.2025.11.14.07.48.44 (version=TLS1_2 cipher=ECDHE-ECDSA-AES128-GCM-SHA256 bits=128/128); Fri, 14 Nov 2025 07:48:44 -0800 (PST) X-Relaying-Domain: iol.unh.edu Date: Fri, 14 Nov 2025 07:48:44 -0800 (PST) Message-ID: <69174f5c.050a0220.10e4fd.e3bdSMTPIN_ADDED_MISSING@mx.google.com> Received: from [172.21.0.2] (unknown [172.18.0.240]) by postal.iol.unh.edu (Postfix) with ESMTP id 6533C6051830; Fri, 14 Nov 2025 10:48:44 -0500 (EST) Subject: |SUCCESS| pw158769 [PATCH] [v2] net/mlx5: remove representor matchin From: dpdklab@iol.unh.edu To: Test Report Cc: dpdk-test-reports@iol.unh.edu In-Reply-To: <20251113131758.1524043-1-dsosnowski@nvidia.com> References: <20251113131758.1524043-1-dsosnowski@nvidia.com> Content-Type: text/plain X-BeenThere: test-report@dpdk.org X-Mailman-Version: 2.1.29 Precedence: list List-Id: automatic DPDK test reports List-Unsubscribe: , List-Archive: List-Post: List-Help: List-Subscribe: , Errors-To: test-report-bounces@dpdk.org Test-Label: iol-compile-arm64-testing Test-Status: SUCCESS http://dpdk.org/patch/158769 _Testing PASS_ Submitter: Dariusz Sosnowski Date: Thursday, November 13 2025 13:17:58 DPDK git baseline: Repo:dpdk-next-net-mlx Branch: master CommitID:ae657d56b1f0ea979b3f611edf28d773efc2ddcf 158769 --> testing pass Upstream job id: Generic-DPDK-Compile-Meson#444144 Test environment and result as below: +------------------------------+--------------------+ | Environment | dpdk_meson_compile | +==============================+====================+ | Red Hat Enterprise Linux 9.5 | PASS | +------------------------------+--------------------+ | Ubuntu 20.04 | PASS | +------------------------------+--------------------+ | Debian GNU/Linux 12 | PASS | +------------------------------+--------------------+ | Fedora Linux 42 | PASS | +------------------------------+--------------------+ | Ubuntu 24.04 | PASS | +------------------------------+--------------------+ | Ubuntu 22.04 | PASS | +------------------------------+--------------------+ | CentOS Stream 9 | PASS | +------------------------------+--------------------+ | CentOS Stream 10 | PASS | +------------------------------+--------------------+ Red Hat Enterprise Linux 9.5 Kernel: 5.4 Compiler: gcc gcc (GCC) 11.5.0 20240719 (Red Hat 11.5.0-2) Ubuntu 20.04 Kernel: 5.15 Compiler: aarch64-linux-gnu-gcc gcc (Ubuntu 9.4.0-1ubuntu1~20.04.2) 9.4.0 Debian GNU/Linux 12 Kernel: 5.4 Compiler: gcc gcc (Debian 12.2.0-14+deb12u1) 12.2.0 Fedora Linux 42 Kernel: 5.4 Compiler: gcc gcc (GCC) 15.2.1 20250808 (Red Hat 15.2.1-1) Ubuntu 24.04 Kernel: 5.4 Compiler: gcc gcc (Ubuntu 13.3.0-6ubuntu2~24.04) 13.3.0 Ubuntu 22.04 Kernel: 5.4 Compiler: gcc gcc (Ubuntu 11.4.0-1ubuntu1~22.04) 11.4.0 CentOS Stream 9 Kernel: 5.4 Compiler: gcc gcc (GCC) 11.5.0 20240719 (Red Hat 11.5.0-11) CentOS Stream 10 Kernel: 5.4 Compiler: gcc gcc (GCC) 14.2.1 20250110 (Red Hat 14.2.1-8) To view detailed results, visit: https://lab.dpdk.org/results/dashboard/patchsets/34577/ UNH-IOL DPDK Community Lab To manage your email subscriptions, visit: https://lab.dpdk.org/results/dashboard/preferences/subscriptions/