From mboxrd@z Thu Jan 1 00:00:00 1970 Return-Path: Received: from mails.dpdk.org (mails.dpdk.org [217.70.189.124]) by inbox.dpdk.org (Postfix) with ESMTP id 8E85848B0B for ; Fri, 14 Nov 2025 17:03:37 +0100 (CET) Received: from mails.dpdk.org (localhost [127.0.0.1]) by mails.dpdk.org (Postfix) with ESMTP id 6CF2D40151; Fri, 14 Nov 2025 17:03:37 +0100 (CET) Received: from mail-il1-f228.google.com (mail-il1-f228.google.com [209.85.166.228]) by mails.dpdk.org (Postfix) with ESMTP id DA19040151 for ; Fri, 14 Nov 2025 17:03:35 +0100 (CET) Received: by mail-il1-f228.google.com with SMTP id e9e14a558f8ab-43321629a25so17212275ab.3 for ; Fri, 14 Nov 2025 08:03:35 -0800 (PST) DKIM-Signature: v=1; a=rsa-sha256; c=relaxed/relaxed; d=iol.unh.edu; s=unh-iol; t=1763136215; x=1763741015; darn=dpdk.org; h=references:in-reply-to:cc:to:from:subject:message-id:date:from:to :cc:subject:date:message-id:reply-to; bh=Xqr1Oo9Xfoz4QcxHXicjGa59HFtxK6i8GvE8/u91Vuc=; b=HwRDrd/vRn7LfykFtO3KjU6NTsoJSUb0hGJBM7TIt4IGhitqPq/XkxafDRW4MCljHU VubRF57GN2U3l0A6pE9q9AojZ70AnXVHBQ6syFpRRpskUSj5bU3Hc5TxXvDx8WUEQ02k fhjxLhUwctnAaehGvE4SG1u44gCRQd7h1CX4I= X-Google-DKIM-Signature: v=1; a=rsa-sha256; c=relaxed/relaxed; d=1e100.net; s=20230601; t=1763136215; x=1763741015; h=references:in-reply-to:cc:to:from:subject:message-id:date:x-gm-gg :x-gm-message-state:from:to:cc:subject:date:message-id:reply-to; bh=Xqr1Oo9Xfoz4QcxHXicjGa59HFtxK6i8GvE8/u91Vuc=; b=v6U6D5yweOwvr9ks579vedsev2K9nOQtydJ39PHJhYedwiGS4DE4D7pfilaFN0TX2D yoP6CrSzpJ1XPm3i3+wWTbHINGyIM4Yk5caMDFFnbzdAcWsIWFA7EtQwW8OUIeXyLqCw jyzvHchR+Aha514ECOXHUGyIocG2Qx7mwpwVAEmC44wlsP4pwIxoSwTykOzfTZmbfrIW AzuM2kRw3xxG6cnjjh1+x0w1t8pVt0ZvRjGyg8n34Iq1wqBADRWwPD43QkS7B7+SieCf 0TqXXSZ03cDj0Nc9Np14AWYB/Cy2AcIK3zqMzg/9JrVfXvBc5Ug1KZC/mwpmeyEh1Qo4 51iA== X-Gm-Message-State: AOJu0YyeTuVmCi1QjkojXE5mMOicq1uglaCSEygKi3i+Wibdd0QYrbeV J+YtBI586D2CdWykRLkP/UoteScKk/42EPku33etiVZgVyIsBU6Y43U0GFe/JCgf3L/zuQRn5/P 0xJF2+hKkRjipFgjqtjm/Bw0BSem3qzyJFw7marSOkCsLKzjwdiY35SmnTHYC X-Gm-Gg: ASbGncs3DL/T3pnZOP38MRqe+l85/VEwTlFu9NRK5cnTmsJyT7PztB8oxu5v1JC0GQ0 fHxcqqCz6glGGuMqnh0zR5RfJBnFk29HY4noOAxENtDFzVoangvT2c8eaFdB6nJrmtX0QhWO121 tBP3jy22iaPiI6s4DNIqaaOeVExLVyDpC8HFC/q1C1WlzDLCweF6IlLi1WocpVwDh6x+kaExjxE N+3DsXC/kvdyL5mICDz5pVui9rkjdfumM0Cpej/09d8UqdUENh1roASqyaep7h2DZyV/bAQuJDy 51Zzo04Za61sGxsycYxxgbHb86Rmw21rAZZn0nBLs1yf7c7+EKoGn8hW7o5wFcwrqlXPbZe3hRZ p4aVXAJvj X-Google-Smtp-Source: AGHT+IFTGKjOHSH25GJlsM0XuI06UbjMOvwzec4MNwBKE0qeHxMfTunwGFu/DUheixo1x0Z7u3zg9A4/JvGH X-Received: by 2002:a92:d08b:0:b0:434:96ea:ff90 with SMTP id e9e14a558f8ab-43496eb03abmr3380495ab.40.1763136215054; Fri, 14 Nov 2025 08:03:35 -0800 (PST) Received: from postal.iol.unh.edu (postal.iol.unh.edu. [2606:4100:3880:1234::84]) by smtp-relay.gmail.com with ESMTPS id e9e14a558f8ab-434833c613csm4717935ab.5.2025.11.14.08.03.34 (version=TLS1_2 cipher=ECDHE-ECDSA-AES128-GCM-SHA256 bits=128/128); Fri, 14 Nov 2025 08:03:35 -0800 (PST) X-Relaying-Domain: iol.unh.edu Date: Fri, 14 Nov 2025 08:03:35 -0800 (PST) Message-ID: <691752d7.050a0220.2edfdf.73a7SMTPIN_ADDED_MISSING@mx.google.com> Received: from [172.21.0.3] (unknown [172.18.0.240]) by postal.iol.unh.edu (Postfix) with ESMTP id B825C604D420; Fri, 14 Nov 2025 11:03:34 -0500 (EST) Subject: |SUCCESS| pw158783 [PATCH] [v2] ethdev: add GENEVE encapsulation and From: dpdklab@iol.unh.edu To: Test Report Cc: dpdk-test-reports@iol.unh.edu, Stephen Hemminger In-Reply-To: <20251114061917.20948-1-sunyang.wu@jaguarmicro.com> References: <20251114061917.20948-1-sunyang.wu@jaguarmicro.com> Content-Type: text/plain X-BeenThere: test-report@dpdk.org X-Mailman-Version: 2.1.29 Precedence: list List-Id: automatic DPDK test reports List-Unsubscribe: , List-Archive: List-Post: List-Help: List-Subscribe: , Errors-To: test-report-bounces@dpdk.org Test-Label: iol-compile-amd64-testing Test-Status: SUCCESS http://dpdk.org/patch/158783 _Testing PASS_ Submitter: Sunyang Wu Date: Friday, November 14 2025 06:19:17 DPDK git baseline: Repo:dpdk-next-net Branch: master CommitID:fca6f2910345c25a5050a0b586e0d324ca616cbb 158783 --> testing pass Upstream job id: Generic-DPDK-Compile-Meson#444322 Test environment and result as below: +-----------------+--------------------+ | Environment | dpdk_meson_compile | +=================+====================+ | Ubuntu 20.04 | PASS | +-----------------+--------------------+ | FreeBSD 14.2 | PASS | +-----------------+--------------------+ | Ubuntu 22.04 | PASS | +-----------------+--------------------+ | CentOS Stream 9 | PASS | +-----------------+--------------------+ Ubuntu 20.04 Kernel: 4.19 Compiler: gcc gcc (Ubuntu 9.4.0-1ubuntu1~20.04.2) 9.4.0 FreeBSD 14.2 Kernel: 14.2-RELEASE Compiler: clang 18.1.6 Ubuntu 22.04 Kernel: 5.15 Compiler: gcc gcc (Ubuntu 11.4.0-1ubuntu1~22.04) 11.4.0 CentOS Stream 9 Kernel: 5.15 Compiler: gcc gcc (GCC) 11.5.0 20240719 (Red Hat 11.5.0-11) To view detailed results, visit: https://lab.dpdk.org/results/dashboard/patchsets/34587/ UNH-IOL DPDK Community Lab To manage your email subscriptions, visit: https://lab.dpdk.org/results/dashboard/preferences/subscriptions/