From mboxrd@z Thu Jan 1 00:00:00 1970 Return-Path: Received: from mails.dpdk.org (mails.dpdk.org [217.70.189.124]) by inbox.dpdk.org (Postfix) with ESMTP id 909DE48B0B for ; Fri, 14 Nov 2025 17:26:07 +0100 (CET) Received: from mails.dpdk.org (localhost [127.0.0.1]) by mails.dpdk.org (Postfix) with ESMTP id 737F340151; Fri, 14 Nov 2025 17:26:07 +0100 (CET) Received: from mail-pl1-f225.google.com (mail-pl1-f225.google.com [209.85.214.225]) by mails.dpdk.org (Postfix) with ESMTP id C871A40151 for ; Fri, 14 Nov 2025 17:26:06 +0100 (CET) Received: by mail-pl1-f225.google.com with SMTP id d9443c01a7336-2953ad5517dso25745485ad.0 for ; Fri, 14 Nov 2025 08:26:06 -0800 (PST) DKIM-Signature: v=1; a=rsa-sha256; c=relaxed/relaxed; d=iol.unh.edu; s=unh-iol; t=1763137566; x=1763742366; darn=dpdk.org; h=references:in-reply-to:cc:to:from:subject:message-id:date:from:to :cc:subject:date:message-id:reply-to; bh=OjocI8NnOp5jRlOxwYKJk+nDTk8Ix++i11MWhAT9KR4=; b=YVweDqOFpmL9rPwCEkEKeP237MYmK9L6X/+sv5EBk73W0rjV8ytwENW1uQderHs+ku 1sm9WSeQO/DBSuIbT8IkeB1lcvvI+ENoXH+NZk7+aQlI1YM5nXAcSzwpS1YxAX7n7pCh Lkz+iiNxLP/hh6jyqnRWKGS2x18L+BmHcsnY4= X-Google-DKIM-Signature: v=1; a=rsa-sha256; c=relaxed/relaxed; d=1e100.net; s=20230601; t=1763137566; x=1763742366; h=references:in-reply-to:cc:to:from:subject:message-id:date:x-gm-gg :x-gm-message-state:from:to:cc:subject:date:message-id:reply-to; bh=OjocI8NnOp5jRlOxwYKJk+nDTk8Ix++i11MWhAT9KR4=; b=wIr3Q3U8AnMkX+AOhlFs58dmEUnFFerkfVkgV1rO8rYzH9zbHqL9HavFnMdLiERDne AgSlHXPtwv/eFoA5SxOtcUMN5l92JMvgAUl9V4pyW5WiXusbwqEtvCh8ROzqxTCzs0gU zBXEUktb59L/Ktf61EYKj5I6LfpwlO7XpCNYUhGeyhcNu4JENoak17EBmTH47pu2+fC+ BmHmYXuDeBo9zXHVhzTfMx7jEotZIDdjJQwhrIjbN59kOzYG3N071p+GOJvQSMRw+P6e R1IMXmT2MEIrRdRu3GiLOkwHCp6soEmMaLG6rk4l6JxZ1ojyU5NKSgX/CVbBYFyeB//Q 3H3w== X-Gm-Message-State: AOJu0YyBMdIHr45sSOpS+KxTGQreHPwLccIpxoM3xsklSuwJC/yqXqhB kkR7pW7ZKG67ZxHLxZrXKaSPQk4I8fGZ75Nb9Gvt8klfMPDJmO7EXJ4d011H2rv0jKua90BjlpP pPqaQq2onz+36B9lE3q0YVUPH871IOyH4YKnvreEeLtw0 X-Gm-Gg: ASbGnctz40tfI2nJs3WfVye7qENqXQ69ekImruzgsNZWNofoGapGY8lzyIeT3YWtWJy hZxV6RvYr3ZTnF0Unak83bsFAFvTqabWBuxTuMBboZRR2L7r5re3hN0X+bNudCmaeu+LmhrhRU1 paIezu6KWDRNcttDPy8cpy055QJHgqzUk/nBDwjP/OvC3RH+2yh4bS58UuxfLDpuB7OtfSScitv pDyp0Ukou92YnS1Ez9C+NhLtMC72Xa7Mq/5RanDsQdN3EAUFYJ8cMYyGFrLjMIeGwV50bvxSDEP 8FYrkwzsEHiJl18BtANTs6p/FLOyVgBCNrfZBLCZPM4kmSGqT7LU7CL+3RUDYI7qpDHo3k+mC+e +T3rcSs64XBdTQmltN28pmTsgeeTgaQ8= X-Google-Smtp-Source: AGHT+IHSst6QJGmhw6TqOpb9NppMiV2TI415Dt3ZOEgspKxMQ+YySuV8UbcKReyzp0qw9rG0aDDGHGsoe7g7 X-Received: by 2002:a05:7023:a82:b0:119:e55a:9c09 with SMTP id a92af1059eb24-11b4120f614mr1056903c88.37.1763137565774; Fri, 14 Nov 2025 08:26:05 -0800 (PST) Received: from postal.iol.unh.edu (postal.iol.unh.edu. [132.177.123.84]) by smtp-relay.gmail.com with ESMTPS id a92af1059eb24-11b060912b2sm324101c88.3.2025.11.14.08.26.05 (version=TLS1_2 cipher=ECDHE-ECDSA-AES128-GCM-SHA256 bits=128/128); Fri, 14 Nov 2025 08:26:05 -0800 (PST) X-Relaying-Domain: iol.unh.edu Date: Fri, 14 Nov 2025 08:26:05 -0800 (PST) Message-ID: <6917581d.050a0220.38ce04.0743SMTPIN_ADDED_MISSING@mx.google.com> Received: from [172.21.0.2] (unknown [172.18.0.240]) by postal.iol.unh.edu (Postfix) with ESMTP id 0AD85604D420; Fri, 14 Nov 2025 11:26:05 -0500 (EST) Subject: |SUCCESS| pw158776 [PATCH] app/testpmd: fix flex item link parsing From: dpdklab@iol.unh.edu To: Test Report Cc: dpdk-test-reports@iol.unh.edu, Stephen Hemminger In-Reply-To: <20251113201726.10597-1-mkashani@nvidia.com> References: <20251113201726.10597-1-mkashani@nvidia.com> Content-Type: text/plain X-BeenThere: test-report@dpdk.org X-Mailman-Version: 2.1.29 Precedence: list List-Id: automatic DPDK test reports List-Unsubscribe: , List-Archive: List-Post: List-Help: List-Subscribe: , Errors-To: test-report-bounces@dpdk.org Test-Label: iol-compile-amd64-testing Test-Status: SUCCESS http://dpdk.org/patch/158776 _Testing PASS_ Submitter: Maayan Kashani Date: Thursday, November 13 2025 20:17:25 DPDK git baseline: Repo:dpdk-next-net Branch: master CommitID:fca6f2910345c25a5050a0b586e0d324ca616cbb 158776 --> testing pass Upstream job id: Windows-Compile-DPDK-VS#7546 Test environment and result as below: +-------------------------------+--------------------+------------------+-------------------+ | Environment | dpdk_meson_compile | dpdk_compile_ovs | dpdk_msvc_compile | +===============================+====================+==================+===================+ | Ubuntu 20.04 | PASS | SKIPPED | SKIPPED | +-------------------------------+--------------------+------------------+-------------------+ | FreeBSD 14.2 | PASS | SKIPPED | SKIPPED | +-------------------------------+--------------------+------------------+-------------------+ | CentOS Stream 9 | PASS | SKIPPED | SKIPPED | +-------------------------------+--------------------+------------------+-------------------+ | CentOS Stream 10 | PASS | SKIPPED | SKIPPED | +-------------------------------+--------------------+------------------+-------------------+ | Debian GNU/Linux 12 | PASS | SKIPPED | SKIPPED | +-------------------------------+--------------------+------------------+-------------------+ | Fedora Linux 42 | PASS | PASS | SKIPPED | +-------------------------------+--------------------+------------------+-------------------+ | openSUSE Leap 15.6 | PASS | SKIPPED | SKIPPED | +-------------------------------+--------------------+------------------+-------------------+ | Red Hat Enterprise Linux 8.10 | PASS | SKIPPED | SKIPPED | +-------------------------------+--------------------+------------------+-------------------+ | Red Hat Enterprise Linux 9.5 | PASS | SKIPPED | SKIPPED | +-------------------------------+--------------------+------------------+-------------------+ | Ubuntu 22.04 | PASS | SKIPPED | SKIPPED | +-------------------------------+--------------------+------------------+-------------------+ | Ubuntu 24.04 | PASS | PASS | SKIPPED | +-------------------------------+--------------------+------------------+-------------------+ | Alpine Linux 3.22.0 | PASS | SKIPPED | SKIPPED | +-------------------------------+--------------------+------------------+-------------------+ | Windows Server 2022 | SKIPPED | SKIPPED | PASS | +-------------------------------+--------------------+------------------+-------------------+ Ubuntu 20.04 Kernel: 4.19 Compiler: gcc gcc (Ubuntu 9.4.0-1ubuntu1~20.04.2) 9.4.0 FreeBSD 14.2 Kernel: 14.2-RELEASE Compiler: clang 18.1.6 CentOS Stream 9 Kernel: 5.15 Compiler: gcc gcc (GCC) 11.5.0 20240719 (Red Hat 11.5.0-11) CentOS Stream 10 Kernel: 5.15 Compiler: gcc gcc (GCC) 14.2.1 20250110 (Red Hat 14.2.1-8) Debian GNU/Linux 12 Kernel: 5.15 Compiler: gcc gcc (Debian 12.2.0-14+deb12u1) 12.2.0 Fedora Linux 42 Kernel: 5.15 Compiler: clang gcc (GCC) 15.2.1 20250808 (Red Hat 15.2.1-1) openSUSE Leap 15.6 Kernel: 5.15 Compiler: gcc gcc (SUSE Linux) 7.5.0 Red Hat Enterprise Linux 8.10 Kernel: 5.15 Compiler: gcc gcc (GCC) 8.5.0 20210514 (Red Hat 8.5.0-22) Red Hat Enterprise Linux 9.5 Kernel: 5.15 Compiler: gcc gcc (GCC) 11.5.0 20240719 (Red Hat 11.5.0-2) Ubuntu 22.04 Kernel: 5.15 Compiler: gcc gcc (Ubuntu 11.4.0-1ubuntu1~22.04) 11.4.0 Ubuntu 24.04 Kernel: 5.15 Compiler: gcc gcc (Ubuntu 13.3.0-6ubuntu2~24.04) 13.3.0 Alpine Linux 3.22.0 Kernel: 5.15 Compiler: gcc gcc (Alpine 14.2.0) 14.2.0 Windows Server 2022 Kernel: 10.0.20348.2031 Compiler: clang 15.0.7, gcc 14.1.0 (MinGW), and MSVC VS 19.39.33521 To view detailed results, visit: https://lab.dpdk.org/results/dashboard/patchsets/34583/ UNH-IOL DPDK Community Lab To manage your email subscriptions, visit: https://lab.dpdk.org/results/dashboard/preferences/subscriptions/