From mboxrd@z Thu Jan 1 00:00:00 1970 Return-Path: Received: from mails.dpdk.org (mails.dpdk.org [217.70.189.124]) by inbox.dpdk.org (Postfix) with ESMTP id 2B52348B0B for ; Fri, 14 Nov 2025 17:31:41 +0100 (CET) Received: from mails.dpdk.org (localhost [127.0.0.1]) by mails.dpdk.org (Postfix) with ESMTP id 104C640151; Fri, 14 Nov 2025 17:31:41 +0100 (CET) Received: from mail-pl1-f226.google.com (mail-pl1-f226.google.com [209.85.214.226]) by mails.dpdk.org (Postfix) with ESMTP id 667F840151 for ; Fri, 14 Nov 2025 17:31:40 +0100 (CET) Received: by mail-pl1-f226.google.com with SMTP id d9443c01a7336-2958db8ae4fso21461385ad.2 for ; Fri, 14 Nov 2025 08:31:40 -0800 (PST) DKIM-Signature: v=1; a=rsa-sha256; c=relaxed/relaxed; d=iol.unh.edu; s=unh-iol; t=1763137899; x=1763742699; darn=dpdk.org; h=references:in-reply-to:cc:to:from:subject:message-id:date:from:to :cc:subject:date:message-id:reply-to; bh=e0/Y/Ce66FUo+4tTgWbRxjcU8XxKCCS0SNDj3P09JU0=; b=CwThXKo74Vd4ISEAtwSn2qCPOalqP5V+ptn/Uks4FTfsMANRgSplWa3vHeR7qUBt5Z PUGOMJm0ai/AUaKEeXmkHHiVxNBsZvG5N1igUmuSTzPdS2httafMkmIga+o39/J0rEtv y/ontCngrG2SQNEamuwCiuZdKsRNYjy2vZgQc= X-Google-DKIM-Signature: v=1; a=rsa-sha256; c=relaxed/relaxed; d=1e100.net; s=20230601; t=1763137899; x=1763742699; h=references:in-reply-to:cc:to:from:subject:message-id:date:x-gm-gg :x-gm-message-state:from:to:cc:subject:date:message-id:reply-to; bh=e0/Y/Ce66FUo+4tTgWbRxjcU8XxKCCS0SNDj3P09JU0=; b=HWiTC0cOjwfpZKB/Bh3I2fACGpRCMhPmFg9k0KjzZqMIf921JadoL2ZHuGZnFy96WZ pxLQW7C0dFfBqtWtvTm0Y4S73p4Qt4liIsJq1StDBiDg5zQM/sKL9kHx8rbBe5apw0qx cE3xUND2b+VnS+UCyvFxx2VawkEEmK072W4yEnzuQs88PHec3HFedWbYJ2fgL+1jdm2F frbeaZug5xHfldwXBe7wHowXm4ckIZ8psu8EWraoFSOt3i9JzRgkzrJkJK2o4EkiPpAi igk2ROHQ5c13Emv0UcmDMW45JaJ/3u76wu8G4WURA6/qKx6dhTabVBLNXFLmqYJuvrEW Q+bg== X-Gm-Message-State: AOJu0YyNAb83gKV4o7mfBe1T8l9QEBwfLlVxN7iSVvHUWewMMRw6wJQp eS5lGpKbsKfPWj58QlKXxxpICkEJ46Z9WJHYgttwF0L/l02WJQp+ttKrx0qmgZ+5dLvjtdhihs/ IXgLm6h13uAp8t889uuMIBWDFrsFbCw55JfuBUHf6ETuV X-Gm-Gg: ASbGncvw9kl+Kg0RK3HUxISlS/H7muWqEDOJaKc/2kb4R8uLZ/5uBqWKB/peCp/S6ZG EhjUi+2dpHci5jGRUvvOWB210vg4i8XYSa1+1H6e32eF/a1aEb9s2y6joISxej+urZr/rXhTF8d VV06HQVk415qLlrxxQ36p8wti4DNBe6ULFYzIQ4yLoPP9qBfAM+8noup7NSnPygxAPseOhCO9lX KU5dy9V0WI+sngfj0QsOaZ5Z2r8RF/A+sHcKyQ6jF1Kv2x/mdXibMaazhyKRdhbLtHH8RKd25YS fhuz2jUUAnBtyNaf6IGFa9y4xave0J9wHe2sl6wD+WqZZiHz/oRuVEHMjoC00LDqvHvsS4Ljb14 Rm5walnDsgEIIl/YMNp+TkGbKKphAnZE= X-Google-Smtp-Source: AGHT+IFSWetAutdtgRcNyrMI9EGm1SkvGBCm2qjJOGUVSBojSyZtNONQNFQyk7KE3m6Up2/aZmqp+arx/htP X-Received: by 2002:a17:902:ecc3:b0:295:70b1:edcf with SMTP id d9443c01a7336-2986a73aec5mr43080465ad.36.1763137899423; Fri, 14 Nov 2025 08:31:39 -0800 (PST) Received: from postal.iol.unh.edu (postal.iol.unh.edu. [132.177.123.84]) by smtp-relay.gmail.com with ESMTPS id 41be03b00d2f7-bc36ef5dc4asm383881a12.5.2025.11.14.08.31.39 (version=TLS1_2 cipher=ECDHE-ECDSA-AES128-GCM-SHA256 bits=128/128); Fri, 14 Nov 2025 08:31:39 -0800 (PST) X-Relaying-Domain: iol.unh.edu Date: Fri, 14 Nov 2025 08:31:39 -0800 (PST) Message-ID: <6917596b.630a0220.2e2295.2b2eSMTPIN_ADDED_MISSING@mx.google.com> Received: from [172.21.0.2] (unknown [172.18.0.240]) by postal.iol.unh.edu (Postfix) with ESMTP id 8FF9A60003E7; Fri, 14 Nov 2025 11:31:38 -0500 (EST) Subject: |SUCCESS| pw158699 [PATCH] net/ice: fix path selection for QinQ Tx o From: dpdklab@iol.unh.edu To: Test Report Cc: dpdk-test-reports@iol.unh.edu, Bruce Richardson In-Reply-To: <20251112115726.1286735-1-bruce.richardson@intel.com> References: <20251112115726.1286735-1-bruce.richardson@intel.com> Content-Type: text/plain X-BeenThere: test-report@dpdk.org X-Mailman-Version: 2.1.29 Precedence: list List-Id: automatic DPDK test reports List-Unsubscribe: , List-Archive: List-Post: List-Help: List-Subscribe: , Errors-To: test-report-bounces@dpdk.org Test-Label: iol-compile-amd64-testing Test-Status: SUCCESS http://dpdk.org/patch/158699 _Testing PASS_ Submitter: Bruce Richardson Date: Wednesday, November 12 2025 11:57:26 DPDK git baseline: Repo:dpdk-next-net-intel Branch: master CommitID:1655dc989bc95fa85fc76d32912d2e46c0851148 158699 --> testing pass Upstream job id: Windows-Compile-DPDK-Native#32324 Test environment and result as below: +-------------------------------+--------------------+------------------+-------------------+-------------------------+ | Environment | dpdk_meson_compile | dpdk_compile_ovs | dpdk_msvc_compile | dpdk_llvm_clang_compile | +===============================+====================+==================+===================+=========================+ | Ubuntu 20.04 | PASS | SKIPPED | SKIPPED | SKIPPED | +-------------------------------+--------------------+------------------+-------------------+-------------------------+ | FreeBSD 14.2 | PASS | SKIPPED | SKIPPED | SKIPPED | +-------------------------------+--------------------+------------------+-------------------+-------------------------+ | CentOS Stream 9 | PASS | SKIPPED | SKIPPED | SKIPPED | +-------------------------------+--------------------+------------------+-------------------+-------------------------+ | CentOS Stream 10 | PASS | SKIPPED | SKIPPED | SKIPPED | +-------------------------------+--------------------+------------------+-------------------+-------------------------+ | Debian GNU/Linux 12 | PASS | SKIPPED | SKIPPED | SKIPPED | +-------------------------------+--------------------+------------------+-------------------+-------------------------+ | Fedora Linux 42 | PASS | PASS | SKIPPED | SKIPPED | +-------------------------------+--------------------+------------------+-------------------+-------------------------+ | openSUSE Leap 15.6 | PASS | SKIPPED | SKIPPED | SKIPPED | +-------------------------------+--------------------+------------------+-------------------+-------------------------+ | Red Hat Enterprise Linux 8.10 | PASS | SKIPPED | SKIPPED | SKIPPED | +-------------------------------+--------------------+------------------+-------------------+-------------------------+ | Red Hat Enterprise Linux 9.5 | PASS | SKIPPED | SKIPPED | SKIPPED | +-------------------------------+--------------------+------------------+-------------------+-------------------------+ | Ubuntu 22.04 | PASS | SKIPPED | SKIPPED | SKIPPED | +-------------------------------+--------------------+------------------+-------------------+-------------------------+ | Ubuntu 24.04 | PASS | PASS | SKIPPED | SKIPPED | +-------------------------------+--------------------+------------------+-------------------+-------------------------+ | Alpine Linux 3.22.0 | PASS | SKIPPED | SKIPPED | SKIPPED | +-------------------------------+--------------------+------------------+-------------------+-------------------------+ | Windows Server 2022 | SKIPPED | SKIPPED | PASS | PASS | +-------------------------------+--------------------+------------------+-------------------+-------------------------+ Ubuntu 20.04 Kernel: 4.19 Compiler: gcc gcc (Ubuntu 9.4.0-1ubuntu1~20.04.2) 9.4.0 FreeBSD 14.2 Kernel: 14.2-RELEASE Compiler: clang 18.1.6 CentOS Stream 9 Kernel: 5.15 Compiler: gcc gcc (GCC) 11.5.0 20240719 (Red Hat 11.5.0-11) CentOS Stream 10 Kernel: 5.15 Compiler: gcc gcc (GCC) 14.2.1 20250110 (Red Hat 14.2.1-8) Debian GNU/Linux 12 Kernel: 5.15 Compiler: gcc gcc (Debian 12.2.0-14+deb12u1) 12.2.0 Fedora Linux 42 Kernel: 5.15 Compiler: clang gcc (GCC) 15.2.1 20250808 (Red Hat 15.2.1-1) openSUSE Leap 15.6 Kernel: 5.15 Compiler: gcc gcc (SUSE Linux) 7.5.0 Red Hat Enterprise Linux 8.10 Kernel: 5.15 Compiler: gcc gcc (GCC) 8.5.0 20210514 (Red Hat 8.5.0-22) Red Hat Enterprise Linux 9.5 Kernel: 5.15 Compiler: gcc gcc (GCC) 11.5.0 20240719 (Red Hat 11.5.0-2) Ubuntu 22.04 Kernel: 5.15 Compiler: gcc gcc (Ubuntu 11.4.0-1ubuntu1~22.04) 11.4.0 Ubuntu 24.04 Kernel: 5.15 Compiler: gcc gcc (Ubuntu 13.3.0-6ubuntu2~24.04) 13.3.0 Alpine Linux 3.22.0 Kernel: 5.15 Compiler: gcc gcc (Alpine 14.2.0) 14.2.0 Windows Server 2022 Kernel: 10.0.20348.2031 Compiler: clang 15.0.7, gcc 14.1.0 (MinGW), and MSVC VS 19.39.33521 To view detailed results, visit: https://lab.dpdk.org/results/dashboard/patchsets/34548/ UNH-IOL DPDK Community Lab To manage your email subscriptions, visit: https://lab.dpdk.org/results/dashboard/preferences/subscriptions/