From mboxrd@z Thu Jan 1 00:00:00 1970 Return-Path: Received: from mails.dpdk.org (mails.dpdk.org [217.70.189.124]) by inbox.dpdk.org (Postfix) with ESMTP id D655348B0B for ; Fri, 14 Nov 2025 17:39:26 +0100 (CET) Received: from mails.dpdk.org (localhost [127.0.0.1]) by mails.dpdk.org (Postfix) with ESMTP id D162140151; Fri, 14 Nov 2025 17:39:26 +0100 (CET) Received: from mail-yw1-f226.google.com (mail-yw1-f226.google.com [209.85.128.226]) by mails.dpdk.org (Postfix) with ESMTP id 43CDF40151 for ; Fri, 14 Nov 2025 17:39:25 +0100 (CET) Received: by mail-yw1-f226.google.com with SMTP id 00721157ae682-786572c14e3so23337797b3.2 for ; Fri, 14 Nov 2025 08:39:25 -0800 (PST) DKIM-Signature: v=1; a=rsa-sha256; c=relaxed/relaxed; d=iol.unh.edu; s=unh-iol; t=1763138364; x=1763743164; darn=dpdk.org; h=references:in-reply-to:cc:to:from:subject:message-id:date:from:to :cc:subject:date:message-id:reply-to; bh=9Al53GYZKk/ILuJdXhFY8xZQ/RSMfmKqtsAIOu2XVr0=; b=IV6bQzImxGPTZuebPNJRmc3Sxp4zKkoYFxDQK2rjMhNGlYzS6s0NJwdC0bvuLjqFxu 42XEv8ZQ+Cueluk2SrxEBlti6pvxLIXQrG8Y8f9IupVo4k0jo83v2qJqN5QkuBuh41wJ Ffv9AS94YkXdlnvPUoDK2dwl2daPvMgJ4JbEI= X-Google-DKIM-Signature: v=1; a=rsa-sha256; c=relaxed/relaxed; d=1e100.net; s=20230601; t=1763138364; x=1763743164; h=references:in-reply-to:cc:to:from:subject:message-id:date:x-gm-gg :x-gm-message-state:from:to:cc:subject:date:message-id:reply-to; bh=9Al53GYZKk/ILuJdXhFY8xZQ/RSMfmKqtsAIOu2XVr0=; b=g+x2j5wKktHJF0VqzYx9HSjbtufszNqbRPCcU8gGOridmGUIcfSCIP2KZHmpE9was9 scWt1XkTlXiofkVqD0L+7lS0vFJbtMepX6mXinvtVpiO3lxTOkD1DYAqsjMiWrj6yMAK 9lG6owcKA92sAFu1XvPbsqWBp/2mS7bXk9MhwXUmdgoV5J4kHvRcBElI3/ltaf54zc+V UOQtN4f9kYo2Yud1TAR+/Vghs6SueiqOD83+1ZDdXWsCv5SgiPdYmKjB5jU+CEwHy/O/ mdeCkI0HBB/akYCtfdDHMWUHq3Nhz250yDy4pn34xfuMSgeezq8T5i2+FSiKMEqFHhxj 2eSw== X-Gm-Message-State: AOJu0YxrC3w9Ks+d5UEiSbrDtspDrAPQU+DY9W9rot+rhSVehykKHui3 B+f2f4y/Jvi6k3i3YK+RjOdMdNGRX2YLtLl5W798AOhNQTWZ4td998q+4mF0xEuEvMFF4Ybei54 bsopkHtr5tKmJidRh0c7vtfFv7zlHlZsfKs6zk80pA+38tt9oPfBD6iJFh0d6 X-Gm-Gg: ASbGncsqdj1IoMpWxG8f3BRvn4TscxgkbgEd/3AfWcRX6POJaLese9KkYt2Fveol64a FyzomD4M9d9o5hydATox6xs/d4U5ddli2E4x1VhHugh8X3XTm37p4vC6a0Hqba9Z4RKMDwh8xQp qIhmjxTtyPdoVSOsLxArT+sLKvMqrXIuAj90Fv931NjXZZjV7bA+rhY4+FUaWaIVILv24anczfM WJZl7ssZ6Daefftf3xUm3XjKvvLxLS6ZYvCZpA94Z0EWzJxA1ebuC8TdYAlnUXByZfRDpaXguHD vII3dK25TRYtiCVfMJgpG54xs/EgnsWabO5P4lRiQ3BUpi/5YQ6BnEFEW5baXELnq2rm0TJMRIT cyEozw4AZ X-Google-Smtp-Source: AGHT+IGTMsPG1s53BQ0rzPDyPuxRbmNTSfKb7vzmbaa5RW946+dRpADSAgz8pR6JIXZJAL5AkDtPhEAcyHK0 X-Received: by 2002:a05:690c:9c13:b0:788:65:6dd4 with SMTP id 00721157ae682-78929e75888mr36341277b3.22.1763138364500; Fri, 14 Nov 2025 08:39:24 -0800 (PST) Received: from postal.iol.unh.edu (postal.iol.unh.edu. [2606:4100:3880:1234::84]) by smtp-relay.gmail.com with ESMTPS id 00721157ae682-78821fe84a6sm3428177b3.31.2025.11.14.08.39.24 (version=TLS1_2 cipher=ECDHE-ECDSA-AES128-GCM-SHA256 bits=128/128); Fri, 14 Nov 2025 08:39:24 -0800 (PST) X-Relaying-Domain: iol.unh.edu Date: Fri, 14 Nov 2025 08:39:24 -0800 (PST) Message-ID: <69175b3c.050a0220.12ebdc.1195SMTPIN_ADDED_MISSING@mx.google.com> Received: from [172.21.0.2] (unknown [172.18.0.240]) by postal.iol.unh.edu (Postfix) with ESMTP id 29BA76050A61; Fri, 14 Nov 2025 11:39:24 -0500 (EST) Subject: |SUCCESS| pw158765-158768 [PATCH] [v5,4/4] vhost_user: Function defs From: dpdklab@iol.unh.edu To: Test Report Cc: dpdk-test-reports@iol.unh.edu, Chenbo Xia , Maxime Coquelin In-Reply-To: <20251113124425.2913881-5-pravin.bathija@dell.com> References: <20251113124425.2913881-5-pravin.bathija@dell.com> Content-Type: text/plain X-BeenThere: test-report@dpdk.org X-Mailman-Version: 2.1.29 Precedence: list List-Id: automatic DPDK test reports List-Unsubscribe: , List-Archive: List-Post: List-Help: List-Subscribe: , Errors-To: test-report-bounces@dpdk.org Test-Label: iol-unit-amd64-testing Test-Status: SUCCESS http://dpdk.org/patch/158768 _Testing PASS_ Submitter: Bathija, Pravin Date: Thursday, November 13 2025 12:44:25 DPDK git baseline: Repo:dpdk-next-virtio Branch: master CommitID:6b37c26a95388aa41bb5267c7c42f604fd571a38 158765-158768 --> testing pass Upstream job id: Generic-VM-Unit-Test-DPDK#32543 Test environment and result as below: +-------------------------------+----------------+ | Environment | dpdk_unit_test | +===============================+================+ | CentOS Stream 9 | PASS | +-------------------------------+----------------+ | CentOS Stream 10 | PASS | +-------------------------------+----------------+ | Fedora Linux 40 | PASS | +-------------------------------+----------------+ | Debian GNU/Linux 12 | PASS | +-------------------------------+----------------+ | Fedora Linux 41 | PASS | +-------------------------------+----------------+ | Fedora Linux 42 | PASS | +-------------------------------+----------------+ | Red Hat Enterprise Linux 9.5 | PASS | +-------------------------------+----------------+ | Red Hat Enterprise Linux 8.10 | PASS | +-------------------------------+----------------+ | Ubuntu 20.04 | PASS | +-------------------------------+----------------+ | Ubuntu 22.04 | PASS | +-------------------------------+----------------+ | Ubuntu 24.04 | PASS | +-------------------------------+----------------+ | Windows Server 2022 | PASS | +-------------------------------+----------------+ CentOS Stream 9 Kernel: 5.15 Compiler: gcc gcc (GCC) 11.5.0 20240719 (Red Hat 11.5.0-11) CentOS Stream 10 Kernel: 5.15 Compiler: gcc gcc (GCC) 14.2.1 20250110 (Red Hat 14.2.1-8) Fedora Linux 40 Kernel: 5.15 Compiler: gcc gcc (GCC) 14.2.1 20240912 (Red Hat 14.2.1-3) Debian GNU/Linux 12 Kernel: 5.15 Compiler: gcc gcc (Debian 12.2.0-14+deb12u1) 12.2.0 Fedora Linux 41 Kernel: 5.15 Compiler: gcc gcc (GCC) 14.3.1 20250523 (Red Hat 14.3.1-1) Fedora Linux 42 Kernel: 5.15 Compiler: gcc gcc (GCC) 15.2.1 20250808 (Red Hat 15.2.1-1) Red Hat Enterprise Linux 9.5 Kernel: 5.15 Compiler: gcc gcc (GCC) 11.5.0 20240719 (Red Hat 11.5.0-2) Red Hat Enterprise Linux 8.10 Kernel: 5.15 Compiler: gcc gcc (GCC) 8.5.0 20210514 (Red Hat 8.5.0-22) Ubuntu 20.04 Kernel: 5.15 Compiler: gcc gcc (Ubuntu 9.4.0-1ubuntu1~20.04.2) 9.4.0 Ubuntu 22.04 Kernel: 5.15 Compiler: gcc gcc (Ubuntu 11.4.0-1ubuntu1~22.04) 11.4.0 Ubuntu 24.04 Kernel: 5.15 Compiler: gcc gcc (Ubuntu 13.3.0-6ubuntu2~24.04) 13.3.0 Windows Server 2022 Kernel: 10.0.20348.2031 Compiler: clang 15.0.7, gcc 14.1.0 (MinGW), and MSVC VS 19.39.33521 To view detailed results, visit: https://lab.dpdk.org/results/dashboard/patchsets/34576/ UNH-IOL DPDK Community Lab To manage your email subscriptions, visit: https://lab.dpdk.org/results/dashboard/preferences/subscriptions/