From mboxrd@z Thu Jan 1 00:00:00 1970 Return-Path: Received: from mails.dpdk.org (mails.dpdk.org [217.70.189.124]) by inbox.dpdk.org (Postfix) with ESMTP id E2B5B48B0C for ; Fri, 14 Nov 2025 18:09:21 +0100 (CET) Received: from mails.dpdk.org (localhost [127.0.0.1]) by mails.dpdk.org (Postfix) with ESMTP id DC89840288; Fri, 14 Nov 2025 18:09:21 +0100 (CET) Received: from mail-yw1-f227.google.com (mail-yw1-f227.google.com [209.85.128.227]) by mails.dpdk.org (Postfix) with ESMTP id 7ABAA40288 for ; Fri, 14 Nov 2025 18:09:21 +0100 (CET) Received: by mail-yw1-f227.google.com with SMTP id 00721157ae682-71d71bcab6fso21389007b3.0 for ; Fri, 14 Nov 2025 09:09:21 -0800 (PST) DKIM-Signature: v=1; a=rsa-sha256; c=relaxed/relaxed; d=iol.unh.edu; s=unh-iol; t=1763140161; x=1763744961; darn=dpdk.org; h=cc:to:from:subject:message-id:date:from:to:cc:subject:date :message-id:reply-to; bh=nXR1aNxZEIyx+H5lmSHStS2G+GXOVizf/9vm3YRebWk=; b=LOHBhYTnX+4xbz62v1/QqStyQEirXDo/zrJBqnoWwRtSG5Kj2dMnq4YIA3sJj8dSiq 3mI5XB6PoBdjc+hdsIJJn4eA8FkL3TxHayju/uEKfHbPIfcugRaX5uscBJWplJCv8s5Y CX4efvTVe1CUTG89bG8NsVGedjgNJf+GK4+y0= X-Google-DKIM-Signature: v=1; a=rsa-sha256; c=relaxed/relaxed; d=1e100.net; s=20230601; t=1763140161; x=1763744961; h=cc:to:from:subject:message-id:date:x-gm-gg:x-gm-message-state:from :to:cc:subject:date:message-id:reply-to; bh=nXR1aNxZEIyx+H5lmSHStS2G+GXOVizf/9vm3YRebWk=; b=XhX+koZMfTymuxs52A7LGhzJs2nBGrIKHQ5cnjp9v2bgKqalV8OZV4BESxEiByrbPU RrDLV2PVkKEZXkI4Hc/Cu42mRZmXZpmwcZCbxKwBje807ZK1PXJbgqEEp1FwoohHge5A BVTmjFX5rI0EniGWpZlayEUROIjn55E0tjpOZ7532oRKjSjQaHDvBIgr4woKktiFckfM Jnoh+bOkUf54zlo30UnreqcnXYOq2cqXFhgrTNhmfn2t+YXXvgxF5GHY90uFSHgg9Yvf +f2O8lJl7aIiv3LFoVIf3dJiLkThXnMD6YF+/KfE0iJNYWAXSektGSPVpJ+01G98H86k mFSw== X-Gm-Message-State: AOJu0Ywu2VZpRirpxmU6GjzM37F+SD5MTspbEPT/ZgCPPA/IiGsQyd3b jdisVSXEi50n16GWFSpVkLW22fPTBHf7RgaA+PJT6CMzt4nS+D8lFX8kh1s52gMrJ/UwRMR8tF5 m//KMZv/GUZrJq7N/jIBvx+BhVRrpN9n4cl2k584I0MKX X-Gm-Gg: ASbGncsKaSZQd5nDmHyRNBz2rADqbdNfSPOvijvJjh/s69VJFQ+wl7j8jGbpiuNMUf+ oF5Xx55RxpKUkKkEI+bxEyzTDfz5PX3eHSs1oxhMNrRVKdAvYyotvox5kgD1Fn9AocpDT/xl4IN k05YhtKRc3dOzQmQ4PlR+UTLtsTp7AHMggXLcBkIaAJzuBZNvPqf3ZvG844RAhP+1TXaFd1ApTa xoZPyTWiJmqcZ9M9/sMpGv2X602FG5MdcmOHeu4Xa6xRqDVwZF32xfla2aZ2FOWB3l+8Zb6igou Fl0sefqTo/H/BD0Zqg7NiGorY+Cy3KHy9vuQjy8pL+u3Y0N4zIMHbBg65ajEOda/US2PNcPZoeH efL1tp9raRWhve0WFm2HvEyBi4MtiA88= X-Google-Smtp-Source: AGHT+IGVcvp9QPuCytG+ER6ib/90RaFbuGkO3YbmQx3VAfwWD4ZDTq1ocmY1l+wfgLO6kjxKT3ijWyYbkCRD X-Received: by 2002:a05:690c:700e:b0:785:cbf4:72cd with SMTP id 00721157ae682-78929e45377mr38823907b3.3.1763140160695; Fri, 14 Nov 2025 09:09:20 -0800 (PST) Received: from postal.iol.unh.edu (postal.iol.unh.edu. [132.177.123.84]) by smtp-relay.gmail.com with ESMTPS id 00721157ae682-78821e4f8aesm3027847b3.15.2025.11.14.09.09.20 (version=TLS1_2 cipher=ECDHE-ECDSA-AES128-GCM-SHA256 bits=128/128); Fri, 14 Nov 2025 09:09:20 -0800 (PST) X-Relaying-Domain: iol.unh.edu Date: Fri, 14 Nov 2025 09:09:20 -0800 (PST) Message-ID: <69176240.050a0220.1e5a7b.f1fdSMTPIN_ADDED_MISSING@mx.google.com> Received: from [172.21.0.2] (unknown [172.18.0.240]) by postal.iol.unh.edu (Postfix) with ESMTP id 4E9D46050A61; Fri, 14 Nov 2025 12:09:20 -0500 (EST) Subject: |SUCCESS| [GIT MASTER] be0112878b4fc3a1b918370ed2fe615c52039d77 From: dpdklab@iol.unh.edu To: Test Report Cc: dpdk-test-reports@iol.unh.edu Content-Type: text/plain X-BeenThere: test-report@dpdk.org X-Mailman-Version: 2.1.29 Precedence: list List-Id: automatic DPDK test reports List-Unsubscribe: , List-Archive: List-Post: List-Help: List-Subscribe: , Errors-To: test-report-bounces@dpdk.org _Testing PASS_ Branch: dpdk be0112878b4fc3a1b918370ed2fe615c52039d77 --> testing pass Upstream job id: Generic-DPDK-Compile-Meson#444351 Test environment and result as below: +-------------------------------+--------------------+------------------+ | Environment | dpdk_meson_compile | dpdk_compile_ovs | +===============================+====================+==================+ | FreeBSD 14.2 | PASS | SKIPPED | +-------------------------------+--------------------+------------------+ | Ubuntu 20.04 | PASS | SKIPPED | +-------------------------------+--------------------+------------------+ | CentOS Stream 9 | PASS | SKIPPED | +-------------------------------+--------------------+------------------+ | CentOS Stream 10 | PASS | SKIPPED | +-------------------------------+--------------------+------------------+ | Debian GNU/Linux 12 | PASS | SKIPPED | +-------------------------------+--------------------+------------------+ | Fedora Linux 42 | PASS | PASS | +-------------------------------+--------------------+------------------+ | openSUSE Leap 15.6 | PASS | SKIPPED | +-------------------------------+--------------------+------------------+ | Red Hat Enterprise Linux 8.10 | PASS | SKIPPED | +-------------------------------+--------------------+------------------+ | Red Hat Enterprise Linux 9.5 | PASS | SKIPPED | +-------------------------------+--------------------+------------------+ | Ubuntu 22.04 | PASS | SKIPPED | +-------------------------------+--------------------+------------------+ | Ubuntu 24.04 | PASS | PASS | +-------------------------------+--------------------+------------------+ | Alpine Linux 3.22.0 | PASS | SKIPPED | +-------------------------------+--------------------+------------------+ | Arch Linux 20250613.0.365270 | PASS | SKIPPED | +-------------------------------+--------------------+------------------+ FreeBSD 14.2 Kernel: 14.2-RELEASE Compiler: clang 18.1.6 Ubuntu 20.04 Kernel: 4.19 Compiler: gcc gcc (Ubuntu 9.4.0-1ubuntu1~20.04.2) 9.4.0 CentOS Stream 9 Kernel: 5.15 Compiler: gcc gcc (GCC) 11.5.0 20240719 (Red Hat 11.5.0-11) CentOS Stream 10 Kernel: 5.15 Compiler: gcc gcc (GCC) 14.2.1 20250110 (Red Hat 14.2.1-8) Debian GNU/Linux 12 Kernel: 5.15 Compiler: gcc gcc (Debian 12.2.0-14+deb12u1) 12.2.0 Fedora Linux 42 Kernel: 5.15 Compiler: clang gcc (GCC) 15.2.1 20250808 (Red Hat 15.2.1-1) openSUSE Leap 15.6 Kernel: 5.15 Compiler: gcc gcc (SUSE Linux) 7.5.0 Red Hat Enterprise Linux 8.10 Kernel: 5.15 Compiler: gcc gcc (GCC) 8.5.0 20210514 (Red Hat 8.5.0-22) Red Hat Enterprise Linux 9.5 Kernel: 5.15 Compiler: gcc gcc (GCC) 11.5.0 20240719 (Red Hat 11.5.0-2) Ubuntu 22.04 Kernel: 5.15 Compiler: gcc gcc (Ubuntu 11.4.0-1ubuntu1~22.04) 11.4.0 Ubuntu 24.04 Kernel: 5.15 Compiler: gcc gcc (Ubuntu 13.3.0-6ubuntu2~24.04) 13.3.0 Alpine Linux 3.22.0 Kernel: 5.15 Compiler: gcc gcc (Alpine 14.2.0) 14.2.0 Arch Linux 20250613.0.365270 Kernel: 5.15 Compiler: gcc gcc (GCC) 15.1.1 20250425 To view detailed results, visit: https://lab.dpdk.org/results/dashboard/tarballs/35590/ UNH-IOL DPDK Community Lab To manage your email subscriptions, visit: https://lab.dpdk.org/results/dashboard/preferences/subscriptions/