From mboxrd@z Thu Jan 1 00:00:00 1970 Return-Path: Received: from mails.dpdk.org (mails.dpdk.org [217.70.189.124]) by inbox.dpdk.org (Postfix) with ESMTP id B2D4148B0C for ; Fri, 14 Nov 2025 18:24:27 +0100 (CET) Received: from mails.dpdk.org (localhost [127.0.0.1]) by mails.dpdk.org (Postfix) with ESMTP id 8C82040288; Fri, 14 Nov 2025 18:24:27 +0100 (CET) Received: from mail-pj1-f100.google.com (mail-pj1-f100.google.com [209.85.216.100]) by mails.dpdk.org (Postfix) with ESMTP id 500BA40288 for ; Fri, 14 Nov 2025 18:24:26 +0100 (CET) Received: by mail-pj1-f100.google.com with SMTP id 98e67ed59e1d1-3438d4ae152so2886072a91.1 for ; Fri, 14 Nov 2025 09:24:26 -0800 (PST) DKIM-Signature: v=1; a=rsa-sha256; c=relaxed/relaxed; d=iol.unh.edu; s=unh-iol; t=1763141065; x=1763745865; darn=dpdk.org; h=references:in-reply-to:cc:to:from:subject:message-id:date:from:to :cc:subject:date:message-id:reply-to; bh=4KF87BUQdeuqGswF/R9KYU2KcT64p3bQGaKOGbWGjbw=; b=UUStfkFVFYYPev381EfslfKDJZpFR1LppHFeJvpNvaEuulOwlbQr/kki2sEUGrs4Ii ZqOFrudEzoeR2AMgQ8eUfhEpSPsAkcpHo8nb4PTHEom4qZ9JpIX7bJs32Df/5eAqBMg0 1cZR7daIH6l4AVKzWYK1dC66lqlgvHsQECui4= X-Google-DKIM-Signature: v=1; a=rsa-sha256; c=relaxed/relaxed; d=1e100.net; s=20230601; t=1763141065; x=1763745865; h=references:in-reply-to:cc:to:from:subject:message-id:date:x-gm-gg :x-gm-message-state:from:to:cc:subject:date:message-id:reply-to; bh=4KF87BUQdeuqGswF/R9KYU2KcT64p3bQGaKOGbWGjbw=; b=Vg9ab0NcF3C1iPbrdmNfJuIb1xolBubO+6EQ2JFpxsN/ULLzDLiBStRP9ORhPHT+iU hqzepZhCdWLg0eSBy/M+8IPTs1SiYDIZglsIdErWWlAm8AiDRfMq2dnpXVePXc2Fg0kS 3NGBtA+Pll3xyiKd3KEM2+Qi6EGE5uC8CK5Od528i+hLjI9qlOz2hUwq+8dW3KJR3Ia8 CIzm+BOoApGDTdS1WKbhuy23Mi99euVxK1q/Y5Ih9vlcDbz03AWAAs8Ji31j2oxHAdAE gTPFvBrn3YDfqp5rvA3dixZU/4CBPAVuGXmNCLLmilySquu8Dp6vPE8UcS057h4e9hzu Mybg== X-Gm-Message-State: AOJu0Yzkkjip+ZryOzBwMmfur5NhYAsNZ0VV5ElCKLWrnkjUT4ISEtNC Rj7SeXGoFJZMwFmGBlpxTyRbEBEjNICWHIVmXcAFxJ7r/dYQpryQe6mqzm4T8l+KJKlrtr8LlV9 MA0QwMsz41C/ff58Uq3q68BngWNdayu4t4UH+ry9td7gZd4Zny20WPudjaczp X-Gm-Gg: ASbGncuK4ApF0TsGQvpqD/yP0Vqt+bPQCPg2dhctekoWJqZlTS0W+r06RRlasiAokgs 1PD1avn0CbCi8qq/0fqqjFWHSerWdVMha9sztQcEGGDIU13gXISunDttATQgScAc/KQAwMdPRuI jsuGIiut+h1nKPbRMw5WAO6V1l9IqlYWPyspg4ni9MO/zvk310Y0i/8fISGtwgo5Gpn9rwdepkW /EKWbg4S7/q+3f8KQbUhBwpjD7MENerXxxNahmu1uvsRJNqdcx4MFvMBwrPvArtjXKlffWbeUi/ auba3Qg47kUQGBWqlb5101sEnJplhBj48KalOwabxPM1BJWBWV3Kf9W6t/48vRcBQV3idt6J59x mSRYH/ieQ X-Google-Smtp-Source: AGHT+IEPI1a66v2t3EwiGiNAWGmKQ1yXgIqJ6A+pmQA+FeSM79toabWFjgQu6XUBEUBCdCc4MlW31kYExec1 X-Received: by 2002:a17:90b:3b4f:b0:343:5f43:9359 with SMTP id 98e67ed59e1d1-343fa74d185mr4262123a91.31.1763141065239; Fri, 14 Nov 2025 09:24:25 -0800 (PST) Received: from postal.iol.unh.edu (postal.iol.unh.edu. [2606:4100:3880:1234::84]) by smtp-relay.gmail.com with ESMTPS id 98e67ed59e1d1-343ee0a2455sm633490a91.3.2025.11.14.09.24.25 (version=TLS1_2 cipher=ECDHE-ECDSA-AES128-GCM-SHA256 bits=128/128); Fri, 14 Nov 2025 09:24:25 -0800 (PST) X-Relaying-Domain: iol.unh.edu Date: Fri, 14 Nov 2025 09:24:25 -0800 (PST) Message-ID: <691765c9.170a0220.399c40.e90dSMTPIN_ADDED_MISSING@mx.google.com> Received: from [172.21.0.2] (unknown [172.18.0.240]) by postal.iol.unh.edu (Postfix) with ESMTP id 78F8E6050A61; Fri, 14 Nov 2025 12:24:24 -0500 (EST) Subject: |SUCCESS| pw158699 [PATCH] net/ice: fix path selection for QinQ Tx o From: dpdklab@iol.unh.edu To: Test Report Cc: dpdk-test-reports@iol.unh.edu, Bruce Richardson In-Reply-To: <20251112115726.1286735-1-bruce.richardson@intel.com> References: <20251112115726.1286735-1-bruce.richardson@intel.com> Content-Type: text/plain X-BeenThere: test-report@dpdk.org X-Mailman-Version: 2.1.29 Precedence: list List-Id: automatic DPDK test reports List-Unsubscribe: , List-Archive: List-Post: List-Help: List-Subscribe: , Errors-To: test-report-bounces@dpdk.org Test-Label: iol-compile-amd64-testing Test-Status: SUCCESS http://dpdk.org/patch/158699 _Testing PASS_ Submitter: Bruce Richardson Date: Wednesday, November 12 2025 11:57:26 DPDK git baseline: Repo:dpdk-next-net-intel Branch: master CommitID:1655dc989bc95fa85fc76d32912d2e46c0851148 158699 --> testing pass Upstream job id: Windows-Compile-DPDK-Native#32325 Test environment and result as below: +-------------------------------+--------------------+------------------+-------------------+-------------------------+----------------------+ | Environment | dpdk_meson_compile | dpdk_compile_ovs | dpdk_msvc_compile | dpdk_llvm_clang_compile | dpdk_mingw64_compile | +===============================+====================+==================+===================+=========================+======================+ | Ubuntu 20.04 | PASS | SKIPPED | SKIPPED | SKIPPED | SKIPPED | +-------------------------------+--------------------+------------------+-------------------+-------------------------+----------------------+ | FreeBSD 14.2 | PASS | SKIPPED | SKIPPED | SKIPPED | SKIPPED | +-------------------------------+--------------------+------------------+-------------------+-------------------------+----------------------+ | CentOS Stream 9 | PASS | SKIPPED | SKIPPED | SKIPPED | SKIPPED | +-------------------------------+--------------------+------------------+-------------------+-------------------------+----------------------+ | CentOS Stream 10 | PASS | SKIPPED | SKIPPED | SKIPPED | SKIPPED | +-------------------------------+--------------------+------------------+-------------------+-------------------------+----------------------+ | Debian GNU/Linux 12 | PASS | SKIPPED | SKIPPED | SKIPPED | SKIPPED | +-------------------------------+--------------------+------------------+-------------------+-------------------------+----------------------+ | Fedora Linux 42 | PASS | PASS | SKIPPED | SKIPPED | SKIPPED | +-------------------------------+--------------------+------------------+-------------------+-------------------------+----------------------+ | openSUSE Leap 15.6 | PASS | SKIPPED | SKIPPED | SKIPPED | SKIPPED | +-------------------------------+--------------------+------------------+-------------------+-------------------------+----------------------+ | Red Hat Enterprise Linux 8.10 | PASS | SKIPPED | SKIPPED | SKIPPED | SKIPPED | +-------------------------------+--------------------+------------------+-------------------+-------------------------+----------------------+ | Red Hat Enterprise Linux 9.5 | PASS | SKIPPED | SKIPPED | SKIPPED | SKIPPED | +-------------------------------+--------------------+------------------+-------------------+-------------------------+----------------------+ | Ubuntu 22.04 | PASS | SKIPPED | SKIPPED | SKIPPED | SKIPPED | +-------------------------------+--------------------+------------------+-------------------+-------------------------+----------------------+ | Ubuntu 24.04 | PASS | PASS | SKIPPED | SKIPPED | SKIPPED | +-------------------------------+--------------------+------------------+-------------------+-------------------------+----------------------+ | Alpine Linux 3.22.0 | PASS | SKIPPED | SKIPPED | SKIPPED | SKIPPED | +-------------------------------+--------------------+------------------+-------------------+-------------------------+----------------------+ | Windows Server 2022 | SKIPPED | SKIPPED | PASS | PASS | PASS | +-------------------------------+--------------------+------------------+-------------------+-------------------------+----------------------+ Ubuntu 20.04 Kernel: 4.19 Compiler: gcc gcc (Ubuntu 9.4.0-1ubuntu1~20.04.2) 9.4.0 FreeBSD 14.2 Kernel: 14.2-RELEASE Compiler: clang 18.1.6 CentOS Stream 9 Kernel: 5.15 Compiler: gcc gcc (GCC) 11.5.0 20240719 (Red Hat 11.5.0-11) CentOS Stream 10 Kernel: 5.15 Compiler: gcc gcc (GCC) 14.2.1 20250110 (Red Hat 14.2.1-8) Debian GNU/Linux 12 Kernel: 5.15 Compiler: gcc gcc (Debian 12.2.0-14+deb12u1) 12.2.0 Fedora Linux 42 Kernel: 5.15 Compiler: clang gcc (GCC) 15.2.1 20250808 (Red Hat 15.2.1-1) openSUSE Leap 15.6 Kernel: 5.15 Compiler: gcc gcc (SUSE Linux) 7.5.0 Red Hat Enterprise Linux 8.10 Kernel: 5.15 Compiler: gcc gcc (GCC) 8.5.0 20210514 (Red Hat 8.5.0-22) Red Hat Enterprise Linux 9.5 Kernel: 5.15 Compiler: gcc gcc (GCC) 11.5.0 20240719 (Red Hat 11.5.0-2) Ubuntu 22.04 Kernel: 5.15 Compiler: gcc gcc (Ubuntu 11.4.0-1ubuntu1~22.04) 11.4.0 Ubuntu 24.04 Kernel: 5.15 Compiler: gcc gcc (Ubuntu 13.3.0-6ubuntu2~24.04) 13.3.0 Alpine Linux 3.22.0 Kernel: 5.15 Compiler: gcc gcc (Alpine 14.2.0) 14.2.0 Windows Server 2022 Kernel: 10.0.20348.2031 Compiler: clang 15.0.7, gcc 14.1.0 (MinGW), and MSVC VS 19.39.33521 To view detailed results, visit: https://lab.dpdk.org/results/dashboard/patchsets/34548/ UNH-IOL DPDK Community Lab To manage your email subscriptions, visit: https://lab.dpdk.org/results/dashboard/preferences/subscriptions/