From mboxrd@z Thu Jan 1 00:00:00 1970 Return-Path: Received: from mails.dpdk.org (mails.dpdk.org [217.70.189.124]) by inbox.dpdk.org (Postfix) with ESMTP id BF95648B0C for ; Fri, 14 Nov 2025 18:35:41 +0100 (CET) Received: from mails.dpdk.org (localhost [127.0.0.1]) by mails.dpdk.org (Postfix) with ESMTP id AAAA440288; Fri, 14 Nov 2025 18:35:41 +0100 (CET) Received: from mail-pl1-f227.google.com (mail-pl1-f227.google.com [209.85.214.227]) by mails.dpdk.org (Postfix) with ESMTP id 8731840288 for ; Fri, 14 Nov 2025 18:35:39 +0100 (CET) Received: by mail-pl1-f227.google.com with SMTP id d9443c01a7336-2953ad5517dso26617485ad.0 for ; Fri, 14 Nov 2025 09:35:39 -0800 (PST) DKIM-Signature: v=1; a=rsa-sha256; c=relaxed/relaxed; d=iol.unh.edu; s=unh-iol; t=1763141739; x=1763746539; darn=dpdk.org; h=references:in-reply-to:cc:to:from:subject:message-id:date:from:to :cc:subject:date:message-id:reply-to; bh=LivuxGjCh7mmnK2le62zqWzi7nKR5FQ7+ggP3IPkh0c=; b=N1mmUNNdYyacHfhHm9aGTotz4EX+HmspvdU6vT014clCeW6Avq8S2ePNMT274459Wx cbqNvuHKvgApsxecFiI40nDlsoX4BUFk/HEejcxsUbP3yNdYGv9xKtqVNgoKQcRSGgiB 4uh1MUScauhg/RyrjAe+AfRodg6wPBBwCtC0Q= X-Google-DKIM-Signature: v=1; a=rsa-sha256; c=relaxed/relaxed; d=1e100.net; s=20230601; t=1763141739; x=1763746539; h=references:in-reply-to:cc:to:from:subject:message-id:date:x-gm-gg :x-gm-message-state:from:to:cc:subject:date:message-id:reply-to; bh=LivuxGjCh7mmnK2le62zqWzi7nKR5FQ7+ggP3IPkh0c=; b=eiBDem0KtzC4Hr2AuDO/Nzhg+AOiwCromOwN2d0M6lMOmGfPfm4r/87eW6C1nHRc6n RPeIQnqfZB/i4MbOl3ija37uXGdOYasspjiw01hx3jHjfAESNxG1JRchtpwNBk4g0IHo 0nRKJVLxony8x1wRUMtaburTIVP3GvZijCc4ID1lXUNf5RIEE7GR0imBWRNOGIyYWPxY of8wh0Fs+l5hBcYH5n2LAUYbs2TqDChjh0lBkLQnoTJb6zsMA3/miLAwqbJGxWsh8YUq OxgrfeNzt/hhskUXY1szTGsznrHEGRUzEdCZAX09FPtRiVbs/de/ZxiRZRZ6U6M2IbGR Z4LA== X-Gm-Message-State: AOJu0YzFMQ9BN/tBGG1qMJpdGTq9Mii5ZxyJTTJ64L0lAtsRz2LSGEfF HDs0EvDeISFTQOBpvzRPrDCauDvWWjD81+jOirVU5zMfknTAzhhefoL4uOqyHZiB9K31k8csLCl HjWfZSccB8lEKpJk9g2ZSOjXMXvHM8aUI+PCubisp9SK452xHWBoDlyTMa3Bb X-Gm-Gg: ASbGnctfA+9aQerc6Yk6X/I9q/Exk3lgI/rs40OeOKKk4pt1Q2lov1ZnNiUy+dgq/MY /MW7iPB8DmbPGBKliBaEAHt4McRCI/jJXTq012lbNLop6QBiOSiOhEkqDT2DrcgSbHOA2WvMSi6 CKCVgH2FGrUzX1BM2vfU7HRH0oZyJ59M3Pn/u04sbpwttntzlLVAxTdguSSvevH5K2UzHbvi++D WaDqK5q+dER1cHqygPe4DKohkRhH8xlOr0PwONYTLUmxBfvW03lV62tcRhhsD/jaCRhbCnPO8RV w5F9qP1TPgGJwWd1EeiFTWDwdmOP5gJDCvYsxpSb22tq+GDPcLF2bckeMED5KA0Q8sHDXWWxyZv WXDz9G3Az X-Google-Smtp-Source: AGHT+IEdJZSLNrQu++rIdkHOeyCMcfzlpgBC3I4AIh3pkBpH7zJXqmUYac6k+DECSbupU/YA9lmzfuWl4vqP X-Received: by 2002:a17:903:41c7:b0:298:1013:9d11 with SMTP id d9443c01a7336-2986a75288bmr43316985ad.43.1763141738635; Fri, 14 Nov 2025 09:35:38 -0800 (PST) Received: from postal.iol.unh.edu (postal.iol.unh.edu. [2606:4100:3880:1234::84]) by smtp-relay.gmail.com with ESMTPS id d9443c01a7336-2985c234597sm6031255ad.12.2025.11.14.09.35.38 (version=TLS1_2 cipher=ECDHE-ECDSA-AES128-GCM-SHA256 bits=128/128); Fri, 14 Nov 2025 09:35:38 -0800 (PST) X-Relaying-Domain: iol.unh.edu Date: Fri, 14 Nov 2025 09:35:38 -0800 (PST) Message-ID: <6917686a.170a0220.131de5.e34cSMTPIN_ADDED_MISSING@mx.google.com> Received: from [172.21.0.2] (unknown [172.18.0.240]) by postal.iol.unh.edu (Postfix) with ESMTP id D27FA6051830; Fri, 14 Nov 2025 12:35:37 -0500 (EST) Subject: |SUCCESS| pw158771 [PATCH] net/mlx5: fix uninitialized warning From: dpdklab@iol.unh.edu To: Test Report Cc: dpdk-test-reports@iol.unh.edu In-Reply-To: <20251113163301.285550-1-stephen@networkplumber.org> References: <20251113163301.285550-1-stephen@networkplumber.org> Content-Type: text/plain X-BeenThere: test-report@dpdk.org X-Mailman-Version: 2.1.29 Precedence: list List-Id: automatic DPDK test reports List-Unsubscribe: , List-Archive: List-Post: List-Help: List-Subscribe: , Errors-To: test-report-bounces@dpdk.org Test-Label: iol-compile-arm64-testing Test-Status: SUCCESS http://dpdk.org/patch/158771 _Testing PASS_ Submitter: Stephen Hemminger Date: Thursday, November 13 2025 16:33:01 DPDK git baseline: Repo:dpdk-next-net-mlx Branch: master CommitID:ae657d56b1f0ea979b3f611edf28d773efc2ddcf 158771 --> testing pass Upstream job id: Generic-DPDK-Compile-Meson#444193 Test environment and result as below: +------------------------------+--------------------+ | Environment | dpdk_meson_compile | +==============================+====================+ | Red Hat Enterprise Linux 9.5 | PASS | +------------------------------+--------------------+ | Ubuntu 20.04 | PASS | +------------------------------+--------------------+ | Debian GNU/Linux 12 | PASS | +------------------------------+--------------------+ | Fedora Linux 42 | PASS | +------------------------------+--------------------+ | Ubuntu 22.04 | PASS | +------------------------------+--------------------+ | Ubuntu 24.04 | PASS | +------------------------------+--------------------+ | CentOS Stream 9 | PASS | +------------------------------+--------------------+ | CentOS Stream 10 | PASS | +------------------------------+--------------------+ Red Hat Enterprise Linux 9.5 Kernel: 5.4 Compiler: gcc gcc (GCC) 11.5.0 20240719 (Red Hat 11.5.0-2) Ubuntu 20.04 Kernel: 5.15 Compiler: aarch64-linux-gnu-gcc gcc (Ubuntu 9.4.0-1ubuntu1~20.04.2) 9.4.0 Debian GNU/Linux 12 Kernel: 5.4 Compiler: gcc gcc (Debian 12.2.0-14+deb12u1) 12.2.0 Fedora Linux 42 Kernel: 5.4 Compiler: gcc gcc (GCC) 15.2.1 20250808 (Red Hat 15.2.1-1) Ubuntu 22.04 Kernel: 5.4 Compiler: gcc gcc (Ubuntu 11.4.0-1ubuntu1~22.04) 11.4.0 Ubuntu 24.04 Kernel: 5.4 Compiler: gcc gcc (Ubuntu 13.3.0-6ubuntu2~24.04) 13.3.0 CentOS Stream 9 Kernel: 5.4 Compiler: gcc gcc (GCC) 11.5.0 20240719 (Red Hat 11.5.0-11) CentOS Stream 10 Kernel: 5.4 Compiler: gcc gcc (GCC) 14.2.1 20250110 (Red Hat 14.2.1-8) To view detailed results, visit: https://lab.dpdk.org/results/dashboard/patchsets/34579/ UNH-IOL DPDK Community Lab To manage your email subscriptions, visit: https://lab.dpdk.org/results/dashboard/preferences/subscriptions/