From mboxrd@z Thu Jan 1 00:00:00 1970 Return-Path: Received: from mails.dpdk.org (mails.dpdk.org [217.70.189.124]) by inbox.dpdk.org (Postfix) with ESMTP id 5029F48B0C for ; Fri, 14 Nov 2025 18:39:32 +0100 (CET) Received: from mails.dpdk.org (localhost [127.0.0.1]) by mails.dpdk.org (Postfix) with ESMTP id 2A8EA40288; Fri, 14 Nov 2025 18:39:32 +0100 (CET) Received: from mail-pl1-f228.google.com (mail-pl1-f228.google.com [209.85.214.228]) by mails.dpdk.org (Postfix) with ESMTP id 01BE940288 for ; Fri, 14 Nov 2025 18:39:30 +0100 (CET) Received: by mail-pl1-f228.google.com with SMTP id d9443c01a7336-298039e00c2so28279105ad.3 for ; Fri, 14 Nov 2025 09:39:30 -0800 (PST) DKIM-Signature: v=1; a=rsa-sha256; c=relaxed/relaxed; d=iol.unh.edu; s=unh-iol; t=1763141970; x=1763746770; darn=dpdk.org; h=references:in-reply-to:cc:to:from:subject:message-id:date:from:to :cc:subject:date:message-id:reply-to; bh=8unciUCWrL/dQuoV8ztPrYLgF2jFQfq4879QxVN2qRI=; b=cTdQoB94vH4vKz+tVVol2AfqB/WtJkdkk+KNfBFFsXwqRxj6inQfiJzWil4VP985H1 05AHMMu6tOPGKyMjrRydtCq5h/bIFTzcCvHZen4sLg3V2v+sVPhHw+ul2p7I6mFwNlGV LATyd36Fbmtyq3Oy3J0rlYYAE0UwTDLSspxbo= X-Google-DKIM-Signature: v=1; a=rsa-sha256; c=relaxed/relaxed; d=1e100.net; s=20230601; t=1763141970; x=1763746770; h=references:in-reply-to:cc:to:from:subject:message-id:date:x-gm-gg :x-gm-message-state:from:to:cc:subject:date:message-id:reply-to; bh=8unciUCWrL/dQuoV8ztPrYLgF2jFQfq4879QxVN2qRI=; b=m61/gJurhtppm7b9tAjbL4ooGShEAGwof53CDb6ygUmgVKJEpupXuJlgiirj0GAKO2 hGuV794C5l9Y8sv1d2TFGXBKqu2lSWiViosxZKwAX99NYvvg/dTo4jzObFFzVhzniGmU N4TTqYqHOeEUg6TBSlwWhhmyukmCtw3FtY3Zkxj9JnSeS/aHFwqmb4i8ic0nPulT++Ti X4hduk56QXR0OfmVxWB4WFGLeg2ItMLJzFmlpEJ+VVVWKPpgSlLUyVRH2fgYY8ZDi7YF trufcwtCxfpd/9Aqlh+tm5s2g3KAGQRNvWagm/SRzafWBSSrV3mdmDTuhRp2II/O4fv5 LYZg== X-Gm-Message-State: AOJu0YyL0IRVm09tC/2hTrr9R7/HpBT/umZ6y99WmCRaYzTeaq3psgMs adDYTCQpQgv3RwkxmqmJAKbr1CVeP55xa7PppYe2zJPwHJDzcfTIwu75zRZcjv0e0hT/fexJVja biarunM7SLYGmyngqNaPtglgzoT/LjLM4oUzn/26WjVrjVZ3qd2lm/npr2cRK X-Gm-Gg: ASbGncsyMlnajYykO43bEgVaY5B1Y+ozlli4n2ENFob6N/tN1dM5hEfYvR8qy26zGl1 pz2UjQpCj1T/Jmani1+wG+uuqVd0isf1XnNRlHvlewYStwgSNF+0HD417bHhnVoAZDt2lZeDoVE clPuewNkQ0BOSOeIePoyluqPsbv8ru8xgz7xnGc42Y7i3PviavmFyrWQDoFJcMD/3ESfMJSEwH+ gxlmsHKh6BkXPYXhmlg9fTCVHISMRFp2o4FvmiPHCjpzg5yR5iDdEnzFi072xQragvJ52+DBPBu 5I6VRwV5Q19MA6ElvB3fSZg7sZvq3u+rvxPhMPtSCtGOmOXodZougkpqXb3IwWkiv6aMlsWxEC/ NuwNuB+nY X-Google-Smtp-Source: AGHT+IGIATv5COmW7ekoT50u2u20LK/4aXvgNoOpg1pR2Ofs4okqz+Zrw9yoweaQAYpsOnhfxT4j2DoATrTg X-Received: by 2002:a17:903:24f:b0:290:9332:eebd with SMTP id d9443c01a7336-2986a6bc404mr45962675ad.10.1763141970115; Fri, 14 Nov 2025 09:39:30 -0800 (PST) Received: from postal.iol.unh.edu (postal.iol.unh.edu. [2606:4100:3880:1234::84]) by smtp-relay.gmail.com with ESMTPS id d9443c01a7336-2985c241b61sm6042025ad.14.2025.11.14.09.39.30 (version=TLS1_2 cipher=ECDHE-ECDSA-AES128-GCM-SHA256 bits=128/128); Fri, 14 Nov 2025 09:39:30 -0800 (PST) X-Relaying-Domain: iol.unh.edu Date: Fri, 14 Nov 2025 09:39:30 -0800 (PST) Message-ID: <69176952.170a0220.2cc0b1.d94fSMTPIN_ADDED_MISSING@mx.google.com> Received: from [172.21.0.2] (unknown [172.18.0.240]) by postal.iol.unh.edu (Postfix) with ESMTP id 87F586050A61; Fri, 14 Nov 2025 12:39:29 -0500 (EST) Subject: |SUCCESS| pw158780-158781 [PATCH] [2/2] dts: shorten a too long line From: dpdklab@iol.unh.edu To: Test Report Cc: dpdk-test-reports@iol.unh.edu In-Reply-To: <20251113232954.273454-3-probb@iol.unh.edu> References: <20251113232954.273454-3-probb@iol.unh.edu> Content-Type: text/plain X-BeenThere: test-report@dpdk.org X-Mailman-Version: 2.1.29 Precedence: list List-Id: automatic DPDK test reports List-Unsubscribe: , List-Archive: List-Post: List-Help: List-Subscribe: , Errors-To: test-report-bounces@dpdk.org Test-Label: iol-compile-amd64-testing Test-Status: SUCCESS http://dpdk.org/patch/158781 _Testing PASS_ Submitter: Patrick Robb Date: Thursday, November 13 2025 23:29:54 DPDK git baseline: Repo:dpdk-next-dts Branch: master CommitID:8dcc93a520b22330e0ad59d360a4594b854f9ddd 158780-158781 --> testing pass Upstream job id: Generic-DPDK-Compile-Meson#444382 Test environment and result as below: +-----------------+--------------------+ | Environment | dpdk_meson_compile | +=================+====================+ | Ubuntu 20.04 | PASS | +-----------------+--------------------+ | FreeBSD 14.2 | PASS | +-----------------+--------------------+ | CentOS Stream 9 | PASS | +-----------------+--------------------+ Ubuntu 20.04 Kernel: 4.19 Compiler: gcc gcc (Ubuntu 9.4.0-1ubuntu1~20.04.2) 9.4.0 FreeBSD 14.2 Kernel: 14.2-RELEASE Compiler: clang 18.1.6 CentOS Stream 9 Kernel: 5.15 Compiler: gcc gcc (GCC) 11.5.0 20240719 (Red Hat 11.5.0-11) To view detailed results, visit: https://lab.dpdk.org/results/dashboard/patchsets/34586/ UNH-IOL DPDK Community Lab To manage your email subscriptions, visit: https://lab.dpdk.org/results/dashboard/preferences/subscriptions/