From mboxrd@z Thu Jan 1 00:00:00 1970 Return-Path: Received: from mails.dpdk.org (mails.dpdk.org [217.70.189.124]) by inbox.dpdk.org (Postfix) with ESMTP id BF96748B0C for ; Fri, 14 Nov 2025 18:47:23 +0100 (CET) Received: from mails.dpdk.org (localhost [127.0.0.1]) by mails.dpdk.org (Postfix) with ESMTP id BB29340E19; Fri, 14 Nov 2025 18:47:23 +0100 (CET) Received: from mail-pl1-f225.google.com (mail-pl1-f225.google.com [209.85.214.225]) by mails.dpdk.org (Postfix) with ESMTP id ACF7540E19 for ; Fri, 14 Nov 2025 18:47:22 +0100 (CET) Received: by mail-pl1-f225.google.com with SMTP id d9443c01a7336-295548467c7so26028705ad.2 for ; Fri, 14 Nov 2025 09:47:22 -0800 (PST) DKIM-Signature: v=1; a=rsa-sha256; c=relaxed/relaxed; d=iol.unh.edu; s=unh-iol; t=1763142442; x=1763747242; darn=dpdk.org; h=references:in-reply-to:cc:to:from:subject:message-id:date:from:to :cc:subject:date:message-id:reply-to; bh=Xq0Gaj789y6udpAjn5W6aVgmz8TUeb4QMN6bVdY0PIk=; b=NrvQ868HNeWq7gu56pVk+cMXjTENzVAdEUsyBIt1ZorAVeNVWwRgCxNvaFCGjrYN4d Hdz0XovgJfvBk/zK/D+OGfHz0XpGZuSxKPIt/dW6JbUIw2ef1ZSjjaFIciJwSWcFxuBE ORaFdZUkI50Mf+3/2oBPWvKyoNhpDSGpm7djw= X-Google-DKIM-Signature: v=1; a=rsa-sha256; c=relaxed/relaxed; d=1e100.net; s=20230601; t=1763142442; x=1763747242; h=references:in-reply-to:cc:to:from:subject:message-id:date:x-gm-gg :x-gm-message-state:from:to:cc:subject:date:message-id:reply-to; bh=Xq0Gaj789y6udpAjn5W6aVgmz8TUeb4QMN6bVdY0PIk=; b=BFTuLdkVTNdlDhzfYmnksoi3PyQ1S7LJJ0BMdxXVymtqpwXbVt/k8bKfKg0tVTlmuQ C0vSra9FadC+4WqvzuBrU7iCD5PgwzdV3xjetFNpLS6Swrz2AlVNet+X7snyGJwOiSfy XOxBCw59wuwvRsn9A0IbqRkjpzh+Sb+HT3LfaZBm0rVs+Y9AutCrBxNQHerRThlDreho RVVzPeJnLf8Jb+PiUa0dTqJOHD62DeLR6CwTgK+zR2W1LdLgULxQcsH6YLrjd9Ood5dL 38CS1DKDRDru2I2c/ow74qvC8jDedPubJNpK1f6dPoUFJuibR7hSBY6xzCyOryzpLFyy I1hw== X-Gm-Message-State: AOJu0Yw1H0lyODNTEEOOjeA2m/xqfwA88DuWUL0tEuwoR++JKDF/3jt2 sDCKbjylu9gVx6Shy/iCzwIPw8x6qhvIidwaB/iL9NIsWKY6Q5Mvor1nxMENX3F35PBFj09DyRH T2+C6mKAvwgwzNyB/+BbS01FCD3w8+pv1Zsr17TuKp4tg X-Gm-Gg: ASbGnctLl/qtua2X9fJI/S2JkZQ79wBrCRbHYq9/GOlTTa4BSsxpDXKDjg3Hc6qQB2O 36dus10DFXwYe+2bz1li+DLSvXuQgtTruP52Vz6cqFw/poPLxrdYbhMEID5Mj9dgqtTQYwnlPKv xpVzoLDd+zIah40AD7MYbRgTA8pCXq9Q7Cps+vzZs7yQy18b9hJwKvWF7oeAzSXqjsoK5DovbG8 EJyCzLOcfpWGarRnJxZbfDUK5XCBQwyooNMpk2C9zMoMcFTPBveVnzRX6w9jRs1xHDW01ntM+vn IqT1qak7Ye1sLYCM236lR5N2GF8h021bso9//0ANegqzDoMM5mHiyP1n5pfv/KdK0YTYKRc0BeX 3L2SX41zg5cGjIAHCG15zK+OGi2ANG2Q= X-Google-Smtp-Source: AGHT+IFNhT7hHqoQfpWb9lr66aZoOzOmABUjaz20YlKowjgvjI52Onb4g6SMkehXOUSnUShHifXhWP/sG4J3 X-Received: by 2002:a17:903:384d:b0:297:df17:54cd with SMTP id d9443c01a7336-2986a6d8addmr39155625ad.27.1763142441844; Fri, 14 Nov 2025 09:47:21 -0800 (PST) Received: from postal.iol.unh.edu (postal.iol.unh.edu. [132.177.123.84]) by smtp-relay.gmail.com with ESMTPS id d9443c01a7336-2985c2422a6sm5985535ad.25.2025.11.14.09.47.21 (version=TLS1_2 cipher=ECDHE-ECDSA-AES128-GCM-SHA256 bits=128/128); Fri, 14 Nov 2025 09:47:21 -0800 (PST) X-Relaying-Domain: iol.unh.edu Date: Fri, 14 Nov 2025 09:47:21 -0800 (PST) Message-ID: <69176b29.170a0220.2917a7.cfc1SMTPIN_ADDED_MISSING@mx.google.com> Received: from [172.21.0.2] (unknown [172.18.0.240]) by postal.iol.unh.edu (Postfix) with ESMTP id 11C4D6050A61; Fri, 14 Nov 2025 12:47:21 -0500 (EST) Subject: |SUCCESS| pw158772 [PATCH] [v2] net/axgbe: fix the build warning for From: dpdklab@iol.unh.edu To: Test Report Cc: dpdk-test-reports@iol.unh.edu, Stephen Hemminger In-Reply-To: <20251113164109.522-1-VenkatKumar.Ande@amd.com> References: <20251113164109.522-1-VenkatKumar.Ande@amd.com> Content-Type: text/plain X-BeenThere: test-report@dpdk.org X-Mailman-Version: 2.1.29 Precedence: list List-Id: automatic DPDK test reports List-Unsubscribe: , List-Archive: List-Post: List-Help: List-Subscribe: , Errors-To: test-report-bounces@dpdk.org Test-Label: iol-compile-arm64-testing Test-Status: SUCCESS http://dpdk.org/patch/158772 _Testing PASS_ Submitter: Venkat Kumar Ande Date: Thursday, November 13 2025 16:41:09 DPDK git baseline: Repo:dpdk-next-net Branch: master CommitID:fca6f2910345c25a5050a0b586e0d324ca616cbb 158772 --> testing pass Upstream job id: Generic-DPDK-Compile-Meson#444221 Test environment and result as below: +------------------------------+--------------------+ | Environment | dpdk_meson_compile | +==============================+====================+ | Red Hat Enterprise Linux 9.5 | PASS | +------------------------------+--------------------+ | Ubuntu 20.04 | PASS | +------------------------------+--------------------+ | Debian GNU/Linux 12 | PASS | +------------------------------+--------------------+ | Fedora Linux 42 | PASS | +------------------------------+--------------------+ | Ubuntu 22.04 | PASS | +------------------------------+--------------------+ | Ubuntu 24.04 | PASS | +------------------------------+--------------------+ | CentOS Stream 9 | PASS | +------------------------------+--------------------+ | CentOS Stream 10 | PASS | +------------------------------+--------------------+ Red Hat Enterprise Linux 9.5 Kernel: 5.4 Compiler: gcc gcc (GCC) 11.5.0 20240719 (Red Hat 11.5.0-2) Ubuntu 20.04 Kernel: 5.15 Compiler: aarch64-linux-gnu-gcc gcc (Ubuntu 9.4.0-1ubuntu1~20.04.2) 9.4.0 Debian GNU/Linux 12 Kernel: 5.4 Compiler: gcc gcc (Debian 12.2.0-14+deb12u1) 12.2.0 Fedora Linux 42 Kernel: 5.4 Compiler: gcc gcc (GCC) 15.2.1 20250808 (Red Hat 15.2.1-1) Ubuntu 22.04 Kernel: 5.4 Compiler: gcc gcc (Ubuntu 11.4.0-1ubuntu1~22.04) 11.4.0 Ubuntu 24.04 Kernel: 5.4 Compiler: gcc gcc (Ubuntu 13.3.0-6ubuntu2~24.04) 13.3.0 CentOS Stream 9 Kernel: 5.4 Compiler: gcc gcc (GCC) 11.5.0 20240719 (Red Hat 11.5.0-11) CentOS Stream 10 Kernel: 5.4 Compiler: gcc gcc (GCC) 14.2.1 20250110 (Red Hat 14.2.1-8) To view detailed results, visit: https://lab.dpdk.org/results/dashboard/patchsets/34580/ UNH-IOL DPDK Community Lab To manage your email subscriptions, visit: https://lab.dpdk.org/results/dashboard/preferences/subscriptions/