From mboxrd@z Thu Jan 1 00:00:00 1970 Return-Path: Received: from mails.dpdk.org (mails.dpdk.org [217.70.189.124]) by inbox.dpdk.org (Postfix) with ESMTP id 0871048B0C for ; Fri, 14 Nov 2025 18:51:46 +0100 (CET) Received: from mails.dpdk.org (localhost [127.0.0.1]) by mails.dpdk.org (Postfix) with ESMTP id 03D0B40E19; Fri, 14 Nov 2025 18:51:46 +0100 (CET) Received: from mail-ot1-f97.google.com (mail-ot1-f97.google.com [209.85.210.97]) by mails.dpdk.org (Postfix) with ESMTP id 26CB940E19 for ; Fri, 14 Nov 2025 18:51:44 +0100 (CET) Received: by mail-ot1-f97.google.com with SMTP id 46e09a7af769-7c6d1ebb0c4so1624543a34.1 for ; Fri, 14 Nov 2025 09:51:44 -0800 (PST) DKIM-Signature: v=1; a=rsa-sha256; c=relaxed/relaxed; d=iol.unh.edu; s=unh-iol; t=1763142703; x=1763747503; darn=dpdk.org; h=references:in-reply-to:cc:to:from:subject:message-id:date:from:to :cc:subject:date:message-id:reply-to; bh=FEkafYYbiIl/ooM00nkm1j/ESb06J6CYGdCjnVIKuGs=; b=MYdzvWGPDe0JxuzWDUucNk83eVyhKeMaQFChbSJ1IHk7Bl0CqQi4Cct1OpgB3Ihibf YwRrQbgFz4vsvl035LL1KoTt1tdxuiTAvw5EMClQxdgX86DtstKksMsgkUiOBDnOMy2w 9iNvGaLjPlEbnWJA9JQ3tKDZWZbiLjRssCplQ= X-Google-DKIM-Signature: v=1; a=rsa-sha256; c=relaxed/relaxed; d=1e100.net; s=20230601; t=1763142703; x=1763747503; h=references:in-reply-to:cc:to:from:subject:message-id:date:x-gm-gg :x-gm-message-state:from:to:cc:subject:date:message-id:reply-to; bh=FEkafYYbiIl/ooM00nkm1j/ESb06J6CYGdCjnVIKuGs=; b=qHiIMBozrZwyvaghq+i1Y1r6iS3B6tOyAQzAWW0DzdNJLrPqezPpi7lAb33684b5J+ 61E4eV/fb3qFkL5+17kzjYhd2pvKHOuhapSdpEi50lf0cGMSBl8VY9Bt5TtciQyTjM0l ooBWudJE99V1iz0RdnV92D+juENveCXYUARX5NCZ3FZJq2uZhGyyxUEgHoma6dHTIlE3 xfQi3tgj41tfkE9seRyqCSDsedx1HX0zT39Wwi9wtSXaStjx8pitkqxFPbyHw8z15AKO ULmiwZVtBRGlBwjFgD13vHytq9YU8rhOPyBPytOxlTxfxlRJJXsHqt9TWTFBC8XBq+PF D0VQ== X-Gm-Message-State: AOJu0YyerVluna/EjqMc3zRlzuHgVDVZKCEC2imZ5I21bBJQDx6w+QtK rKEGh6Hd2h0clU97UbmhPPEa7+g31koQ8fsvxR/thKw3zuH7zBNpAts9rlB4a/BFPnowHoGouDX YBJPcYLjxHxw1igYVIKxsFi8ufdk7XS/gSWC7tFpFUq7hy0wQfaKRwbk3JfFK X-Gm-Gg: ASbGncs5+fyDeoa4Xcrlm5zA7yBP6tYPsQD6ChrQRN+6X6lqMWv9mr/XMozeGNNo0rB XUPhBgbzvpgzYMmVcjt0sIHOT0jcHgLCVBFsyTuuQupM0oAyCj+rnIVIeFYIcYz9MoJjs0RqEVf qbBH/Zz/jOISLfSuyjXv1tqjWo6tHYojGXR0YQPp5VAYq/f/D5jOqpLy3JDuwjy/zsyPWfkSsxn ffzxg607nzjOGbPyaLyWm7D46u9oLtDzgOeB7Nzu3datmjq7Fi1Ct3XDgSf+AHtw+jS86QzSola tfAo9ZtZfs5FwOj17G9JHG9NcuvRWJ0O8RpL+4rCkI1e9Sb06ShN6ALDNu0xwxsoLMXoumjA9ut IwfH67odA X-Google-Smtp-Source: AGHT+IH1QRCAFUKH/Vtu9ZkpHW85E2VbVcqEQSMna+oNg8/Fdrn0hMJSDND87Zdwkpu6QUi2SgeGq+WAFto/ X-Received: by 2002:a05:6808:120b:b0:43f:76e6:871a with SMTP id 5614622812f47-450974374femr1764633b6e.24.1763142703155; Fri, 14 Nov 2025 09:51:43 -0800 (PST) Received: from postal.iol.unh.edu (postal.iol.unh.edu. [2606:4100:3880:1234::84]) by smtp-relay.gmail.com with ESMTPS id 006d021491bc7-65724dd5854sm137734eaf.8.2025.11.14.09.51.43 (version=TLS1_2 cipher=ECDHE-ECDSA-AES128-GCM-SHA256 bits=128/128); Fri, 14 Nov 2025 09:51:43 -0800 (PST) X-Relaying-Domain: iol.unh.edu Date: Fri, 14 Nov 2025 09:51:43 -0800 (PST) Message-ID: <69176c2f.050a0220.2dd356.685aSMTPIN_ADDED_MISSING@mx.google.com> Received: from [172.21.0.2] (unknown [172.18.0.240]) by postal.iol.unh.edu (Postfix) with ESMTP id A1EAB6050A61; Fri, 14 Nov 2025 12:51:42 -0500 (EST) Subject: |SUCCESS| pw158780-158781 [PATCH] [2/2] dts: shorten a too long line From: dpdklab@iol.unh.edu To: Test Report Cc: dpdk-test-reports@iol.unh.edu In-Reply-To: <20251113232954.273454-3-probb@iol.unh.edu> References: <20251113232954.273454-3-probb@iol.unh.edu> Content-Type: text/plain X-BeenThere: test-report@dpdk.org X-Mailman-Version: 2.1.29 Precedence: list List-Id: automatic DPDK test reports List-Unsubscribe: , List-Archive: List-Post: List-Help: List-Subscribe: , Errors-To: test-report-bounces@dpdk.org Test-Label: iol-compile-amd64-testing Test-Status: SUCCESS http://dpdk.org/patch/158781 _Testing PASS_ Submitter: Patrick Robb Date: Thursday, November 13 2025 23:29:54 DPDK git baseline: Repo:dpdk-next-dts Branch: master CommitID:8dcc93a520b22330e0ad59d360a4594b854f9ddd 158780-158781 --> testing pass Upstream job id: Generic-DPDK-Compile-Meson#444383 Test environment and result as below: +------------------+--------------------+ | Environment | dpdk_meson_compile | +==================+====================+ | Ubuntu 20.04 | PASS | +------------------+--------------------+ | FreeBSD 14.2 | PASS | +------------------+--------------------+ | CentOS Stream 9 | PASS | +------------------+--------------------+ | CentOS Stream 10 | PASS | +------------------+--------------------+ Ubuntu 20.04 Kernel: 4.19 Compiler: gcc gcc (Ubuntu 9.4.0-1ubuntu1~20.04.2) 9.4.0 FreeBSD 14.2 Kernel: 14.2-RELEASE Compiler: clang 18.1.6 CentOS Stream 9 Kernel: 5.15 Compiler: gcc gcc (GCC) 11.5.0 20240719 (Red Hat 11.5.0-11) CentOS Stream 10 Kernel: 5.15 Compiler: gcc gcc (GCC) 14.2.1 20250110 (Red Hat 14.2.1-8) To view detailed results, visit: https://lab.dpdk.org/results/dashboard/patchsets/34586/ UNH-IOL DPDK Community Lab To manage your email subscriptions, visit: https://lab.dpdk.org/results/dashboard/preferences/subscriptions/