From mboxrd@z Thu Jan 1 00:00:00 1970 Return-Path: Received: from mails.dpdk.org (mails.dpdk.org [217.70.189.124]) by inbox.dpdk.org (Postfix) with ESMTP id 1849048B0C for ; Fri, 14 Nov 2025 19:00:41 +0100 (CET) Received: from mails.dpdk.org (localhost [127.0.0.1]) by mails.dpdk.org (Postfix) with ESMTP id 1265940151; Fri, 14 Nov 2025 19:00:41 +0100 (CET) Received: from mail-oa1-f100.google.com (mail-oa1-f100.google.com [209.85.160.100]) by mails.dpdk.org (Postfix) with ESMTP id ECA5C40151 for ; Fri, 14 Nov 2025 19:00:38 +0100 (CET) Received: by mail-oa1-f100.google.com with SMTP id 586e51a60fabf-3e41b6469f5so989867fac.2 for ; Fri, 14 Nov 2025 10:00:38 -0800 (PST) DKIM-Signature: v=1; a=rsa-sha256; c=relaxed/relaxed; d=iol.unh.edu; s=unh-iol; t=1763143238; x=1763748038; darn=dpdk.org; h=references:in-reply-to:cc:to:from:subject:message-id:date:from:to :cc:subject:date:message-id:reply-to; bh=oEixBEuyd1X8mG448mq6dT7OjcW5JUJnT6tTFVhkv+Y=; b=Go27RnK/uS3Kg8VCMtecXwXJKHHdmjMXTEkIkgwLO2P9Bpay5UvRCXKWndh5HHbq4Z omE7dKkdDbNW6WS2QAwG17vYqHUCxCMVgTwd533uz9TuJPXfU4XvnsRKUKkvCY6SDItd Oj6Ye8pXF+H4cJegb9+PVM2q10WB8qTMu2NBc= X-Google-DKIM-Signature: v=1; a=rsa-sha256; c=relaxed/relaxed; d=1e100.net; s=20230601; t=1763143238; x=1763748038; h=references:in-reply-to:cc:to:from:subject:message-id:date:x-gm-gg :x-gm-message-state:from:to:cc:subject:date:message-id:reply-to; bh=oEixBEuyd1X8mG448mq6dT7OjcW5JUJnT6tTFVhkv+Y=; b=hbq6afxhx3GED99G63V4oKgiU8Ge0kbcKNJdSikNkBCCAfRSOTQ+j+phwsx2+d7vg5 s8HkLFugm1Jlv0VfS4+ryw25mgv9cOw3tv+8pW19Jl5qfn7w+ch8cfEmm+a1ig+2+bmn byy/UMNOz378SHZAZUWStMuyYWa7lbEl1iVEZ0M5VjGbDl3DjQCrP2CXvECWV9QajYCo P5yXzFuFt/LNHSRKzIB8QuL7iRCPhNaBrM1at5HQ00oX+dmGYUHq66QgbLh6z0tyykUg phjZ1hKvtZNZTk4bnXzJurW/KHAdVaLojPMMaouWRe0ZWRHdaXtBPFgBJQ5AS52aUskX iwEw== X-Gm-Message-State: AOJu0YyofD20wrIAtRf/YevYTzHXZdvcjaiSVhZ4RLlVVQokTxxu1CcQ 3/OIEwIO+IzaTSlgBgusXdE6YtgBDydxDHwUifLT9HqkznHQpY3JGqokfkG+h1y8NEakKxQlErh HNR85IVtkUPlldHDLtzBrGRllF4ufCQZ6ctZHI2ULcipMNm93CUxhg8uedvTc X-Gm-Gg: ASbGncs73g9p3BIxOv0KBzvF7oTmOTomGf1QdvNY6QsWFMU5WRIXRiNvzdGoT1znkUU ZFOPq09rwYd3dsfdBd+4JL790P3Eq+HwwZg66uCKIVaJF2M3AoaENwVB5yq05OQ+texoBl6CimT 7bdsGW5HKWtGCvpEBbSOQUvSLztpTuI0sNJiduBs9bcnLRpLJgCk8uJQ+LburGKpR6wt5Jh4H3c 3PQPV5wcapCvMhr1mtFin/KafJc9clTonNJMwGPxzl2OCNDk2smFF0fkeASRhFNrEINIz7hKhUT ljP4esvLkDSnXHc1t5O+f1wtEPmZiXZAGdk50C35W/G7YjeeiofG+TN1yU25I2+nCUIOFPjUt7l WVJnYrigZ X-Google-Smtp-Source: AGHT+IEUo0ruXm+IoW0symKdJGpHIQmgADUjjyM9kXEaNjmWYtwSixw0vAARpbi+lRKRBPWuUjhkEha5vPuD X-Received: by 2002:a05:6871:8710:20b0:3e7:e6bb:4429 with SMTP id 586e51a60fabf-3e8690f4a2cmr1641825fac.42.1763143236663; Fri, 14 Nov 2025 10:00:36 -0800 (PST) Received: from postal.iol.unh.edu (postal.iol.unh.edu. [2606:4100:3880:1234::84]) by smtp-relay.gmail.com with ESMTPS id 586e51a60fabf-3e8522c77f1sm513378fac.19.2025.11.14.10.00.36 (version=TLS1_2 cipher=ECDHE-ECDSA-AES128-GCM-SHA256 bits=128/128); Fri, 14 Nov 2025 10:00:36 -0800 (PST) X-Relaying-Domain: iol.unh.edu Date: Fri, 14 Nov 2025 10:00:36 -0800 (PST) Message-ID: <69176e44.050a0220.167f9f.9ea0SMTPIN_ADDED_MISSING@mx.google.com> Received: from [172.21.0.4] (unknown [172.18.0.240]) by postal.iol.unh.edu (Postfix) with ESMTP id BF2276050A61; Fri, 14 Nov 2025 13:00:35 -0500 (EST) Subject: |SUCCESS| pw158760 [PATCH] net/mlx5/windows: fix match criteria in f From: dpdklab@iol.unh.edu To: Test Report Cc: dpdk-test-reports@iol.unh.edu In-Reply-To: <20251113122642.1193-1-isharoni@nvidia.com> References: <20251113122642.1193-1-isharoni@nvidia.com> Content-Type: text/plain X-BeenThere: test-report@dpdk.org X-Mailman-Version: 2.1.29 Precedence: list List-Id: automatic DPDK test reports List-Unsubscribe: , List-Archive: List-Post: List-Help: List-Subscribe: , Errors-To: test-report-bounces@dpdk.org Test-Label: iol-unit-amd64-testing Test-Status: SUCCESS http://dpdk.org/patch/158760 _Testing PASS_ Submitter: Itai Sharoni Date: Thursday, November 13 2025 12:26:41 DPDK git baseline: Repo:dpdk-next-net-mlx Branch: master CommitID:ae657d56b1f0ea979b3f611edf28d773efc2ddcf 158760 --> testing pass Upstream job id: Generic-VM-Unit-Test-DPDK#32546 Test environment and result as below: +-------------------------------+----------------+ | Environment | dpdk_unit_test | +===============================+================+ | CentOS Stream 10 | PASS | +-------------------------------+----------------+ | CentOS Stream 9 | PASS | +-------------------------------+----------------+ | Fedora Linux 41 | PASS | +-------------------------------+----------------+ | Debian GNU/Linux 12 | PASS | +-------------------------------+----------------+ | Fedora Linux 40 | PASS | +-------------------------------+----------------+ | Fedora Linux 42 | PASS | +-------------------------------+----------------+ | Red Hat Enterprise Linux 8.10 | PASS | +-------------------------------+----------------+ | Red Hat Enterprise Linux 9.5 | PASS | +-------------------------------+----------------+ | Ubuntu 20.04 | PASS | +-------------------------------+----------------+ | Ubuntu 22.04 | PASS | +-------------------------------+----------------+ | Ubuntu 24.04 | PASS | +-------------------------------+----------------+ | Windows Server 2022 | PASS | +-------------------------------+----------------+ CentOS Stream 10 Kernel: 5.15 Compiler: gcc gcc (GCC) 14.2.1 20250110 (Red Hat 14.2.1-8) CentOS Stream 9 Kernel: 5.15 Compiler: gcc gcc (GCC) 11.5.0 20240719 (Red Hat 11.5.0-11) Fedora Linux 41 Kernel: 5.15 Compiler: gcc gcc (GCC) 14.3.1 20250523 (Red Hat 14.3.1-1) Debian GNU/Linux 12 Kernel: 5.15 Compiler: gcc gcc (Debian 12.2.0-14+deb12u1) 12.2.0 Fedora Linux 40 Kernel: 5.15 Compiler: clang gcc (GCC) 14.2.1 20240912 (Red Hat 14.2.1-3) Fedora Linux 42 Kernel: 5.15 Compiler: gcc gcc (GCC) 15.2.1 20250808 (Red Hat 15.2.1-1) Red Hat Enterprise Linux 8.10 Kernel: 5.15 Compiler: gcc gcc (GCC) 8.5.0 20210514 (Red Hat 8.5.0-22) Red Hat Enterprise Linux 9.5 Kernel: 5.15 Compiler: gcc gcc (GCC) 11.5.0 20240719 (Red Hat 11.5.0-2) Ubuntu 20.04 Kernel: 5.15 Compiler: gcc gcc (Ubuntu 9.4.0-1ubuntu1~20.04.2) 9.4.0 Ubuntu 22.04 Kernel: 5.15 Compiler: gcc gcc (Ubuntu 11.4.0-1ubuntu1~22.04) 11.4.0 Ubuntu 24.04 Kernel: 5.15 Compiler: gcc gcc (Ubuntu 13.3.0-6ubuntu2~24.04) 13.3.0 Windows Server 2022 Kernel: 10.0.20348.2031 Compiler: clang 15.0.7, gcc 14.1.0 (MinGW), and MSVC VS 19.39.33521 To view detailed results, visit: https://lab.dpdk.org/results/dashboard/patchsets/34575/ UNH-IOL DPDK Community Lab To manage your email subscriptions, visit: https://lab.dpdk.org/results/dashboard/preferences/subscriptions/