From mboxrd@z Thu Jan 1 00:00:00 1970 Return-Path: Received: from mails.dpdk.org (mails.dpdk.org [217.70.189.124]) by inbox.dpdk.org (Postfix) with ESMTP id 82F7748B0C for ; Fri, 14 Nov 2025 19:10:34 +0100 (CET) Received: from mails.dpdk.org (localhost [127.0.0.1]) by mails.dpdk.org (Postfix) with ESMTP id 5E3EA40151; Fri, 14 Nov 2025 19:10:34 +0100 (CET) Received: from mail-pl1-f225.google.com (mail-pl1-f225.google.com [209.85.214.225]) by mails.dpdk.org (Postfix) with ESMTP id 4BF7440151 for ; Fri, 14 Nov 2025 19:10:33 +0100 (CET) Received: by mail-pl1-f225.google.com with SMTP id d9443c01a7336-29516a36affso24410065ad.3 for ; Fri, 14 Nov 2025 10:10:33 -0800 (PST) DKIM-Signature: v=1; a=rsa-sha256; c=relaxed/relaxed; d=iol.unh.edu; s=unh-iol; t=1763143832; x=1763748632; darn=dpdk.org; h=cc:to:from:subject:message-id:date:from:to:cc:subject:date :message-id:reply-to; bh=I9C1sYzcQiCwuCQXTDJPTAjsJxNyakbZaMuj96iKayo=; b=V9PrrHMY6C+csBYkEJdKQXtj/6Nfihnc0nolf5w+lufPmqhMLzQWTBpFQ+iOgVS02a XAQ0msDRPuf1fhYNbYb+irOMPqsgj+eE3/2MhiLhU2ZbkwCDSlZ3nfQPJQYVstoyy+mM 9ok9PSHeiOy/a+7GZwS62fwtxgvr/OF4EWxHs= X-Google-DKIM-Signature: v=1; a=rsa-sha256; c=relaxed/relaxed; d=1e100.net; s=20230601; t=1763143832; x=1763748632; h=cc:to:from:subject:message-id:date:x-gm-gg:x-gm-message-state:from :to:cc:subject:date:message-id:reply-to; bh=I9C1sYzcQiCwuCQXTDJPTAjsJxNyakbZaMuj96iKayo=; b=tePKTXC+xM7b1P38m/Wn95TBpB7HrcTGnarKOa/5fVcPdDz06XaNWVXdTvN2Ruyh/3 k2gcqIRe1OTITTRi7kqV3YkyYVKWw48321VUKBJlm+5Jp7Vn3/UVNQv0yDJct96oh4NL hVsBbn+P90z4oiJGH5jumpbNWM+/Ynu2caXBrqioil3kXmISqKkDzqIb7c8bevbRdbVX rAx8Q4ABx0Bb/tGa97nCx0mw4w8rNZlduaef3goncJgBgLPBHp+Be2rlK9xAjLmBqaGf XhB6xlRe/5S5njqYgSrBogxsW0+qC+BTnwlaPMnfYl4XfS4gnI6XHlv3rr7QRCxVJYBF kRaA== X-Gm-Message-State: AOJu0YxGMix4TTkto8uGCmvxrrNUtDd+DXPS1EL/oIOeEUNud1OxuAIp qM3IhTUOcMoZFKEcghx9BKPF9XiOD2vGv+KkMWgWuayjS8VvI42hIvB+nxKnPGXr9IU07SU162k ac+L3R6hj2ez8EM6J1QBxr3rUyo/AVdXhoXvJqDalwDb1v4nUYVDVuZaxt5xM X-Gm-Gg: ASbGnctl8ULxG066n4xu3cuu0Iwmvq2yOyJJqynrgiTYLS2AJH4rDZmbaCJa0FvA17H Dhg7lQviSCRPx/SrjyVsUyDF6nVjGOWFRePXv5YiayVPu4Yqa83DMYS3saSozOa+HYEm6+sAdyb 42MrAvUQu6QYJYYwgpDpRxNJYUfPKFk5Dfn+gwybErZBYs0QTWSWELTufqxM2u0qJuBo9prLxUu 2QjMTlPqpxyo7oUGBOTqF0mrUJe4s7YORKz9SIrLXCUmyxJKh5+miyXpW/Lwe9WRmzETGVGACJo tB2LVYM6loP8cKCQApPtIjfQZRob/1zPcCQP0Za3aM8pmpaDP1Urhn+wVoZekulYSfGgiV01L5/ gv8YG+2CF X-Google-Smtp-Source: AGHT+IGWNBC+RoJDnjJZSlb+FBBo8/+nMjDf+IzejjpYpwm6CPC+jfUqL0bvrEQ7PwAhAtOgZ9eE8xL6mNtW X-Received: by 2002:a17:902:f603:b0:295:fac:7b72 with SMTP id d9443c01a7336-2986a752bb4mr39377325ad.52.1763143832329; Fri, 14 Nov 2025 10:10:32 -0800 (PST) Received: from postal.iol.unh.edu (postal.iol.unh.edu. [2606:4100:3880:1234::84]) by smtp-relay.gmail.com with ESMTPS id d9443c01a7336-2985c2346cesm6137175ad.11.2025.11.14.10.10.32 (version=TLS1_2 cipher=ECDHE-ECDSA-AES128-GCM-SHA256 bits=128/128); Fri, 14 Nov 2025 10:10:32 -0800 (PST) X-Relaying-Domain: iol.unh.edu Date: Fri, 14 Nov 2025 10:10:32 -0800 (PST) Message-ID: <69177098.170a0220.18610c.dbe2SMTPIN_ADDED_MISSING@mx.google.com> Received: from [172.21.0.2] (unknown [172.18.0.240]) by postal.iol.unh.edu (Postfix) with ESMTP id DE6756050A61; Fri, 14 Nov 2025 13:10:30 -0500 (EST) Subject: |SUCCESS| [GIT MASTER] be0112878b4fc3a1b918370ed2fe615c52039d77 From: dpdklab@iol.unh.edu To: Test Report Cc: dpdk-test-reports@iol.unh.edu Content-Type: text/plain X-BeenThere: test-report@dpdk.org X-Mailman-Version: 2.1.29 Precedence: list List-Id: automatic DPDK test reports List-Unsubscribe: , List-Archive: List-Post: List-Help: List-Subscribe: , Errors-To: test-report-bounces@dpdk.org _Testing PASS_ Branch: dpdk be0112878b4fc3a1b918370ed2fe615c52039d77 --> testing pass Upstream job id: Windows-Compile-DPDK-VS#7548 Test environment and result as below: +-------------------------------+--------------------+------------------+-------------------+ | Environment | dpdk_meson_compile | dpdk_compile_ovs | dpdk_msvc_compile | +===============================+====================+==================+===================+ | FreeBSD 14.2 | PASS | SKIPPED | SKIPPED | +-------------------------------+--------------------+------------------+-------------------+ | Ubuntu 20.04 | PASS | SKIPPED | SKIPPED | +-------------------------------+--------------------+------------------+-------------------+ | CentOS Stream 9 | PASS | SKIPPED | SKIPPED | +-------------------------------+--------------------+------------------+-------------------+ | CentOS Stream 10 | PASS | SKIPPED | SKIPPED | +-------------------------------+--------------------+------------------+-------------------+ | Debian GNU/Linux 12 | PASS | SKIPPED | SKIPPED | +-------------------------------+--------------------+------------------+-------------------+ | Fedora Linux 42 | PASS | PASS | SKIPPED | +-------------------------------+--------------------+------------------+-------------------+ | openSUSE Leap 15.6 | PASS | SKIPPED | SKIPPED | +-------------------------------+--------------------+------------------+-------------------+ | Red Hat Enterprise Linux 8.10 | PASS | SKIPPED | SKIPPED | +-------------------------------+--------------------+------------------+-------------------+ | Red Hat Enterprise Linux 9.5 | PASS | SKIPPED | SKIPPED | +-------------------------------+--------------------+------------------+-------------------+ | Ubuntu 22.04 | PASS | SKIPPED | SKIPPED | +-------------------------------+--------------------+------------------+-------------------+ | Ubuntu 24.04 | PASS | PASS | SKIPPED | +-------------------------------+--------------------+------------------+-------------------+ | Alpine Linux 3.22.0 | PASS | SKIPPED | SKIPPED | +-------------------------------+--------------------+------------------+-------------------+ | Arch Linux 20250613.0.365270 | PASS | SKIPPED | SKIPPED | +-------------------------------+--------------------+------------------+-------------------+ | Windows Server 2022 | SKIPPED | SKIPPED | PASS | +-------------------------------+--------------------+------------------+-------------------+ FreeBSD 14.2 Kernel: 14.2-RELEASE Compiler: clang 18.1.6 Ubuntu 20.04 Kernel: 4.19 Compiler: gcc gcc (Ubuntu 9.4.0-1ubuntu1~20.04.2) 9.4.0 CentOS Stream 9 Kernel: 5.15 Compiler: gcc gcc (GCC) 11.5.0 20240719 (Red Hat 11.5.0-11) CentOS Stream 10 Kernel: 5.15 Compiler: gcc gcc (GCC) 14.2.1 20250110 (Red Hat 14.2.1-8) Debian GNU/Linux 12 Kernel: 5.15 Compiler: gcc gcc (Debian 12.2.0-14+deb12u1) 12.2.0 Fedora Linux 42 Kernel: 5.15 Compiler: clang gcc (GCC) 15.2.1 20250808 (Red Hat 15.2.1-1) openSUSE Leap 15.6 Kernel: 5.15 Compiler: gcc gcc (SUSE Linux) 7.5.0 Red Hat Enterprise Linux 8.10 Kernel: 5.15 Compiler: gcc gcc (GCC) 8.5.0 20210514 (Red Hat 8.5.0-22) Red Hat Enterprise Linux 9.5 Kernel: 5.15 Compiler: gcc gcc (GCC) 11.5.0 20240719 (Red Hat 11.5.0-2) Ubuntu 22.04 Kernel: 5.15 Compiler: gcc gcc (Ubuntu 11.4.0-1ubuntu1~22.04) 11.4.0 Ubuntu 24.04 Kernel: 5.15 Compiler: gcc gcc (Ubuntu 13.3.0-6ubuntu2~24.04) 13.3.0 Alpine Linux 3.22.0 Kernel: 5.15 Compiler: gcc gcc (Alpine 14.2.0) 14.2.0 Arch Linux 20250613.0.365270 Kernel: 5.15 Compiler: gcc gcc (GCC) 15.1.1 20250425 Windows Server 2022 Kernel: 10.0.20348.2031 Compiler: clang 15.0.7, gcc 14.1.0 (MinGW), and MSVC VS 19.39.33521 To view detailed results, visit: https://lab.dpdk.org/results/dashboard/tarballs/35590/ UNH-IOL DPDK Community Lab To manage your email subscriptions, visit: https://lab.dpdk.org/results/dashboard/preferences/subscriptions/