From mboxrd@z Thu Jan 1 00:00:00 1970 Return-Path: Received: from mails.dpdk.org (mails.dpdk.org [217.70.189.124]) by inbox.dpdk.org (Postfix) with ESMTP id B957E48B0C for ; Fri, 14 Nov 2025 19:28:22 +0100 (CET) Received: from mails.dpdk.org (localhost [127.0.0.1]) by mails.dpdk.org (Postfix) with ESMTP id B1FE141141; Fri, 14 Nov 2025 19:28:22 +0100 (CET) Received: from mail-vs1-f97.google.com (mail-vs1-f97.google.com [209.85.217.97]) by mails.dpdk.org (Postfix) with ESMTP id 5F37241141 for ; Fri, 14 Nov 2025 19:28:21 +0100 (CET) Received: by mail-vs1-f97.google.com with SMTP id ada2fe7eead31-5dfae681ff8so1414188137.1 for ; Fri, 14 Nov 2025 10:28:21 -0800 (PST) DKIM-Signature: v=1; a=rsa-sha256; c=relaxed/relaxed; d=iol.unh.edu; s=unh-iol; t=1763144901; x=1763749701; darn=dpdk.org; h=references:in-reply-to:cc:to:from:subject:message-id:date:from:to :cc:subject:date:message-id:reply-to; bh=ABcEPoqNxBiGJVJfpk3pS6h6+d8u0v6rMi4Hv2wNPHc=; b=e9Fu/+TfhN02XgwUvXf7qcTnCZiIpNmhbU5GVaPypgGocth9xUlIumm8N139e8jVm1 jG4ssgLHrgYOhqEKovKCEhodevvgZo93Me7HgxIJcW07ellcc3f4csVJqe2iRRrYlWjL +s7DeuEdwMat8uGlKiV+PZJSe10xWFBMdQAl4= X-Google-DKIM-Signature: v=1; a=rsa-sha256; c=relaxed/relaxed; d=1e100.net; s=20230601; t=1763144901; x=1763749701; h=references:in-reply-to:cc:to:from:subject:message-id:date:x-gm-gg :x-gm-message-state:from:to:cc:subject:date:message-id:reply-to; bh=ABcEPoqNxBiGJVJfpk3pS6h6+d8u0v6rMi4Hv2wNPHc=; b=eprOtn9T8sG5uO/NBrd9GrJY9BPHkC+dh6HT0+Bjy+1NnqBqr9vygpgjZerfsonorn H4k1a54woB/Bu9fdhQO92KGxhe/eUP7dJD9BYmg+botstCuOYARt0G9tROF7uk46cEQE 4KIikRNIHeQcJoCqtgBpBe1hkfLU9ezqY2/g/+gCbkf4EmSf7dvVRR2RFbGXOz/9lIvB JiRJ/Fg29+S6eocpf6W6EVOhSjqPPSrAGelCCfMgw1dSZKdDDtpblRTRrQrZAiYOq5ll vxXDBT8GADrPBgdNa4/VBwmnSjsBKr1sQL50TLYd2DvFqT1JjXZsKlZXc5inW0RLKGIo F42A== X-Gm-Message-State: AOJu0YzuFsqPIwBShJz19lwaNdcWVgJYMAS70AITdfTHs+C99C0HS6/X j/pIl6F4wmp/9NCNsF9doLJDQYHjT2T/xRO1trCqk1kQ1Ual+DL2Qc2yFnSb0gx/dXSNor6X/CZ h9v+c8XO/M8YzTc9eOhBUojMjvJW+NYOVtBJORr9WlhDGubTlnHtrEDY0RSnj X-Gm-Gg: ASbGncvHJDOUMV/R/lYYUNQhXhXdD96FMPmJ6G8P0viPN7IbD6M/YFZ9SNDNyjlMsJ5 HhdWrhWFMuOpDtkmoFZEFEwSwdDpP9V6gEEJLrPxFnivTyse6ocN3XHjHtHNY8bEcIX1BIAnZxz +/O3AfLYIVGIWCsogGlIA6JpX+wp4QsERcG+3UGColXY0vpPP6gftGut/G901rdmpYWOo4MqZR/ jLlThvUbE8arBoDCjmbyMyz6clE45UofYtrAmkDs4Z/3rR7GMEwmAENCJe/w5eybCIqL68IdmMZ o7SaSeCmELr+HwhNcATSOvk2u2DV8ETnp5sU4ssGsUHXlHPHwVRtPsnBk2TIHXn+75j3j3gKrqB 3waEcT8w6 X-Google-Smtp-Source: AGHT+IF4st0TWbcwRr9qWRIsZlSAfgSN7Olz5lLETA2sBRfOlAfG5JsXP2co1D5Bu3qa0u2r/n57aviwR9yW X-Received: by 2002:a05:6102:d89:b0:5de:736:71d9 with SMTP id ada2fe7eead31-5dfc5b9440emr1994998137.28.1763144900756; Fri, 14 Nov 2025 10:28:20 -0800 (PST) Received: from postal.iol.unh.edu (postal.iol.unh.edu. [2606:4100:3880:1234::84]) by smtp-relay.gmail.com with ESMTPS id a1e0cc1a2514c-937610ae498sm71147241.1.2025.11.14.10.28.20 (version=TLS1_2 cipher=ECDHE-ECDSA-AES128-GCM-SHA256 bits=128/128); Fri, 14 Nov 2025 10:28:20 -0800 (PST) X-Relaying-Domain: iol.unh.edu Date: Fri, 14 Nov 2025 10:28:20 -0800 (PST) Message-ID: <691774c4.050a0220.d6fd9.32dcSMTPIN_ADDED_MISSING@mx.google.com> Received: from [172.21.0.5] (unknown [172.18.0.240]) by postal.iol.unh.edu (Postfix) with ESMTP id 68E6B6050A61; Fri, 14 Nov 2025 13:28:20 -0500 (EST) Subject: |SUCCESS| pw158769 [PATCH] [v2] net/mlx5: remove representor matchin From: dpdklab@iol.unh.edu To: Test Report Cc: dpdk-test-reports@iol.unh.edu In-Reply-To: <20251113131758.1524043-1-dsosnowski@nvidia.com> References: <20251113131758.1524043-1-dsosnowski@nvidia.com> Content-Type: text/plain X-BeenThere: test-report@dpdk.org X-Mailman-Version: 2.1.29 Precedence: list List-Id: automatic DPDK test reports List-Unsubscribe: , List-Archive: List-Post: List-Help: List-Subscribe: , Errors-To: test-report-bounces@dpdk.org Test-Label: iol-unit-amd64-testing Test-Status: SUCCESS http://dpdk.org/patch/158769 _Testing PASS_ Submitter: Dariusz Sosnowski Date: Thursday, November 13 2025 13:17:58 DPDK git baseline: Repo:dpdk-next-net-mlx Branch: master CommitID:ae657d56b1f0ea979b3f611edf28d773efc2ddcf 158769 --> testing pass Upstream job id: Generic-VM-Unit-Test-DPDK#32547 Test environment and result as below: +-------------------------------+----------------+ | Environment | dpdk_unit_test | +===============================+================+ | CentOS Stream 9 | PASS | +-------------------------------+----------------+ | Debian GNU/Linux 12 | PASS | +-------------------------------+----------------+ | CentOS Stream 10 | PASS | +-------------------------------+----------------+ | Fedora Linux 40 | PASS | +-------------------------------+----------------+ | Fedora Linux 41 | PASS | +-------------------------------+----------------+ | Fedora Linux 42 | PASS | +-------------------------------+----------------+ | Red Hat Enterprise Linux 8.10 | PASS | +-------------------------------+----------------+ | Ubuntu 24.04 | PASS | +-------------------------------+----------------+ | Ubuntu 20.04 | PASS | +-------------------------------+----------------+ | Red Hat Enterprise Linux 9.5 | PASS | +-------------------------------+----------------+ | Ubuntu 22.04 | PASS | +-------------------------------+----------------+ | Windows Server 2022 | PASS | +-------------------------------+----------------+ CentOS Stream 9 Kernel: 5.15 Compiler: gcc gcc (GCC) 11.5.0 20240719 (Red Hat 11.5.0-11) Debian GNU/Linux 12 Kernel: 5.15 Compiler: gcc gcc (Debian 12.2.0-14+deb12u1) 12.2.0 CentOS Stream 10 Kernel: 5.15 Compiler: gcc gcc (GCC) 14.2.1 20250110 (Red Hat 14.2.1-8) Fedora Linux 40 Kernel: 5.15 Compiler: gcc gcc (GCC) 14.2.1 20240912 (Red Hat 14.2.1-3) Fedora Linux 41 Kernel: 5.15 Compiler: clang gcc (GCC) 14.3.1 20250523 (Red Hat 14.3.1-1) Fedora Linux 42 Kernel: 5.15 Compiler: gcc gcc (GCC) 15.2.1 20250808 (Red Hat 15.2.1-1) Red Hat Enterprise Linux 8.10 Kernel: 5.15 Compiler: gcc gcc (GCC) 8.5.0 20210514 (Red Hat 8.5.0-22) Ubuntu 24.04 Kernel: 5.15 Compiler: gcc gcc (Ubuntu 13.3.0-6ubuntu2~24.04) 13.3.0 Ubuntu 20.04 Kernel: 5.15 Compiler: gcc gcc (Ubuntu 9.4.0-1ubuntu1~20.04.2) 9.4.0 Red Hat Enterprise Linux 9.5 Kernel: 5.15 Compiler: gcc gcc (GCC) 11.5.0 20240719 (Red Hat 11.5.0-2) Ubuntu 22.04 Kernel: 5.15 Compiler: gcc gcc (Ubuntu 11.4.0-1ubuntu1~22.04) 11.4.0 Windows Server 2022 Kernel: 10.0.20348.2031 Compiler: clang 15.0.7, gcc 14.1.0 (MinGW), and MSVC VS 19.39.33521 To view detailed results, visit: https://lab.dpdk.org/results/dashboard/patchsets/34577/ UNH-IOL DPDK Community Lab To manage your email subscriptions, visit: https://lab.dpdk.org/results/dashboard/preferences/subscriptions/