From mboxrd@z Thu Jan 1 00:00:00 1970 Return-Path: Received: from mails.dpdk.org (mails.dpdk.org [217.70.189.124]) by inbox.dpdk.org (Postfix) with ESMTP id 8B8F048B0C for ; Fri, 14 Nov 2025 19:41:38 +0100 (CET) Received: from mails.dpdk.org (localhost [127.0.0.1]) by mails.dpdk.org (Postfix) with ESMTP id 864BD40EE2; Fri, 14 Nov 2025 19:41:38 +0100 (CET) Received: from mail-pl1-f226.google.com (mail-pl1-f226.google.com [209.85.214.226]) by mails.dpdk.org (Postfix) with ESMTP id B900440EE2 for ; Fri, 14 Nov 2025 19:41:37 +0100 (CET) Received: by mail-pl1-f226.google.com with SMTP id d9443c01a7336-2964d616df7so30648525ad.3 for ; Fri, 14 Nov 2025 10:41:37 -0800 (PST) DKIM-Signature: v=1; a=rsa-sha256; c=relaxed/relaxed; d=iol.unh.edu; s=unh-iol; t=1763145697; x=1763750497; darn=dpdk.org; h=references:in-reply-to:cc:to:from:subject:message-id:date:from:to :cc:subject:date:message-id:reply-to; bh=+hM25IX8lcqEdY/rx4wIPWaG07+PpeOCqrUlWWkUQt0=; b=TS+dxFQQJgAGPiBOlObyNZ6uELDdp6S0UL/gReOMj6tznyD93Wx1qTjSMZabrPVgNO z0P03YH06CWBwldQUMuI8Cs4R9ggoHeTsdIsvkua70yPm7SpsQ8yG/uKr2cMSGyHRdgC wQ29uDxExrveUinNXTSWKCDC7B1xhqvVnzFHQ= X-Google-DKIM-Signature: v=1; a=rsa-sha256; c=relaxed/relaxed; d=1e100.net; s=20230601; t=1763145697; x=1763750497; h=references:in-reply-to:cc:to:from:subject:message-id:date:x-gm-gg :x-gm-message-state:from:to:cc:subject:date:message-id:reply-to; bh=+hM25IX8lcqEdY/rx4wIPWaG07+PpeOCqrUlWWkUQt0=; b=a/2nSpCwNPu4lCbijkqUolsaBdSKmb3JUvtixrqM8ELYb2J1kFcc+334CviIJWe6+V Qz7aEf8REU83xuBeyde7II5g5kvwSd0Ncn5bjamoiIKiHMxaDqv4dgeuWTOBLQp4tp3f BfvuI6R6AcCMc0X7rKDxpeOqsoXpAJeccpIIQBEBfG04zgnroRd9Ijy5KCc14a/eVKK6 1ddyuGe+IfilaMvSnulKKQsSFu6EOeLS9nyKnjLSyz62loSn+Y5id+Y8dUVe+q0m3mgg 7v5huJ27cEJlMaJ2S9jP04YkOMtF5GSVcloufc4zY5T7lvDCNMpaYtQEndpB4cJz5c2X c4Sg== X-Gm-Message-State: AOJu0Yzaj42wVrVvdWuf3GA3VBSPLSD/JeWsYW+NDMHJ2ODtQ2G3LW51 DkaVNErEc7vRWtp5paRejFYersx3wgGWxXeW3rPL+ej2eTAl6LzbY0Tb8YJtC2SDgRDMOlD1u+w HS++OBi2M44LygmgbUpam1uo8Aod5UyMUPRCCFcKlhRmW X-Gm-Gg: ASbGncuba8qBTDt3gJWyK60EA7n6aZWmT8pU/ivP2R02t1DKwI5gLhjixfbGr9YSwzE Nq70I9WF40o3bfudo9bmkR8cVTdg2CC/AxASW/tP/i7sg1FDf6fZsNSDUKsEKVrLjAvqgdPG2J0 BZLb/vvrGcXDS4KBoBGkErI7leu6UC0GAC/mCFTAND7mz2KU4njuaNzpIebwgtiQOUbFX5ovoDb sT9wvzc8EoQix+8bkSWL7TuYjIhtW3hHQxTES8apmz5O1zm04/HkC12b3vAvRhrw9psMtFtX0c3 pAcYbmEyF1h533/r0URJTOt0aEPQjtRtWLsUABA2ejnWqwgnGbaceJt1dwidgQQXx7keBu+z0Q9 ovZoUqgfNhHgMRPKwSNz3kTbBDLZnVFs= X-Google-Smtp-Source: AGHT+IEeK/gw2W0WFLGa1qeN5U+ECVXVuIiN/Pq7cN4Wc/Tp86N3EQIMXoPr7CJJiYGVMN7E2MC4KlV23HaP X-Received: by 2002:a17:903:90f:b0:295:1a5b:f406 with SMTP id d9443c01a7336-2986a6f038bmr48095595ad.25.1763145696864; Fri, 14 Nov 2025 10:41:36 -0800 (PST) Received: from postal.iol.unh.edu (postal.iol.unh.edu. [132.177.123.84]) by smtp-relay.gmail.com with ESMTPS id d9443c01a7336-2985c234650sm6164085ad.3.2025.11.14.10.41.36 (version=TLS1_2 cipher=ECDHE-ECDSA-AES128-GCM-SHA256 bits=128/128); Fri, 14 Nov 2025 10:41:36 -0800 (PST) X-Relaying-Domain: iol.unh.edu Date: Fri, 14 Nov 2025 10:41:36 -0800 (PST) Message-ID: <691777e0.170a0220.3293e6.e1f2SMTPIN_ADDED_MISSING@mx.google.com> Received: from [172.21.0.3] (unknown [172.18.0.240]) by postal.iol.unh.edu (Postfix) with ESMTP id 5F3066051830; Fri, 14 Nov 2025 13:41:36 -0500 (EST) Subject: |SUCCESS| pw158769 [PATCH] [v2] net/mlx5: remove representor matchin From: dpdklab@iol.unh.edu To: Test Report Cc: dpdk-test-reports@iol.unh.edu In-Reply-To: <20251113131758.1524043-1-dsosnowski@nvidia.com> References: <20251113131758.1524043-1-dsosnowski@nvidia.com> Content-Type: text/plain X-BeenThere: test-report@dpdk.org X-Mailman-Version: 2.1.29 Precedence: list List-Id: automatic DPDK test reports List-Unsubscribe: , List-Archive: List-Post: List-Help: List-Subscribe: , Errors-To: test-report-bounces@dpdk.org Test-Label: iol-unit-amd64-testing Test-Status: SUCCESS http://dpdk.org/patch/158769 _Testing PASS_ Submitter: Dariusz Sosnowski Date: Thursday, November 13 2025 13:17:58 DPDK git baseline: Repo:dpdk-next-net-mlx Branch: master CommitID:ae657d56b1f0ea979b3f611edf28d773efc2ddcf 158769 --> testing pass Upstream job id: Generic-VM-Unit-Test-DPDK#32548 Test environment and result as below: +-------------------------------+----------------+ | Environment | dpdk_unit_test | +===============================+================+ | CentOS Stream 9 | PASS | +-------------------------------+----------------+ | Debian GNU/Linux 12 | PASS | +-------------------------------+----------------+ | CentOS Stream 10 | PASS | +-------------------------------+----------------+ | Fedora Linux 40 | PASS | +-------------------------------+----------------+ | Fedora Linux 41 | PASS | +-------------------------------+----------------+ | Fedora Linux 42 | PASS | +-------------------------------+----------------+ | Red Hat Enterprise Linux 8.10 | PASS | +-------------------------------+----------------+ | Ubuntu 24.04 | PASS | +-------------------------------+----------------+ | Ubuntu 20.04 | PASS | +-------------------------------+----------------+ | Red Hat Enterprise Linux 9.5 | PASS | +-------------------------------+----------------+ | Ubuntu 22.04 | PASS | +-------------------------------+----------------+ | Windows Server 2022 | PASS | +-------------------------------+----------------+ CentOS Stream 9 Kernel: 5.15 Compiler: gcc gcc (GCC) 11.5.0 20240719 (Red Hat 11.5.0-11) Debian GNU/Linux 12 Kernel: 5.15 Compiler: gcc gcc (Debian 12.2.0-14+deb12u1) 12.2.0 CentOS Stream 10 Kernel: 5.15 Compiler: gcc gcc (GCC) 14.2.1 20250110 (Red Hat 14.2.1-8) Fedora Linux 40 Kernel: 5.15 Compiler: gcc gcc (GCC) 14.2.1 20240912 (Red Hat 14.2.1-3) Fedora Linux 41 Kernel: 5.15 Compiler: clang gcc (GCC) 14.3.1 20250523 (Red Hat 14.3.1-1) Fedora Linux 42 Kernel: 5.15 Compiler: gcc gcc (GCC) 15.2.1 20250808 (Red Hat 15.2.1-1) Red Hat Enterprise Linux 8.10 Kernel: 5.15 Compiler: gcc gcc (GCC) 8.5.0 20210514 (Red Hat 8.5.0-22) Ubuntu 24.04 Kernel: 5.15 Compiler: gcc gcc (Ubuntu 13.3.0-6ubuntu2~24.04) 13.3.0 Ubuntu 20.04 Kernel: 5.15 Compiler: gcc gcc (Ubuntu 9.4.0-1ubuntu1~20.04.2) 9.4.0 Red Hat Enterprise Linux 9.5 Kernel: 5.15 Compiler: gcc gcc (GCC) 11.5.0 20240719 (Red Hat 11.5.0-2) Ubuntu 22.04 Kernel: 5.15 Compiler: gcc gcc (Ubuntu 11.4.0-1ubuntu1~22.04) 11.4.0 Windows Server 2022 Kernel: 10.0.20348.2031 Compiler: clang 15.0.7, gcc 14.1.0 (MinGW), and MSVC VS 19.39.33521 To view detailed results, visit: https://lab.dpdk.org/results/dashboard/patchsets/34577/ UNH-IOL DPDK Community Lab To manage your email subscriptions, visit: https://lab.dpdk.org/results/dashboard/preferences/subscriptions/