From mboxrd@z Thu Jan 1 00:00:00 1970 Return-Path: Received: from mails.dpdk.org (mails.dpdk.org [217.70.189.124]) by inbox.dpdk.org (Postfix) with ESMTP id F1CC448B0D for ; Fri, 14 Nov 2025 20:40:58 +0100 (CET) Received: from mails.dpdk.org (localhost [127.0.0.1]) by mails.dpdk.org (Postfix) with ESMTP id EC43640E54; Fri, 14 Nov 2025 20:40:58 +0100 (CET) Received: from mail-qv1-f100.google.com (mail-qv1-f100.google.com [209.85.219.100]) by mails.dpdk.org (Postfix) with ESMTP id EAE8840E54 for ; Fri, 14 Nov 2025 20:40:57 +0100 (CET) Received: by mail-qv1-f100.google.com with SMTP id 6a1803df08f44-8824ce9812cso24605406d6.0 for ; Fri, 14 Nov 2025 11:40:57 -0800 (PST) DKIM-Signature: v=1; a=rsa-sha256; c=relaxed/relaxed; d=iol.unh.edu; s=unh-iol; t=1763149257; x=1763754057; darn=dpdk.org; h=references:in-reply-to:cc:to:from:subject:message-id:date:from:to :cc:subject:date:message-id:reply-to; bh=zmaUL6Dl7HQKVLt+E8rPmqg4KkNTfLQGSlymkdchIz8=; b=RoJcWAIJeZAQ+IJoC2vY8EFbzX9p6bNp1WK0xqf0XQw6lUX9AsVg5OXCRvSpkbG1aH EsglnjoBwJvnoNlMzz4cny5OvAYoUZHmTDrmtFUWqhqgLkJAw/2i0kAXpaJ+9UfQZANg 2Z/EYGBOO7xZXwkQJA2VLVPXPDDuqPv+TZLDs= X-Google-DKIM-Signature: v=1; a=rsa-sha256; c=relaxed/relaxed; d=1e100.net; s=20230601; t=1763149257; x=1763754057; h=references:in-reply-to:cc:to:from:subject:message-id:date:x-gm-gg :x-gm-message-state:from:to:cc:subject:date:message-id:reply-to; bh=zmaUL6Dl7HQKVLt+E8rPmqg4KkNTfLQGSlymkdchIz8=; b=FsyiZaXdGTz/PkQ3K4cIy6KIw8crGqJ89J2Pk5WKHO0wdek4U/nGGRVazS3nRNeZbm OcgBS8adFCTr7lRwLGuNj0aJpxymeYD/abYXAQtLKi82d6rSqigG0tuE2jfzUSv1QTai uleiy5Eoj0Z5s4K7eulLSQfG6NS7nvJDFE2/lt2h6If9AR2Vej92UEyrJoaj1lurfMKz JAhvmRXHRfqHWwrzdMEskjeFf1S52Rt5eVchbQ9nm9MEI5+m+IzvDobiny8fIMAwJBhF x985xD6FfChhHMmFoZ4DJbXnw+ORQpJhJKydU/rVgfunf02txPj3rQyzMXCBYR6jRERY CCXQ== X-Gm-Message-State: AOJu0Yzv52Ffpwj1bMX5IEnjGkUSdUVTkjViIcN7Gtd1K5NARDyRyCPn Rv/Tzb3WBsE2ScQE/Tc6WYTNiPBJwHfzzoIguV1mwtwxMUGLvkx+xEyi+/yoau7FZ8bXGaTvvjo rr1sR5l5YXJy0fxc5qF7GmQb7AoiLmh0Mcv/zVtVmgtkuTsMVC7rjcfG6a+bf X-Gm-Gg: ASbGncup932VtLjlaY35zqWJtzNCGWpSbw7psj6MZfZi3LY7T8G9CFQy4bTn1xlpQoY UwU37a95IKqwRwoH9VFfXJJrfGYiaLSRbQDKJ2RA0E9zsl8czxeR7GGL7/9pPfNc6Oc+GLMFZO+ hw6L/YDSajiG6oP3UEMIVHoSm2YPizQzss/OfISwus5BX7ad+etYysiBWhZNOWvFuU4mhClPzYW ybyY7DE8eHlD4ZbEixP17p38LwGjSEq9/NWPu/brdPkf8eyL/YOO0RCRChQVa5NVh+ETwTnmot9 0usnl7mDEJ+tu8auRCSjOGhRwG6xGh6MbzWOXB9eQcXnhnrWcUQwpZYZa40TTA7aaLpkcROco8t 2uzUnhA6P X-Google-Smtp-Source: AGHT+IH3ejBsPVBhfRFZ/Nraaw1yei4uPjwmheBUnZZfwLmuB1Rye4DbATuGBor1GndFE2FBpqNx85cx7vD4 X-Received: by 2002:a05:6214:daf:b0:880:4a42:28a3 with SMTP id 6a1803df08f44-882925c522bmr58048376d6.9.1763149257323; Fri, 14 Nov 2025 11:40:57 -0800 (PST) Received: from postal.iol.unh.edu (postal.iol.unh.edu. [2606:4100:3880:1234::84]) by smtp-relay.gmail.com with ESMTPS id 6a1803df08f44-882862fa3d3sm6205956d6.11.2025.11.14.11.40.57 (version=TLS1_2 cipher=ECDHE-ECDSA-AES128-GCM-SHA256 bits=128/128); Fri, 14 Nov 2025 11:40:57 -0800 (PST) X-Relaying-Domain: iol.unh.edu Date: Fri, 14 Nov 2025 11:40:57 -0800 (PST) Message-ID: <691785c9.050a0220.3afafd.e05eSMTPIN_ADDED_MISSING@mx.google.com> Received: from [172.21.0.3] (unknown [172.18.0.240]) by postal.iol.unh.edu (Postfix) with ESMTP id 0A3BB6051830; Fri, 14 Nov 2025 14:40:57 -0500 (EST) Subject: |SUCCESS| pw158702-158704 [PATCH] [v2,3/3] net/fm10k: fix null packe From: dpdklab@iol.unh.edu To: Test Report Cc: dpdk-test-reports@iol.unh.edu, Bruce Richardson In-Reply-To: <20251112141059.1576919-4-bruce.richardson@intel.com> References: <20251112141059.1576919-4-bruce.richardson@intel.com> Content-Type: text/plain X-BeenThere: test-report@dpdk.org X-Mailman-Version: 2.1.29 Precedence: list List-Id: automatic DPDK test reports List-Unsubscribe: , List-Archive: List-Post: List-Help: List-Subscribe: , Errors-To: test-report-bounces@dpdk.org Test-Label: iol-compile-amd64-testing Test-Status: SUCCESS http://dpdk.org/patch/158704 _Testing PASS_ Submitter: Bruce Richardson Date: Wednesday, November 12 2025 14:10:59 DPDK git baseline: Repo:dpdk-next-net-intel Branch: master CommitID:be0112878b4fc3a1b918370ed2fe615c52039d77 158702-158704 --> testing pass Upstream job id: Windows-Compile-DPDK-Native#32328 Test environment and result as below: +-------------------------------+--------------------+------------------+-------------------+-------------------------+ | Environment | dpdk_meson_compile | dpdk_compile_ovs | dpdk_msvc_compile | dpdk_llvm_clang_compile | +===============================+====================+==================+===================+=========================+ | FreeBSD 14.2 | PASS | SKIPPED | SKIPPED | SKIPPED | +-------------------------------+--------------------+------------------+-------------------+-------------------------+ | Ubuntu 20.04 | PASS | SKIPPED | SKIPPED | SKIPPED | +-------------------------------+--------------------+------------------+-------------------+-------------------------+ | CentOS Stream 9 | PASS | SKIPPED | SKIPPED | SKIPPED | +-------------------------------+--------------------+------------------+-------------------+-------------------------+ | CentOS Stream 10 | PASS | SKIPPED | SKIPPED | SKIPPED | +-------------------------------+--------------------+------------------+-------------------+-------------------------+ | Debian GNU/Linux 12 | PASS | SKIPPED | SKIPPED | SKIPPED | +-------------------------------+--------------------+------------------+-------------------+-------------------------+ | Fedora Linux 42 | PASS | PASS | SKIPPED | SKIPPED | +-------------------------------+--------------------+------------------+-------------------+-------------------------+ | openSUSE Leap 15.6 | PASS | SKIPPED | SKIPPED | SKIPPED | +-------------------------------+--------------------+------------------+-------------------+-------------------------+ | Red Hat Enterprise Linux 8.10 | PASS | SKIPPED | SKIPPED | SKIPPED | +-------------------------------+--------------------+------------------+-------------------+-------------------------+ | Red Hat Enterprise Linux 9.5 | PASS | SKIPPED | SKIPPED | SKIPPED | +-------------------------------+--------------------+------------------+-------------------+-------------------------+ | Ubuntu 22.04 | PASS | SKIPPED | SKIPPED | SKIPPED | +-------------------------------+--------------------+------------------+-------------------+-------------------------+ | Ubuntu 24.04 | PASS | PASS | SKIPPED | SKIPPED | +-------------------------------+--------------------+------------------+-------------------+-------------------------+ | Alpine Linux 3.22.0 | PASS | SKIPPED | SKIPPED | SKIPPED | +-------------------------------+--------------------+------------------+-------------------+-------------------------+ | Windows Server 2022 | SKIPPED | SKIPPED | PASS | PASS | +-------------------------------+--------------------+------------------+-------------------+-------------------------+ FreeBSD 14.2 Kernel: 14.2-RELEASE Compiler: clang 18.1.6 Ubuntu 20.04 Kernel: 4.19 Compiler: gcc gcc (Ubuntu 9.4.0-1ubuntu1~20.04.2) 9.4.0 CentOS Stream 9 Kernel: 5.15 Compiler: gcc gcc (GCC) 11.5.0 20240719 (Red Hat 11.5.0-11) CentOS Stream 10 Kernel: 5.15 Compiler: gcc gcc (GCC) 14.2.1 20250110 (Red Hat 14.2.1-8) Debian GNU/Linux 12 Kernel: 5.15 Compiler: gcc gcc (Debian 12.2.0-14+deb12u1) 12.2.0 Fedora Linux 42 Kernel: 5.15 Compiler: clang gcc (GCC) 15.2.1 20250808 (Red Hat 15.2.1-1) openSUSE Leap 15.6 Kernel: 5.15 Compiler: gcc gcc (SUSE Linux) 7.5.0 Red Hat Enterprise Linux 8.10 Kernel: 5.15 Compiler: gcc gcc (GCC) 8.5.0 20210514 (Red Hat 8.5.0-22) Red Hat Enterprise Linux 9.5 Kernel: 5.15 Compiler: gcc gcc (GCC) 11.5.0 20240719 (Red Hat 11.5.0-2) Ubuntu 22.04 Kernel: 5.15 Compiler: gcc gcc (Ubuntu 11.4.0-1ubuntu1~22.04) 11.4.0 Ubuntu 24.04 Kernel: 5.15 Compiler: gcc gcc (Ubuntu 13.3.0-6ubuntu2~24.04) 13.3.0 Alpine Linux 3.22.0 Kernel: 5.15 Compiler: gcc gcc (Alpine 14.2.0) 14.2.0 Windows Server 2022 Kernel: 10.0.20348.2031 Compiler: clang 15.0.7, gcc 14.1.0 (MinGW), and MSVC VS 19.39.33521 To view detailed results, visit: https://lab.dpdk.org/results/dashboard/patchsets/34551/ UNH-IOL DPDK Community Lab To manage your email subscriptions, visit: https://lab.dpdk.org/results/dashboard/preferences/subscriptions/