From mboxrd@z Thu Jan 1 00:00:00 1970 Return-Path: Received: from mails.dpdk.org (mails.dpdk.org [217.70.189.124]) by inbox.dpdk.org (Postfix) with ESMTP id 6901948B0D for ; Fri, 14 Nov 2025 20:44:18 +0100 (CET) Received: from mails.dpdk.org (localhost [127.0.0.1]) by mails.dpdk.org (Postfix) with ESMTP id 652BA40E54; Fri, 14 Nov 2025 20:44:18 +0100 (CET) Received: from mail-pl1-f227.google.com (mail-pl1-f227.google.com [209.85.214.227]) by mails.dpdk.org (Postfix) with ESMTP id 344D940E54 for ; Fri, 14 Nov 2025 20:44:17 +0100 (CET) Received: by mail-pl1-f227.google.com with SMTP id d9443c01a7336-2958db8ae4fso23097465ad.2 for ; Fri, 14 Nov 2025 11:44:17 -0800 (PST) DKIM-Signature: v=1; a=rsa-sha256; c=relaxed/relaxed; d=iol.unh.edu; s=unh-iol; t=1763149456; x=1763754256; darn=dpdk.org; h=references:in-reply-to:cc:to:from:subject:message-id:date:from:to :cc:subject:date:message-id:reply-to; bh=n7/2ZOIfgX1wAdD8HOPlnTMi5ebb1rDsQTBPLTkcCqE=; b=W2peCK0K6F6uhcodEVJXmsDo0p5wv9xns/u+p30CETUYSoN51iYAJWOdofhWMzPtj5 h4wsuUP5yBYmAOtk33UZnpbE5vTK7qG5x85vCtwHBLBDftITX+BnMqoYsg3apD5YwKF5 AejnulTO1I23kfOjgcMQjJBcQk8Rf78B2Nz+8= X-Google-DKIM-Signature: v=1; a=rsa-sha256; c=relaxed/relaxed; d=1e100.net; s=20230601; t=1763149456; x=1763754256; h=references:in-reply-to:cc:to:from:subject:message-id:date:x-gm-gg :x-gm-message-state:from:to:cc:subject:date:message-id:reply-to; bh=n7/2ZOIfgX1wAdD8HOPlnTMi5ebb1rDsQTBPLTkcCqE=; b=u2c+t4EXQ04cNmJcs/pZb6tYMktDxEYS/hJG7Xfz0T+IiqqIAFX5IIvthrkq05Elng PKFGcAysBQvsrBesJuNztirc3g0bPDQ6zHhe+pVoihFzb1PMQR5KnFn3zlD+BeOLZmmL pzCvTnA2V8j5hxHM3g4x2fMRDzKRvjKnHyPq2wSv0+tkTnAw/6u+PE2U1IiTr+3FfFm0 bv/LtWQwEx3AMUpAO0HPBTo83GogsKVhlfAQvPUXtkIdUQowGpEVSNiPeaHe9uoxKYwr iMFmRle/lb/yBI8ZEHfOPOtSnC0ynWHdu4DCthmcKdH3v2Gefh+JCXsK8InnLBr9wuTJ yFQA== X-Gm-Message-State: AOJu0YyO17y0/Ab8qr2NL5ZGPsfcORopoCAp4LXhlnOLQYMe87wFvLmk 0J7kgyLzEiuIz14YWlMy2x/jBTxr9FfXWL74S7gTRE1iTfjJyuYSvDv1L3wGhgWhVOPnUcEdYER /jo6zhoLDMNJE67k/OBzkqdky/9gMwgjDJzYk3QIsO3GJq3g8LjemNw2WBMty X-Gm-Gg: ASbGncu/cPSJXlyOQIEKAnWJdtTu4FyxfKj1fALVftiD/yB2g0IHbZW1r5M70GStt+U 4C81buFzGrftTdDhlJYFEUURdt9TuS6ZQpj09w4mf45r47wlmLp3oqwVq2U6j6V3R4V2TAt3Sxf YKqrK0YjvaPpVOP9k+9prDR94hT/5XLJx6xD7ow1T8WN1iR5/5rht1A17qtC5asEReJuODKF2Jk vSnmzdWLiO+X4ACD4wUSz7tz7UEMj1ZbJ0ouViQxJrfGydIsjCBttJLSzcyTo1umnOTXyACHYex Wkj96BtpHC6bro7lZshkmk50SjiFcZXWqe/I/aszyS9AQP8Rh/C3DUbBN61jTYTO3gu/Bpycpgx y/gf6fdO1 X-Google-Smtp-Source: AGHT+IGfAuWO+HgyJhwQb2SiRvfNBmDMG50OGaLCi0dl2unNcbhDns9tlCAfk7TE9Yhs4ugpwOFVK7x7iJxi X-Received: by 2002:a17:90b:14c8:b0:343:684c:f8ac with SMTP id 98e67ed59e1d1-343f9d90842mr3266402a91.8.1763149456254; Fri, 14 Nov 2025 11:44:16 -0800 (PST) Received: from postal.iol.unh.edu (postal.iol.unh.edu. [2606:4100:3880:1234::84]) by smtp-relay.gmail.com with ESMTPS id 98e67ed59e1d1-343e07e64b6sm1074908a91.7.2025.11.14.11.44.16 (version=TLS1_2 cipher=ECDHE-ECDSA-AES128-GCM-SHA256 bits=128/128); Fri, 14 Nov 2025 11:44:16 -0800 (PST) X-Relaying-Domain: iol.unh.edu Date: Fri, 14 Nov 2025 11:44:16 -0800 (PST) Message-ID: <69178690.170a0220.3adac7.4a93SMTPIN_ADDED_MISSING@mx.google.com> Received: from [172.21.0.2] (unknown [172.18.0.240]) by postal.iol.unh.edu (Postfix) with ESMTP id 7AB166051830; Fri, 14 Nov 2025 14:44:15 -0500 (EST) Subject: |SUCCESS| pw158702-158704 [PATCH] [v2,3/3] net/fm10k: fix null packe From: dpdklab@iol.unh.edu To: Test Report Cc: dpdk-test-reports@iol.unh.edu, Bruce Richardson In-Reply-To: <20251112141059.1576919-4-bruce.richardson@intel.com> References: <20251112141059.1576919-4-bruce.richardson@intel.com> Content-Type: text/plain X-BeenThere: test-report@dpdk.org X-Mailman-Version: 2.1.29 Precedence: list List-Id: automatic DPDK test reports List-Unsubscribe: , List-Archive: List-Post: List-Help: List-Subscribe: , Errors-To: test-report-bounces@dpdk.org Test-Label: iol-compile-amd64-testing Test-Status: SUCCESS http://dpdk.org/patch/158704 _Testing PASS_ Submitter: Bruce Richardson Date: Wednesday, November 12 2025 14:10:59 DPDK git baseline: Repo:dpdk-next-net-intel Branch: master CommitID:be0112878b4fc3a1b918370ed2fe615c52039d77 158702-158704 --> testing pass Upstream job id: Windows-Compile-DPDK-Native#32329 Test environment and result as below: +-------------------------------+--------------------+------------------+-------------------+-------------------------+----------------------+ | Environment | dpdk_meson_compile | dpdk_compile_ovs | dpdk_msvc_compile | dpdk_llvm_clang_compile | dpdk_mingw64_compile | +===============================+====================+==================+===================+=========================+======================+ | FreeBSD 14.2 | PASS | SKIPPED | SKIPPED | SKIPPED | SKIPPED | +-------------------------------+--------------------+------------------+-------------------+-------------------------+----------------------+ | Ubuntu 20.04 | PASS | SKIPPED | SKIPPED | SKIPPED | SKIPPED | +-------------------------------+--------------------+------------------+-------------------+-------------------------+----------------------+ | CentOS Stream 9 | PASS | SKIPPED | SKIPPED | SKIPPED | SKIPPED | +-------------------------------+--------------------+------------------+-------------------+-------------------------+----------------------+ | CentOS Stream 10 | PASS | SKIPPED | SKIPPED | SKIPPED | SKIPPED | +-------------------------------+--------------------+------------------+-------------------+-------------------------+----------------------+ | Debian GNU/Linux 12 | PASS | SKIPPED | SKIPPED | SKIPPED | SKIPPED | +-------------------------------+--------------------+------------------+-------------------+-------------------------+----------------------+ | Fedora Linux 42 | PASS | PASS | SKIPPED | SKIPPED | SKIPPED | +-------------------------------+--------------------+------------------+-------------------+-------------------------+----------------------+ | openSUSE Leap 15.6 | PASS | SKIPPED | SKIPPED | SKIPPED | SKIPPED | +-------------------------------+--------------------+------------------+-------------------+-------------------------+----------------------+ | Red Hat Enterprise Linux 8.10 | PASS | SKIPPED | SKIPPED | SKIPPED | SKIPPED | +-------------------------------+--------------------+------------------+-------------------+-------------------------+----------------------+ | Red Hat Enterprise Linux 9.5 | PASS | SKIPPED | SKIPPED | SKIPPED | SKIPPED | +-------------------------------+--------------------+------------------+-------------------+-------------------------+----------------------+ | Ubuntu 22.04 | PASS | SKIPPED | SKIPPED | SKIPPED | SKIPPED | +-------------------------------+--------------------+------------------+-------------------+-------------------------+----------------------+ | Ubuntu 24.04 | PASS | PASS | SKIPPED | SKIPPED | SKIPPED | +-------------------------------+--------------------+------------------+-------------------+-------------------------+----------------------+ | Alpine Linux 3.22.0 | PASS | SKIPPED | SKIPPED | SKIPPED | SKIPPED | +-------------------------------+--------------------+------------------+-------------------+-------------------------+----------------------+ | Windows Server 2022 | SKIPPED | SKIPPED | PASS | PASS | PASS | +-------------------------------+--------------------+------------------+-------------------+-------------------------+----------------------+ FreeBSD 14.2 Kernel: 14.2-RELEASE Compiler: clang 18.1.6 Ubuntu 20.04 Kernel: 4.19 Compiler: gcc gcc (Ubuntu 9.4.0-1ubuntu1~20.04.2) 9.4.0 CentOS Stream 9 Kernel: 5.15 Compiler: gcc gcc (GCC) 11.5.0 20240719 (Red Hat 11.5.0-11) CentOS Stream 10 Kernel: 5.15 Compiler: gcc gcc (GCC) 14.2.1 20250110 (Red Hat 14.2.1-8) Debian GNU/Linux 12 Kernel: 5.15 Compiler: gcc gcc (Debian 12.2.0-14+deb12u1) 12.2.0 Fedora Linux 42 Kernel: 5.15 Compiler: clang gcc (GCC) 15.2.1 20250808 (Red Hat 15.2.1-1) openSUSE Leap 15.6 Kernel: 5.15 Compiler: gcc gcc (SUSE Linux) 7.5.0 Red Hat Enterprise Linux 8.10 Kernel: 5.15 Compiler: gcc gcc (GCC) 8.5.0 20210514 (Red Hat 8.5.0-22) Red Hat Enterprise Linux 9.5 Kernel: 5.15 Compiler: gcc gcc (GCC) 11.5.0 20240719 (Red Hat 11.5.0-2) Ubuntu 22.04 Kernel: 5.15 Compiler: gcc gcc (Ubuntu 11.4.0-1ubuntu1~22.04) 11.4.0 Ubuntu 24.04 Kernel: 5.15 Compiler: gcc gcc (Ubuntu 13.3.0-6ubuntu2~24.04) 13.3.0 Alpine Linux 3.22.0 Kernel: 5.15 Compiler: gcc gcc (Alpine 14.2.0) 14.2.0 Windows Server 2022 Kernel: 10.0.20348.2031 Compiler: clang 15.0.7, gcc 14.1.0 (MinGW), and MSVC VS 19.39.33521 To view detailed results, visit: https://lab.dpdk.org/results/dashboard/patchsets/34551/ UNH-IOL DPDK Community Lab To manage your email subscriptions, visit: https://lab.dpdk.org/results/dashboard/preferences/subscriptions/