From mboxrd@z Thu Jan 1 00:00:00 1970 Return-Path: Received: from mails.dpdk.org (mails.dpdk.org [217.70.189.124]) by inbox.dpdk.org (Postfix) with ESMTP id BC50A48B0D for ; Fri, 14 Nov 2025 20:46:44 +0100 (CET) Received: from mails.dpdk.org (localhost [127.0.0.1]) by mails.dpdk.org (Postfix) with ESMTP id 98A2240E34; Fri, 14 Nov 2025 20:46:44 +0100 (CET) Received: from mail-il1-f227.google.com (mail-il1-f227.google.com [209.85.166.227]) by mails.dpdk.org (Postfix) with ESMTP id 2F98740E34 for ; Fri, 14 Nov 2025 20:46:43 +0100 (CET) Received: by mail-il1-f227.google.com with SMTP id e9e14a558f8ab-433217b58d9so9583475ab.1 for ; Fri, 14 Nov 2025 11:46:43 -0800 (PST) DKIM-Signature: v=1; a=rsa-sha256; c=relaxed/relaxed; d=iol.unh.edu; s=unh-iol; t=1763149602; x=1763754402; darn=dpdk.org; h=references:in-reply-to:cc:to:from:subject:message-id:date:from:to :cc:subject:date:message-id:reply-to; bh=NfzWrTwTxG5ebbyeOlnG8LrACaEhlmJg8Zm+rsRyJVs=; b=DRm6tnLTayKoYCogpA0CdSs6REFWNanHj7EEEjdOtocFuSZY1J280P0tnQIlao7XBG b6D3t0cT9wIG/HyVaVAef9YD1bGgxN3SiCnyUmOP5Uttba8LP5H1FF9imOONcCtHy2i8 T+P++wxEblFeW80IckVWWgrWeSbWUjVx4hKzc= X-Google-DKIM-Signature: v=1; a=rsa-sha256; c=relaxed/relaxed; d=1e100.net; s=20230601; t=1763149602; x=1763754402; h=references:in-reply-to:cc:to:from:subject:message-id:date:x-gm-gg :x-gm-message-state:from:to:cc:subject:date:message-id:reply-to; bh=NfzWrTwTxG5ebbyeOlnG8LrACaEhlmJg8Zm+rsRyJVs=; b=VO3YdeyBsod+j93ewXrhx0ijt1Gjd/9am9mUs3HM27yAUdr2RH7vOQCLr5IeuYZfNE wO7SqSkJtxBCLqYs+WOB1wPAjsw67GdgsjyFa7Ci11b9feFdh2N0cLvCVWBoiJv20q+d ohJgIxXjCdQKhJ5wLH3sItKcJ8QAEbvAUOwTieVHDsHoSEHp7JFkP+C8+1RZ3Nfr+7s3 o5w6JJPHuBPGWmtf3CUq8mmd1tgypBahpA+LtUMycXZMWXzGR1B6OONzw5A/KN4feNct lLDoC3Hyiq5ifmrs6QAOvJJdWAawCae88ruzECkshMUL59gNn2HHiosbnWIYOZMSt/E5 LMBA== X-Gm-Message-State: AOJu0YwGB+Ci6EKWpJ92gr3SdD7QnsJzAAoPcnj6aXqNl0HLpmK9X4fs /ljFuyst+dmXaTBq6cbSpnR7u9xGY5QF9kOesnI7lCM9KElY5LoHTyXpVoEYGRTdEyTWGvxDWcL EKktq3wUMXBJ9wAcb1KFfFneh7MwJMxF8Y72QiKaXI8WYZopRGG4cyoy05sWN X-Gm-Gg: ASbGncv0zbMymU4hde0nOQvDvM0QLzLKD4zJt65tREyIZGUBp+44T2pDGgr+e+Wcps8 hyMg8YqBXWTIyWj/D2Bni9WXKamEKN3Z6MJnnfb6smABCzpqm+mi6L5iOGXW94MxL2c2zXgCVp/ PSA31fuEoLetvqjhbWMhlYjCPuCs91okPKPhNAPf7+yNGJQHWuUR6j/66FJcIY3UXl/SwUqLfOx m5NG7/IAvTH3h3jtDV1dtY8Pm+8Kt31NxkpnMzNXW4tCB/okU/sekHwJ2TCNiLf1bjhakVSxEDq iP7LvGrAdMhq4ACfPWLWCJdoTR2NtEcLXvwSa+GyS6NkzmEjzLzDGTp87m63bshhKFKwLR8fZFC NkYZJH7vT X-Google-Smtp-Source: AGHT+IHCliWmTX/r//vCKKYWl3cWSkwR9iLeYlAuj3TSJHBSVGA9rgh61rjZ3dKIllPdCGG7N4aJ/GMHYFDi X-Received: by 2002:a05:6e02:dd2:b0:434:96ea:ff5c with SMTP id e9e14a558f8ab-43496eb0189mr10368905ab.37.1763149602449; Fri, 14 Nov 2025 11:46:42 -0800 (PST) Received: from postal.iol.unh.edu (postal.iol.unh.edu. [2606:4100:3880:1234::84]) by smtp-relay.gmail.com with ESMTPS id e9e14a558f8ab-434838c4669sm5191465ab.15.2025.11.14.11.46.42 (version=TLS1_2 cipher=ECDHE-ECDSA-AES128-GCM-SHA256 bits=128/128); Fri, 14 Nov 2025 11:46:42 -0800 (PST) X-Relaying-Domain: iol.unh.edu Date: Fri, 14 Nov 2025 11:46:42 -0800 (PST) Message-ID: <69178722.050a0220.11415.9345SMTPIN_ADDED_MISSING@mx.google.com> Received: from [172.21.0.2] (unknown [172.18.0.240]) by postal.iol.unh.edu (Postfix) with ESMTP id E71BF6051830; Fri, 14 Nov 2025 14:46:41 -0500 (EST) Subject: |SUCCESS| pw158794-158812 [PATCH] [v2,19/19] vfio: introduce cdev mo From: dpdklab@iol.unh.edu To: Test Report Cc: dpdk-test-reports@iol.unh.edu In-Reply-To: <45db9c5e1589c56ed0e31a0e15390da5366ca5c2.1763142008.git.anatoly.burakov@intel.com> References: <45db9c5e1589c56ed0e31a0e15390da5366ca5c2.1763142008.git.anatoly.burakov@intel.com> Content-Type: text/plain X-BeenThere: test-report@dpdk.org X-Mailman-Version: 2.1.29 Precedence: list List-Id: automatic DPDK test reports List-Unsubscribe: , List-Archive: List-Post: List-Help: List-Subscribe: , Errors-To: test-report-bounces@dpdk.org Test-Label: iol-unit-amd64-testing Test-Status: SUCCESS http://dpdk.org/patch/158812 _Testing PASS_ Submitter: Anatoly Burakov Date: Friday, November 14 2025 17:40:29 DPDK git baseline: Repo:dpdk Branch: master CommitID:be0112878b4fc3a1b918370ed2fe615c52039d77 158794-158812 --> testing pass Upstream job id: Generic-Unit-Test-DPDK#392820 Test environment and result as below: +-------------------------------+----------------+ | Environment | dpdk_unit_test | +===============================+================+ | Fedora Linux 41 | PASS | +-------------------------------+----------------+ | Fedora Linux 40 | PASS | +-------------------------------+----------------+ | Red Hat Enterprise Linux 8.10 | PASS | +-------------------------------+----------------+ | Fedora Linux 42 | PASS | +-------------------------------+----------------+ | Debian GNU/Linux 12 | PASS | +-------------------------------+----------------+ | CentOS Stream 9 | PASS | +-------------------------------+----------------+ | Ubuntu 24.04 | PASS | +-------------------------------+----------------+ | CentOS Stream 10 | PASS | +-------------------------------+----------------+ | Red Hat Enterprise Linux 9.5 | PASS | +-------------------------------+----------------+ | Ubuntu 20.04 | PASS | +-------------------------------+----------------+ | Ubuntu 22.04 | PASS | +-------------------------------+----------------+ Fedora Linux 41 Kernel: 5.15 Compiler: clang gcc (GCC) 14.3.1 20250523 (Red Hat 14.3.1-1) Fedora Linux 40 Kernel: 5.15 Compiler: gcc gcc (GCC) 14.2.1 20240912 (Red Hat 14.2.1-3) Red Hat Enterprise Linux 8.10 Kernel: 5.15 Compiler: gcc gcc (GCC) 8.5.0 20210514 (Red Hat 8.5.0-22) Fedora Linux 42 Kernel: 5.15 Compiler: clang gcc (GCC) 15.2.1 20250808 (Red Hat 15.2.1-1) Debian GNU/Linux 12 Kernel: 5.15 Compiler: gcc gcc (Debian 12.2.0-14+deb12u1) 12.2.0 CentOS Stream 9 Kernel: 5.15 Compiler: gcc gcc (GCC) 11.5.0 20240719 (Red Hat 11.5.0-11) Ubuntu 24.04 Kernel: 5.15 Compiler: gcc gcc (Ubuntu 13.3.0-6ubuntu2~24.04) 13.3.0 CentOS Stream 10 Kernel: 5.15 Compiler: gcc gcc (GCC) 14.2.1 20250110 (Red Hat 14.2.1-8) Red Hat Enterprise Linux 9.5 Kernel: 5.15 Compiler: gcc gcc (GCC) 11.5.0 20240719 (Red Hat 11.5.0-2) Ubuntu 20.04 Kernel: 5.15 Compiler: gcc gcc (Ubuntu 9.4.0-1ubuntu1~20.04.2) 9.4.0 Ubuntu 22.04 Kernel: 5.15 Compiler: gcc gcc (Ubuntu 11.4.0-1ubuntu1~22.04) 11.4.0 To view detailed results, visit: https://lab.dpdk.org/results/dashboard/patchsets/34593/ UNH-IOL DPDK Community Lab To manage your email subscriptions, visit: https://lab.dpdk.org/results/dashboard/preferences/subscriptions/