From mboxrd@z Thu Jan 1 00:00:00 1970 Return-Path: Received: from mails.dpdk.org (mails.dpdk.org [217.70.189.124]) by inbox.dpdk.org (Postfix) with ESMTP id C192A48B0D for ; Fri, 14 Nov 2025 21:33:39 +0100 (CET) Received: from mails.dpdk.org (localhost [127.0.0.1]) by mails.dpdk.org (Postfix) with ESMTP id BD73E40E34; Fri, 14 Nov 2025 21:33:39 +0100 (CET) Received: from mail-yw1-f226.google.com (mail-yw1-f226.google.com [209.85.128.226]) by mails.dpdk.org (Postfix) with ESMTP id D777C40E34 for ; Fri, 14 Nov 2025 21:33:38 +0100 (CET) Received: by mail-yw1-f226.google.com with SMTP id 00721157ae682-787ff3f462bso34514427b3.0 for ; Fri, 14 Nov 2025 12:33:38 -0800 (PST) DKIM-Signature: v=1; a=rsa-sha256; c=relaxed/relaxed; d=iol.unh.edu; s=unh-iol; t=1763152418; x=1763757218; darn=dpdk.org; h=references:in-reply-to:cc:to:from:subject:message-id:date:from:to :cc:subject:date:message-id:reply-to; bh=ugJdPD2pL+a2FTqxs35uA0PVUHia1ITGnPNx7kEax4U=; b=g7Nc1zT8wyQ5Q1qeFaA8/ZFAmjAprhu6TdPagmbvnl/GWERYqWv/GNhKlNt2t0YfAW S68Nmk1yTvX+YX4VUhuTyuSgFTyEW+x5Q4SntLn88o1oNCuoDmGKA/Vk4Z/xyi+UFI9U Fksr/Ewe0eMM3OBYw8E1UkSbJYwZpz9Q9DbyQ= X-Google-DKIM-Signature: v=1; a=rsa-sha256; c=relaxed/relaxed; d=1e100.net; s=20230601; t=1763152418; x=1763757218; h=references:in-reply-to:cc:to:from:subject:message-id:date:x-gm-gg :x-gm-message-state:from:to:cc:subject:date:message-id:reply-to; bh=ugJdPD2pL+a2FTqxs35uA0PVUHia1ITGnPNx7kEax4U=; b=WM8prOZWGbwF6IzDWMMcdLInODUolExRJ6hZ9ZyCYxsgT2D4z8w/ntDh+1x+iVDXyR cmR3ktyXfkDzE+/NJuD2Crke8R+dy1RpH3mWqPf58oyfWHe4Tv6wzGhZyYqcdR4k1yMB Y+rJZJauG+0Gc+EOsUYe+0JDwCeCqzjmFrwb/8It7bfEJlaIOIxx6/+iom5C7K0y65SW wsoY9qfKpsXGOjkTka5xoL3lw78QKoTJKWfZjbpHZfHrVHHXZ3cmokkc56KJjum/zkIx 5taNaZ0lVoDSC+Kq2Lf0KcqIRQYn1EIg+FSwAwqXqIqS797a2ktK7Fw6aQzEqubUEiIf +pzg== X-Gm-Message-State: AOJu0Yx4P5WAjS8U91u4k39nEhIP2gdmykyxpJ7yAjQrTJWwBO/91Ygz djZLH+ijN6D2LEORbIn36W0b1qQafDHVVrCOkAc2PM1h+KunDo+gsru66vEYbVA8djJ0xOZYnBT yVCmATAzzef54h+M80PokQwLyZqP94l9X1kKfxJD1+2eugrJ+cC27T/IVnkq1 X-Gm-Gg: ASbGncuoXU3DUY4Ht9AKudY2eCyje+432KqQ1N7wFXpmOpyjtwa8xw2NrEXAEjaTUV7 zMzKJ8lJKV2gmx4axngV+mb+eolib95o+WEe8+PV+oM8qPwiPD+VWvpR9xTuLVquEHglA/F1oQK JJD2uu7FDWBfvLRmV5teBbKGDWqgc+Ya5kVCzhJrkhNr7IUXhOadEB/tKMDB4/+IuGc7Ma4LYns eo5JxuH7FYAvq4QJGQ0CGnbZQkUtZCbVtF+/v+eaEt1ASNMSsq8omuBAsHkIXHkz0AxIx2mhUj8 f5Xje2FdkBCFj15+dARWCJAhhHCSZjqzZJisR59EqKOywDFvOVhqWpYYDfcfUhxI+2FpK+nW8fS 0gCWEyx4P X-Google-Smtp-Source: AGHT+IHzuA9wKq+rcSzvjUSGQa+IO0QA8eI7s+pkUbFYfx5zSkWV+syu+Wg5qgA6wsjymMpRt2n2Y3ICnRBg X-Received: by 2002:a05:690e:418c:b0:63f:bdfa:66d with SMTP id 956f58d0204a3-641e6d716d3mr3488832d50.4.1763152418192; Fri, 14 Nov 2025 12:33:38 -0800 (PST) Received: from postal.iol.unh.edu (postal.iol.unh.edu. [2606:4100:3880:1234::84]) by smtp-relay.gmail.com with ESMTPS id 00721157ae682-78821e2867csm3083987b3.11.2025.11.14.12.33.38 (version=TLS1_2 cipher=ECDHE-ECDSA-AES128-GCM-SHA256 bits=128/128); Fri, 14 Nov 2025 12:33:38 -0800 (PST) X-Relaying-Domain: iol.unh.edu Date: Fri, 14 Nov 2025 12:33:38 -0800 (PST) Message-ID: <69179222.050a0220.16b431.f2e8SMTPIN_ADDED_MISSING@mx.google.com> Received: from [172.21.0.5] (unknown [172.18.0.240]) by postal.iol.unh.edu (Postfix) with ESMTP id CF6D86051830; Fri, 14 Nov 2025 15:33:37 -0500 (EST) Subject: |SUCCESS| pw158705 [PATCH] net/intel: ensure correct Rx path is sele From: dpdklab@iol.unh.edu To: Test Report Cc: dpdk-test-reports@iol.unh.edu, Bruce Richardson In-Reply-To: <20251112151123.3757688-1-ciara.loftus@intel.com> References: <20251112151123.3757688-1-ciara.loftus@intel.com> Content-Type: text/plain X-BeenThere: test-report@dpdk.org X-Mailman-Version: 2.1.29 Precedence: list List-Id: automatic DPDK test reports List-Unsubscribe: , List-Archive: List-Post: List-Help: List-Subscribe: , Errors-To: test-report-bounces@dpdk.org Test-Label: iol-compile-amd64-testing Test-Status: SUCCESS http://dpdk.org/patch/158705 _Testing PASS_ Submitter: Ciara Loftus Date: Wednesday, November 12 2025 15:11:23 DPDK git baseline: Repo:dpdk-next-net-intel Branch: master CommitID:c63646d076330fb2ef3282cbd413aaf93f0509e6 158705 --> testing pass Upstream job id: Windows-Compile-DPDK-Native#32330 Test environment and result as below: +-------------------------------+--------------------+------------------+-------------------+-------------------------+ | Environment | dpdk_meson_compile | dpdk_compile_ovs | dpdk_msvc_compile | dpdk_llvm_clang_compile | +===============================+====================+==================+===================+=========================+ | Ubuntu 20.04 | PASS | SKIPPED | SKIPPED | SKIPPED | +-------------------------------+--------------------+------------------+-------------------+-------------------------+ | FreeBSD 14.2 | PASS | SKIPPED | SKIPPED | SKIPPED | +-------------------------------+--------------------+------------------+-------------------+-------------------------+ | CentOS Stream 9 | PASS | SKIPPED | SKIPPED | SKIPPED | +-------------------------------+--------------------+------------------+-------------------+-------------------------+ | CentOS Stream 10 | PASS | SKIPPED | SKIPPED | SKIPPED | +-------------------------------+--------------------+------------------+-------------------+-------------------------+ | Debian GNU/Linux 12 | PASS | SKIPPED | SKIPPED | SKIPPED | +-------------------------------+--------------------+------------------+-------------------+-------------------------+ | Fedora Linux 42 | PASS | PASS | SKIPPED | SKIPPED | +-------------------------------+--------------------+------------------+-------------------+-------------------------+ | openSUSE Leap 15.6 | PASS | SKIPPED | SKIPPED | SKIPPED | +-------------------------------+--------------------+------------------+-------------------+-------------------------+ | Red Hat Enterprise Linux 8.10 | PASS | SKIPPED | SKIPPED | SKIPPED | +-------------------------------+--------------------+------------------+-------------------+-------------------------+ | Red Hat Enterprise Linux 9.5 | PASS | SKIPPED | SKIPPED | SKIPPED | +-------------------------------+--------------------+------------------+-------------------+-------------------------+ | Ubuntu 22.04 | PASS | SKIPPED | SKIPPED | SKIPPED | +-------------------------------+--------------------+------------------+-------------------+-------------------------+ | Ubuntu 24.04 | PASS | PASS | SKIPPED | SKIPPED | +-------------------------------+--------------------+------------------+-------------------+-------------------------+ | Alpine Linux 3.22.0 | PASS | SKIPPED | SKIPPED | SKIPPED | +-------------------------------+--------------------+------------------+-------------------+-------------------------+ | Windows Server 2022 | SKIPPED | SKIPPED | PASS | PASS | +-------------------------------+--------------------+------------------+-------------------+-------------------------+ Ubuntu 20.04 Kernel: 4.19 Compiler: gcc gcc (Ubuntu 9.4.0-1ubuntu1~20.04.2) 9.4.0 FreeBSD 14.2 Kernel: 14.2-RELEASE Compiler: clang 18.1.6 CentOS Stream 9 Kernel: 5.15 Compiler: gcc gcc (GCC) 11.5.0 20240719 (Red Hat 11.5.0-11) CentOS Stream 10 Kernel: 5.15 Compiler: gcc gcc (GCC) 14.2.1 20250110 (Red Hat 14.2.1-8) Debian GNU/Linux 12 Kernel: 5.15 Compiler: gcc gcc (Debian 12.2.0-14+deb12u1) 12.2.0 Fedora Linux 42 Kernel: 5.15 Compiler: clang gcc (GCC) 15.2.1 20250808 (Red Hat 15.2.1-1) openSUSE Leap 15.6 Kernel: 5.15 Compiler: gcc gcc (SUSE Linux) 7.5.0 Red Hat Enterprise Linux 8.10 Kernel: 5.15 Compiler: gcc gcc (GCC) 8.5.0 20210514 (Red Hat 8.5.0-22) Red Hat Enterprise Linux 9.5 Kernel: 5.15 Compiler: gcc gcc (GCC) 11.5.0 20240719 (Red Hat 11.5.0-2) Ubuntu 22.04 Kernel: 5.15 Compiler: gcc gcc (Ubuntu 11.4.0-1ubuntu1~22.04) 11.4.0 Ubuntu 24.04 Kernel: 5.15 Compiler: gcc gcc (Ubuntu 13.3.0-6ubuntu2~24.04) 13.3.0 Alpine Linux 3.22.0 Kernel: 5.15 Compiler: gcc gcc (Alpine 14.2.0) 14.2.0 Windows Server 2022 Kernel: 10.0.20348.2031 Compiler: clang 15.0.7, gcc 14.1.0 (MinGW), and MSVC VS 19.39.33521 To view detailed results, visit: https://lab.dpdk.org/results/dashboard/patchsets/34552/ UNH-IOL DPDK Community Lab To manage your email subscriptions, visit: https://lab.dpdk.org/results/dashboard/preferences/subscriptions/