From mboxrd@z Thu Jan 1 00:00:00 1970 Return-Path: Received: from mails.dpdk.org (mails.dpdk.org [217.70.189.124]) by inbox.dpdk.org (Postfix) with ESMTP id 9A80D48B0D for ; Fri, 14 Nov 2025 21:55:27 +0100 (CET) Received: from mails.dpdk.org (localhost [127.0.0.1]) by mails.dpdk.org (Postfix) with ESMTP id 95C7640E34; Fri, 14 Nov 2025 21:55:27 +0100 (CET) Received: from mail-pl1-f228.google.com (mail-pl1-f228.google.com [209.85.214.228]) by mails.dpdk.org (Postfix) with ESMTP id AD95240E34 for ; Fri, 14 Nov 2025 21:55:25 +0100 (CET) Received: by mail-pl1-f228.google.com with SMTP id d9443c01a7336-2984dfae043so21925405ad.0 for ; Fri, 14 Nov 2025 12:55:25 -0800 (PST) DKIM-Signature: v=1; a=rsa-sha256; c=relaxed/relaxed; d=iol.unh.edu; s=unh-iol; t=1763153725; x=1763758525; darn=dpdk.org; h=references:in-reply-to:cc:to:from:subject:message-id:date:from:to :cc:subject:date:message-id:reply-to; bh=HUYZ3WCGsXdchId5PIIGAPKJNv5sSRLMGc9gs4oTDzA=; b=gFRdg91EvFqrIyK0wrFXeB3JEsqpGOtLVJlAe9U2A6JnQbHsrauaBwsFCkZxnF9Aqz 2DbYemlErNk7NwDxmnHyg912I4TKj7O7go0mG6IOSVtxd9xT/K72UEDmazU72kSadfSZ GipFsNCD4aiAGLVnVq5CthZl5uZSMxO21zCVc= X-Google-DKIM-Signature: v=1; a=rsa-sha256; c=relaxed/relaxed; d=1e100.net; s=20230601; t=1763153725; x=1763758525; h=references:in-reply-to:cc:to:from:subject:message-id:date:x-gm-gg :x-gm-message-state:from:to:cc:subject:date:message-id:reply-to; bh=HUYZ3WCGsXdchId5PIIGAPKJNv5sSRLMGc9gs4oTDzA=; b=K7DCDZZAGyTJLjW78N2Ju5lmVhMmtRoONrMGKmC3OehWe4aosy5mUm7bTb0rRY17IT r4Cnit9rCF06B4SYfR26XGbMYPKeKsZw/MI0Tk8i41vCxvOYR1zSJWQyc28vhsHcP9xZ rqIDyD1K5+8Adz19TJCPvF8BYWAT4JPnrDwQMT8m0+F5vu/jVbQz7Zqojal4ZJX54rF6 HK4obhKo7Pran97KfRyaeESmRPoUTT4kldGUE/lf+5Eyt/uGi9e0yFhnFI7daghBrtaD Rop/w1WC0BkqqTPh/8N2KearMAoqkdbVSTD4vg4j4kvzV7dgt7MoVmtQS7Muaa4m4Cy8 rzsA== X-Gm-Message-State: AOJu0Yw5erEBOgUvuEpyGI+JtsC/DidqEH0Sa05qYOirvM5WgFOYSlzj 5S5RxXiYKKnvsPCObUUxepZxGPGVJoUbf35zhU3Tafk3uBfu6IZtIK/8xWHtrcqMDU9HiUhVel1 XeFcPLh6TPE6xyktB5ittTsAeIYHOjmkfCOWP4hoHrd/UqeweasjRatg4IUU/ X-Gm-Gg: ASbGnctaI3+BlQ96aV9WBp9fA1ygBgutQvMKgS3w25ZIbDqdn+w98Kz59lC83+tJKqO bnUM9VOx/TUDfbb5Zwdsnm2e4hfpOeK0qFljZXJSsL3tPF4xJlW6naDsDDUIEBxrU83bAHIFpe5 OvpnZr+KizKln1biLb0MNAPB/wTF/pZaRy6FbtfuHP+TzMf70s87mfOp99MmK0edof5Dp9SN8BF wiWYNquvXaheHllgN8M5BW5WTiaMkM9+GVUgHJKotE/MN7TsCD1IWoyezJlnp9s92YArGTwM2el D60BnQ8c5G+4KhVKF9UuSN4Yn6bo0VhpF89vMLkV/2TiFKd3eRyJztIwqlpF8PYIgB159KoYmix 7DUIE8P/v X-Google-Smtp-Source: AGHT+IGAFCxTdYMghpPDMLOzCs4bP0sjnO4FBCW2JCBy0xF4KZOmqwcLVV5OPnL9Duu+VlYWFahDvus6ltLz X-Received: by 2002:a17:903:230a:b0:295:94e1:91da with SMTP id d9443c01a7336-2986a73b093mr48973625ad.33.1763153724922; Fri, 14 Nov 2025 12:55:24 -0800 (PST) Received: from postal.iol.unh.edu (postal.iol.unh.edu. [2606:4100:3880:1234::84]) by smtp-relay.gmail.com with ESMTPS id d9443c01a7336-2985c241b8dsm6804355ad.17.2025.11.14.12.55.24 (version=TLS1_2 cipher=ECDHE-ECDSA-AES128-GCM-SHA256 bits=128/128); Fri, 14 Nov 2025 12:55:24 -0800 (PST) X-Relaying-Domain: iol.unh.edu Date: Fri, 14 Nov 2025 12:55:24 -0800 (PST) Message-ID: <6917973c.170a0220.1594e3.24aaSMTPIN_ADDED_MISSING@mx.google.com> Received: from [172.21.0.16] (unknown [172.18.0.240]) by postal.iol.unh.edu (Postfix) with ESMTP id 5B4D46050A61; Fri, 14 Nov 2025 15:55:24 -0500 (EST) Subject: |SUCCESS| pw158780-158781 [PATCH] [2/2] dts: shorten a too long line From: dpdklab@iol.unh.edu To: Test Report Cc: dpdk-test-reports@iol.unh.edu In-Reply-To: <20251113232954.273454-3-probb@iol.unh.edu> References: <20251113232954.273454-3-probb@iol.unh.edu> Content-Type: text/plain X-BeenThere: test-report@dpdk.org X-Mailman-Version: 2.1.29 Precedence: list List-Id: automatic DPDK test reports List-Unsubscribe: , List-Archive: List-Post: List-Help: List-Subscribe: , Errors-To: test-report-bounces@dpdk.org Test-Label: iol-compile-amd64-testing Test-Status: SUCCESS http://dpdk.org/patch/158781 _Testing PASS_ Submitter: Patrick Robb Date: Thursday, November 13 2025 23:29:54 DPDK git baseline: Repo:dpdk-next-dts Branch: master CommitID:8dcc93a520b22330e0ad59d360a4594b854f9ddd 158780-158781 --> testing pass Upstream job id: Generic-DPDK-Compile-Meson#444386 Test environment and result as below: +-------------------------------+--------------------+------------------+-------------------+ | Environment | dpdk_meson_compile | dpdk_compile_ovs | dpdk_msvc_compile | +===============================+====================+==================+===================+ | Ubuntu 20.04 | PASS | SKIPPED | SKIPPED | +-------------------------------+--------------------+------------------+-------------------+ | FreeBSD 14.2 | PASS | SKIPPED | SKIPPED | +-------------------------------+--------------------+------------------+-------------------+ | CentOS Stream 9 | PASS | SKIPPED | SKIPPED | +-------------------------------+--------------------+------------------+-------------------+ | CentOS Stream 10 | PASS | SKIPPED | SKIPPED | +-------------------------------+--------------------+------------------+-------------------+ | Debian GNU/Linux 12 | PASS | SKIPPED | SKIPPED | +-------------------------------+--------------------+------------------+-------------------+ | Fedora Linux 42 | PASS | PASS | SKIPPED | +-------------------------------+--------------------+------------------+-------------------+ | openSUSE Leap 15.6 | PASS | SKIPPED | SKIPPED | +-------------------------------+--------------------+------------------+-------------------+ | Red Hat Enterprise Linux 8.10 | PASS | SKIPPED | SKIPPED | +-------------------------------+--------------------+------------------+-------------------+ | Red Hat Enterprise Linux 9.5 | PASS | SKIPPED | SKIPPED | +-------------------------------+--------------------+------------------+-------------------+ | Ubuntu 22.04 | PASS | SKIPPED | SKIPPED | +-------------------------------+--------------------+------------------+-------------------+ | Ubuntu 24.04 | PASS | PASS | SKIPPED | +-------------------------------+--------------------+------------------+-------------------+ | Alpine Linux 3.22.0 | PASS | SKIPPED | SKIPPED | +-------------------------------+--------------------+------------------+-------------------+ | Windows Server 2022 | SKIPPED | SKIPPED | PASS | +-------------------------------+--------------------+------------------+-------------------+ Ubuntu 20.04 Kernel: 4.19 Compiler: gcc gcc (Ubuntu 9.4.0-1ubuntu1~20.04.2) 9.4.0 FreeBSD 14.2 Kernel: 14.2-RELEASE Compiler: clang 18.1.6 CentOS Stream 9 Kernel: 5.15 Compiler: gcc gcc (GCC) 11.5.0 20240719 (Red Hat 11.5.0-11) CentOS Stream 10 Kernel: 5.15 Compiler: gcc gcc (GCC) 14.2.1 20250110 (Red Hat 14.2.1-8) Debian GNU/Linux 12 Kernel: 5.15 Compiler: gcc gcc (Debian 12.2.0-14+deb12u1) 12.2.0 Fedora Linux 42 Kernel: 5.15 Compiler: clang gcc (GCC) 15.2.1 20250808 (Red Hat 15.2.1-1) openSUSE Leap 15.6 Kernel: 5.15 Compiler: gcc gcc (SUSE Linux) 7.5.0 Red Hat Enterprise Linux 8.10 Kernel: 5.15 Compiler: gcc gcc (GCC) 8.5.0 20210514 (Red Hat 8.5.0-22) Red Hat Enterprise Linux 9.5 Kernel: 5.15 Compiler: gcc gcc (GCC) 11.5.0 20240719 (Red Hat 11.5.0-2) Ubuntu 22.04 Kernel: 5.15 Compiler: gcc gcc (Ubuntu 11.4.0-1ubuntu1~22.04) 11.4.0 Ubuntu 24.04 Kernel: 5.15 Compiler: gcc gcc (Ubuntu 13.3.0-6ubuntu2~24.04) 13.3.0 Alpine Linux 3.22.0 Kernel: 5.15 Compiler: gcc gcc (Alpine 14.2.0) 14.2.0 Windows Server 2022 Kernel: 10.0.20348.2031 Compiler: clang 15.0.7, gcc 14.1.0 (MinGW), and MSVC VS 19.39.33521 To view detailed results, visit: https://lab.dpdk.org/results/dashboard/patchsets/34586/ UNH-IOL DPDK Community Lab To manage your email subscriptions, visit: https://lab.dpdk.org/results/dashboard/preferences/subscriptions/