From mboxrd@z Thu Jan 1 00:00:00 1970 Return-Path: Received: from mails.dpdk.org (mails.dpdk.org [217.70.189.124]) by inbox.dpdk.org (Postfix) with ESMTP id 886C148B0E for ; Fri, 14 Nov 2025 22:11:44 +0100 (CET) Received: from mails.dpdk.org (localhost [127.0.0.1]) by mails.dpdk.org (Postfix) with ESMTP id 730ED4067E; Fri, 14 Nov 2025 22:11:44 +0100 (CET) Received: from mail-io1-f99.google.com (mail-io1-f99.google.com [209.85.166.99]) by mails.dpdk.org (Postfix) with ESMTP id 1520B4067E for ; Fri, 14 Nov 2025 22:11:44 +0100 (CET) Received: by mail-io1-f99.google.com with SMTP id ca18e2360f4ac-9486354dcb2so102032539f.3 for ; Fri, 14 Nov 2025 13:11:44 -0800 (PST) DKIM-Signature: v=1; a=rsa-sha256; c=relaxed/relaxed; d=iol.unh.edu; s=unh-iol; t=1763154703; x=1763759503; darn=dpdk.org; h=references:in-reply-to:cc:to:from:subject:message-id:date:from:to :cc:subject:date:message-id:reply-to; bh=iSRowV3Fzb4k4RBbUrV3W27QSgarFBRuQgc51qJMsZg=; b=V493wdpIwJClZEEro9VcHTiBZTzhQ5XuJDnAlj4KwFlULzeBMFQSVE9RxTtI4aXyBa 2uHvIhf4F7jzDVkUrfQCceZteouANTuKjUeyb9B7qTVbHCnONwGOz9s/7O5IHXiZBqm6 Qt4O0D5cQDOqWWdFlHGim42btyK5S6uGNP0Qw= X-Google-DKIM-Signature: v=1; a=rsa-sha256; c=relaxed/relaxed; d=1e100.net; s=20230601; t=1763154703; x=1763759503; h=references:in-reply-to:cc:to:from:subject:message-id:date:x-gm-gg :x-gm-message-state:from:to:cc:subject:date:message-id:reply-to; bh=iSRowV3Fzb4k4RBbUrV3W27QSgarFBRuQgc51qJMsZg=; b=hg+RmGqErqnS0vrtH+NCgIbOYsk9gd+KqHvwFdkDUgll3WaLWcwB4SgGhEHc5eiKNb bpy3//FMJKFs/DKTFkTjagb+xqMFtyjB+w7JIw5zJvUpw88E0uB+99GxQnKxfKuBGf1X NrjQO8Pkny9BTe+OW7CPvfRE3owrOykW4zmAylkyoXr7pT4oQhirtjdO48IfCbltfHdT nJYzRsV5aUc0nHM/sRjlCOZaUsUh+68DDEKaUm0hBq3gjrmclQ/hORrmWlikyGQeVJyO Mc+PynxqnIBDkH0852VqQGD0odp2JTp94svUNLTeX6XiX2rRvHbJ5Zwny/Mt37Hjd0ev SgXg== X-Gm-Message-State: AOJu0YxqGHR9ZhIwcozZ1ITbUSc5Gsc+3zq/aGV0jE4q/fTZpVrPH0vj rkPjs12xvitR+NxCyNSyzvcFVmZLxncmbT7KmfGR5rkEMIkjxFy1gF74YBf6c44bGITdkNh0rGe 3PSGxSwJcMEWJyDaQ2pvwsM+BlQsKWDLqshAFmf4fiVl9 X-Gm-Gg: ASbGncvzKjmq9YK/2QD2Sqn6fiUj1913UU/auR+7uVuplBqGs8Ip2xiAWDttabklta7 MG7CjxfW6tCeQjhC3wvYSaAXTpImn3rqdeUVzBAEH6ZLkuSfvW+OVm/65QMYRLRrj2fohg4q8TJ 6n6InnmEN/twco96yz8v1lXYqUP0oCpE+pohEy080hi1JRjEr+EJlpjFBCFimweb4Ac8xYSGeJw w4/6eU93lh7F1WjjKSQmk3pX/Ad6Mi0UwfULxe86mL8sMOsn2fgIJ21zwWD00aH5SanIiCb6wYW BosbfY5fRVWNVqKv/Dlfb5Ndv1UO23GV3KsqwSixJkNJeqG8USxBpHPClUbUZhDlLg+UcifmWKH Nyaz3lXiV32rGz9a8pu9Jrc6ZwMV6wLI= X-Google-Smtp-Source: AGHT+IFnZ37AvYftyOaHOpU/xdNug7FDMl1TB/4XLYSYABpHiF70TIn9TIRxhRCmhYjcjBg5nJ501DlSiO1o X-Received: by 2002:a05:6602:1344:b0:945:a1fc:a7a5 with SMTP id ca18e2360f4ac-948e0defd6amr588208839f.11.1763154703250; Fri, 14 Nov 2025 13:11:43 -0800 (PST) Received: from postal.iol.unh.edu (postal.iol.unh.edu. [132.177.123.84]) by smtp-relay.gmail.com with ESMTPS id ca18e2360f4ac-948d2bb758bsm34861939f.5.2025.11.14.13.11.43 (version=TLS1_2 cipher=ECDHE-ECDSA-AES128-GCM-SHA256 bits=128/128); Fri, 14 Nov 2025 13:11:43 -0800 (PST) X-Relaying-Domain: iol.unh.edu Date: Fri, 14 Nov 2025 13:11:43 -0800 (PST) Message-ID: <69179b0f.6b0a0220.1a3917.124cSMTPIN_ADDED_MISSING@mx.google.com> Received: from [172.21.0.3] (unknown [172.18.0.240]) by postal.iol.unh.edu (Postfix) with ESMTP id 7D5C96050A61; Fri, 14 Nov 2025 16:11:42 -0500 (EST) Subject: |SUCCESS| pw158813 [PATCH] [v2] net/mlx5: fix warning from uninitial From: dpdklab@iol.unh.edu To: Test Report Cc: dpdk-test-reports@iol.unh.edu In-Reply-To: <20251114174912.1103626-1-stephen@networkplumber.org> References: <20251114174912.1103626-1-stephen@networkplumber.org> Content-Type: text/plain X-BeenThere: test-report@dpdk.org X-Mailman-Version: 2.1.29 Precedence: list List-Id: automatic DPDK test reports List-Unsubscribe: , List-Archive: List-Post: List-Help: List-Subscribe: , Errors-To: test-report-bounces@dpdk.org Test-Label: iol-unit-amd64-testing Test-Status: SUCCESS http://dpdk.org/patch/158813 _Testing PASS_ Submitter: Stephen Hemminger Date: Friday, November 14 2025 17:49:12 DPDK git baseline: Repo:dpdk-next-net-mlx Branch: master CommitID:ae657d56b1f0ea979b3f611edf28d773efc2ddcf 158813 --> testing pass Upstream job id: Generic-Unit-Test-DPDK#392846 Test environment and result as below: +-------------------------------+----------------+ | Environment | dpdk_unit_test | +===============================+================+ | Debian GNU/Linux 12 | PASS | +-------------------------------+----------------+ | Fedora Linux 40 | PASS | +-------------------------------+----------------+ | CentOS Stream 10 | PASS | +-------------------------------+----------------+ | CentOS Stream 9 | PASS | +-------------------------------+----------------+ | Fedora Linux 41 | PASS | +-------------------------------+----------------+ | Red Hat Enterprise Linux 9.5 | PASS | +-------------------------------+----------------+ | Fedora Linux 42 | PASS | +-------------------------------+----------------+ | Red Hat Enterprise Linux 8.10 | PASS | +-------------------------------+----------------+ | Ubuntu 20.04 | PASS | +-------------------------------+----------------+ | Ubuntu 22.04 | PASS | +-------------------------------+----------------+ | Ubuntu 24.04 | PASS | +-------------------------------+----------------+ Debian GNU/Linux 12 Kernel: 5.15 Compiler: gcc gcc (Debian 12.2.0-14+deb12u1) 12.2.0 Fedora Linux 40 Kernel: 5.15 Compiler: gcc gcc (GCC) 14.2.1 20240912 (Red Hat 14.2.1-3) CentOS Stream 10 Kernel: 5.15 Compiler: gcc gcc (GCC) 14.2.1 20250110 (Red Hat 14.2.1-8) CentOS Stream 9 Kernel: 5.15 Compiler: gcc gcc (GCC) 11.5.0 20240719 (Red Hat 11.5.0-11) Fedora Linux 41 Kernel: 5.15 Compiler: gcc gcc (GCC) 14.3.1 20250523 (Red Hat 14.3.1-1) Red Hat Enterprise Linux 9.5 Kernel: 5.15 Compiler: gcc gcc (GCC) 11.5.0 20240719 (Red Hat 11.5.0-2) Fedora Linux 42 Kernel: 5.15 Compiler: gcc gcc (GCC) 15.2.1 20250808 (Red Hat 15.2.1-1) Red Hat Enterprise Linux 8.10 Kernel: 5.15 Compiler: gcc gcc (GCC) 8.5.0 20210514 (Red Hat 8.5.0-22) Ubuntu 20.04 Kernel: 5.15 Compiler: gcc gcc (Ubuntu 9.4.0-1ubuntu1~20.04.2) 9.4.0 Ubuntu 22.04 Kernel: 5.15 Compiler: gcc gcc (Ubuntu 11.4.0-1ubuntu1~22.04) 11.4.0 Ubuntu 24.04 Kernel: 5.15 Compiler: gcc gcc (Ubuntu 13.3.0-6ubuntu2~24.04) 13.3.0 To view detailed results, visit: https://lab.dpdk.org/results/dashboard/patchsets/34595/ UNH-IOL DPDK Community Lab To manage your email subscriptions, visit: https://lab.dpdk.org/results/dashboard/preferences/subscriptions/