From mboxrd@z Thu Jan 1 00:00:00 1970 Return-Path: Received: from mails.dpdk.org (mails.dpdk.org [217.70.189.124]) by inbox.dpdk.org (Postfix) with ESMTP id 7CAD048B0E for ; Fri, 14 Nov 2025 22:29:35 +0100 (CET) Received: from mails.dpdk.org (localhost [127.0.0.1]) by mails.dpdk.org (Postfix) with ESMTP id 596074067E; Fri, 14 Nov 2025 22:29:35 +0100 (CET) Received: from mail-yw1-f227.google.com (mail-yw1-f227.google.com [209.85.128.227]) by mails.dpdk.org (Postfix) with ESMTP id 26BB94067E for ; Fri, 14 Nov 2025 22:29:34 +0100 (CET) Received: by mail-yw1-f227.google.com with SMTP id 00721157ae682-7866bca6765so23934727b3.1 for ; Fri, 14 Nov 2025 13:29:34 -0800 (PST) DKIM-Signature: v=1; a=rsa-sha256; c=relaxed/relaxed; d=iol.unh.edu; s=unh-iol; t=1763155773; x=1763760573; darn=dpdk.org; h=references:in-reply-to:cc:to:from:subject:message-id:date:from:to :cc:subject:date:message-id:reply-to; bh=d58xzAqAlTUgi5yy8aTrHaaIpDHAzxG/IZMD/ygfP68=; b=D/prJ1Oj1jhxOMQI7bKi1O+PyFb5RIYevRqJEJcbeZE37UIztLLaDyhBT2ERHcM0km uAQGqNA3q7ycjd1h+JM1LEOQeTT6oMb4uy124kF6LTy7i/RT6zbb/u6gxKHSn0Ag9l1q wVAO7uMNJDodQ65ZUIrwVTSbsBObTBZmolVzE= X-Google-DKIM-Signature: v=1; a=rsa-sha256; c=relaxed/relaxed; d=1e100.net; s=20230601; t=1763155773; x=1763760573; h=references:in-reply-to:cc:to:from:subject:message-id:date:x-gm-gg :x-gm-message-state:from:to:cc:subject:date:message-id:reply-to; bh=d58xzAqAlTUgi5yy8aTrHaaIpDHAzxG/IZMD/ygfP68=; b=hsdMuH0H5UdLX9OkKD4v1HUFbf9rYYI4PX6vG9XADOpP71XFa2KagSMtnf6z2qqY2V bbGiaruFXPkODTYff5n6YqtieE3wJMTpQo8L1DGiImBk7TEY+apD/hP/df/IXXXZmdt1 RuTut42caiG/NTsmaEQnKDybMAX8IBmDuV9iBxkiuPVITeWOTCKR4wUj6TZrX4lNo7Sx wOXalJLuSzD+cxODxms9w1ikDhJ+F7xIh7YwsFxJea+E07WiR8Z36V49Wso3aWpr3Ibu bQznVSs6/9G02sb8LM8xbDMuVjpQ5uqUlCCDSU9Mg6SJIFT3m2bw3+usKr1KYbU8v3HA WKlw== X-Gm-Message-State: AOJu0YzD5JySKF+4IGl7WzW9LCFhuLTGPbuHc9yrjGDDaFGJeaaerT/h FZaZerFc4o9xS4jE3F8ryPksyb+fGUkg9jcdX9OZ8gkBIIX16Ru5LTL2Gn8E9LJnaX3D6+V2JdQ s+y+qSsdE9Qg7GwQApg7EA7mreQ+tDxu8TzVN3cO41E5i5ew8P5O2nfCx5CPT X-Gm-Gg: ASbGnctXh/coE8KiKkoeZSoibNQqSXxuDMZTHf6mg2u7OaAdYDCsqyP13bG97U6s9Nw 4KfiRU8oLRc17S8jDs3nYqRK1gkQ4TLeA0SedZgP8JpKA4DaiswDmZMDsic4LX6ZZQo6sFNravc 8EEuoRRpWoIm3VR2dXM5YHdkJkRzI20Q87RR8mXOZE8PeFYozrfq6XN69beKfe0qSP3H8qEtz6q 7SuBioP/Be4A7MJWtsYKsLckr9yglgUsSiqfuo8HWkNNg/cttEUUWejTZNxYxfgfrNIWThP+6de pmrAMWgneNckiNFIIueMQi+8Yp5Ol/pJcl+K3vutrBvR3Rec/2ImZgHPEyeGR9KCx6FWqepQIY5 d/z3AdyKJ X-Google-Smtp-Source: AGHT+IG6NAfh3CLactWur6r+lFNYwmuRpSWcNjhoFYKuWr0X3q21fm5q3z0ANVLsHbBPhmvdUg/2XRoMnaAO X-Received: by 2002:a05:690c:6d91:b0:787:fec5:7072 with SMTP id 00721157ae682-78929ef3fdcmr35194677b3.57.1763155773383; Fri, 14 Nov 2025 13:29:33 -0800 (PST) Received: from postal.iol.unh.edu (postal.iol.unh.edu. [2606:4100:3880:1234::84]) by smtp-relay.gmail.com with ESMTPS id 00721157ae682-78821fdaf54sm3404787b3.29.2025.11.14.13.29.33 (version=TLS1_2 cipher=ECDHE-ECDSA-AES128-GCM-SHA256 bits=128/128); Fri, 14 Nov 2025 13:29:33 -0800 (PST) X-Relaying-Domain: iol.unh.edu Date: Fri, 14 Nov 2025 13:29:33 -0800 (PST) Message-ID: <69179f3d.050a0220.ec5d9.0721SMTPIN_ADDED_MISSING@mx.google.com> Received: from [172.21.0.4] (unknown [172.18.0.240]) by postal.iol.unh.edu (Postfix) with ESMTP id 0E79D6050A61; Fri, 14 Nov 2025 16:29:32 -0500 (EST) Subject: |SUCCESS| pw158782 [PATCH] examples/ipsec-secgw: add support for SM4 From: dpdklab@iol.unh.edu To: Test Report Cc: dpdk-test-reports@iol.unh.edu In-Reply-To: <20251114014616.43476-1-sunyang.wu@jaguarmicro.com> References: <20251114014616.43476-1-sunyang.wu@jaguarmicro.com> Content-Type: text/plain X-BeenThere: test-report@dpdk.org X-Mailman-Version: 2.1.29 Precedence: list List-Id: automatic DPDK test reports List-Unsubscribe: , List-Archive: List-Post: List-Help: List-Subscribe: , Errors-To: test-report-bounces@dpdk.org Test-Label: iol-compile-amd64-testing Test-Status: SUCCESS http://dpdk.org/patch/158782 _Testing PASS_ Submitter: Sunyang Wu Date: Friday, November 14 2025 01:46:16 DPDK git baseline: Repo:dpdk Branch: master CommitID:be0112878b4fc3a1b918370ed2fe615c52039d77 158782 --> testing pass Upstream job id: Windows-Compile-DPDK-VS#7553 Test environment and result as below: +---------------------+--------------------+-------------------+ | Environment | dpdk_meson_compile | dpdk_msvc_compile | +=====================+====================+===================+ | Ubuntu 20.04 | PASS | SKIPPED | +---------------------+--------------------+-------------------+ | FreeBSD 14.2 | PASS | SKIPPED | +---------------------+--------------------+-------------------+ | CentOS Stream 9 | PASS | SKIPPED | +---------------------+--------------------+-------------------+ | Windows Server 2022 | SKIPPED | PASS | +---------------------+--------------------+-------------------+ Ubuntu 20.04 Kernel: 4.19 Compiler: gcc gcc (Ubuntu 9.4.0-1ubuntu1~20.04.2) 9.4.0 FreeBSD 14.2 Kernel: 14.2-RELEASE Compiler: clang 18.1.6 CentOS Stream 9 Kernel: 5.15 Compiler: gcc gcc (GCC) 11.5.0 20240719 (Red Hat 11.5.0-11) Windows Server 2022 Kernel: 10.0.20348.2031 Compiler: clang 15.0.7, gcc 14.1.0 (MinGW), and MSVC VS 19.39.33521 To view detailed results, visit: https://lab.dpdk.org/results/dashboard/patchsets/34588/ UNH-IOL DPDK Community Lab To manage your email subscriptions, visit: https://lab.dpdk.org/results/dashboard/preferences/subscriptions/