From mboxrd@z Thu Jan 1 00:00:00 1970 Return-Path: Received: from mails.dpdk.org (mails.dpdk.org [217.70.189.124]) by inbox.dpdk.org (Postfix) with ESMTP id EF00B48B0E for ; Fri, 14 Nov 2025 22:33:31 +0100 (CET) Received: from mails.dpdk.org (localhost [127.0.0.1]) by mails.dpdk.org (Postfix) with ESMTP id E8352400D6; Fri, 14 Nov 2025 22:33:31 +0100 (CET) Received: from mail-yw1-f228.google.com (mail-yw1-f228.google.com [209.85.128.228]) by mails.dpdk.org (Postfix) with ESMTP id 9584E400D6 for ; Fri, 14 Nov 2025 22:33:30 +0100 (CET) Received: by mail-yw1-f228.google.com with SMTP id 00721157ae682-787eb2d86bfso26120607b3.2 for ; Fri, 14 Nov 2025 13:33:30 -0800 (PST) DKIM-Signature: v=1; a=rsa-sha256; c=relaxed/relaxed; d=iol.unh.edu; s=unh-iol; t=1763156010; x=1763760810; darn=dpdk.org; h=references:in-reply-to:cc:to:from:subject:message-id:date:from:to :cc:subject:date:message-id:reply-to; bh=przzjqoqOJF3qW6/2HCp/Ge0rgV/mE4IxuDAWrEz+lc=; b=afta65GlOQSmzDA180Uxm4U+2ES4dUcckplTfW9GorqSdeago04Xz3GQhBFME8sGp+ 4tuNRORC2YXdzjwsWdHivDBiByG4xBtEdDpRkOvkH3J4Tk7ieJ2kBmsfweJKody1e8AQ 4FmKtxWfUcYteGV869PM8nAaYScUEHltxIv1M= X-Google-DKIM-Signature: v=1; a=rsa-sha256; c=relaxed/relaxed; d=1e100.net; s=20230601; t=1763156010; x=1763760810; h=references:in-reply-to:cc:to:from:subject:message-id:date:x-gm-gg :x-gm-message-state:from:to:cc:subject:date:message-id:reply-to; bh=przzjqoqOJF3qW6/2HCp/Ge0rgV/mE4IxuDAWrEz+lc=; b=Lyq6xsSfSSNg26cIU7D4LFEiNuwJ+P+oZIThSySNHa+A2pEl8K2ef/0FvMWIzkyKDw yIDOwZof40s2p3eKy9m7NzdiEsGxaqrFQ9o9rMRWto3yLuH6BXHBQSZt4NX9b81q/szq 8f/NAxVdVWt4dNceVUaQFIr6dHTGSamho2gfWIiQWjEeo0eifqgZBosO6sM856GLWlfx mo19AkMogCkDDD+YSwRE/ZC/mHq4x5Xie/14qWJE2APGf0b5zCipQrdsYT7MPd44fgtI 1sP+nF80ZByfDXI0u6KLSLwo51/2tsiPSkRZ79pjEOWvCcI1aDJrkjTw2qJnqv7rf0/L FG3Q== X-Gm-Message-State: AOJu0YwvDxxZMWyqYaovhWUEi6AmimqKhCaEHk8Kv6U7mph9stb7Tz8T VagomMbEaLNv1E4uQZ0btj/0L9RGazSUhX1KfCX3iMCKe92qHeLM8uFkTl/kSSX/YBc+NF8CQ6v AYghboqxtY7rKBtafmhNn/Gt3/fq5qNzMbc5vZILOWxCq X-Gm-Gg: ASbGncv14bxdbuDz0W3DRZmjS3/4f65TkPoE715PkVrouQ0sraOA/4lVNFyvut70buq +68+sHeQAR4fMLUXXrT1OErO+Rapx2foFs4Itptzp5+MHpsJCOBoyaR0R1Dgk6LtGAOTlmsiTiI TMyCQThuxIhYCENwu6W6IuSbeC7SMMoCfPHefKqM5718O8Hp2TKpEC9rZtiAYCOuUPWU4fJdO/G swA2pejwErP65CbVASQNECTTt3JqsKHlFcfQ60FhuHcODgj82mi+AtXgn/6KiYUvGoefdLFMnKP 7FzXwm7BrC+L2fFhaZHjUv6raGD8mc6IGlES3eCx120UC+DGVncIdk13owOXDygLqJZUb85vgBG 5dVIUjw/2fqSU1+4R/glvSeODOH3kdOI= X-Google-Smtp-Source: AGHT+IHsRENeY80vI9W8g5O+uNh/WjIgRFppcUln1OGNGXQ3GQJa4bJLSe3vsEL0p3g0Wmtl0LTrW4zpZz5y X-Received: by 2002:a05:690e:2445:b0:63f:b9d1:b152 with SMTP id 956f58d0204a3-641e74e0ff7mr3013550d50.21.1763156009914; Fri, 14 Nov 2025 13:33:29 -0800 (PST) Received: from postal.iol.unh.edu (postal.iol.unh.edu. [132.177.123.84]) by smtp-relay.gmail.com with ESMTPS id 956f58d0204a3-6410e9eb3ebsm429523d50.1.2025.11.14.13.33.29 (version=TLS1_2 cipher=ECDHE-ECDSA-AES128-GCM-SHA256 bits=128/128); Fri, 14 Nov 2025 13:33:29 -0800 (PST) X-Relaying-Domain: iol.unh.edu Date: Fri, 14 Nov 2025 13:33:29 -0800 (PST) Message-ID: <6917a029.050a0220.2b4fde.4ec5SMTPIN_ADDED_MISSING@mx.google.com> Received: from [172.21.0.4] (unknown [172.18.0.240]) by postal.iol.unh.edu (Postfix) with ESMTP id 916396051830; Fri, 14 Nov 2025 16:33:29 -0500 (EST) Subject: |SUCCESS| pw158705 [PATCH] net/intel: ensure correct Rx path is sele From: dpdklab@iol.unh.edu To: Test Report Cc: dpdk-test-reports@iol.unh.edu, Bruce Richardson In-Reply-To: <20251112151123.3757688-1-ciara.loftus@intel.com> References: <20251112151123.3757688-1-ciara.loftus@intel.com> Content-Type: text/plain X-BeenThere: test-report@dpdk.org X-Mailman-Version: 2.1.29 Precedence: list List-Id: automatic DPDK test reports List-Unsubscribe: , List-Archive: List-Post: List-Help: List-Subscribe: , Errors-To: test-report-bounces@dpdk.org Test-Label: iol-compile-amd64-testing Test-Status: SUCCESS http://dpdk.org/patch/158705 _Testing PASS_ Submitter: Ciara Loftus Date: Wednesday, November 12 2025 15:11:23 DPDK git baseline: Repo:dpdk-next-net-intel Branch: master CommitID:c63646d076330fb2ef3282cbd413aaf93f0509e6 158705 --> testing pass Upstream job id: Windows-Compile-DPDK-Native#32331 Test environment and result as below: +-------------------------------+--------------------+------------------+-------------------+-------------------------+----------------------+ | Environment | dpdk_meson_compile | dpdk_compile_ovs | dpdk_msvc_compile | dpdk_llvm_clang_compile | dpdk_mingw64_compile | +===============================+====================+==================+===================+=========================+======================+ | Ubuntu 20.04 | PASS | SKIPPED | SKIPPED | SKIPPED | SKIPPED | +-------------------------------+--------------------+------------------+-------------------+-------------------------+----------------------+ | FreeBSD 14.2 | PASS | SKIPPED | SKIPPED | SKIPPED | SKIPPED | +-------------------------------+--------------------+------------------+-------------------+-------------------------+----------------------+ | CentOS Stream 9 | PASS | SKIPPED | SKIPPED | SKIPPED | SKIPPED | +-------------------------------+--------------------+------------------+-------------------+-------------------------+----------------------+ | CentOS Stream 10 | PASS | SKIPPED | SKIPPED | SKIPPED | SKIPPED | +-------------------------------+--------------------+------------------+-------------------+-------------------------+----------------------+ | Debian GNU/Linux 12 | PASS | SKIPPED | SKIPPED | SKIPPED | SKIPPED | +-------------------------------+--------------------+------------------+-------------------+-------------------------+----------------------+ | Fedora Linux 42 | PASS | PASS | SKIPPED | SKIPPED | SKIPPED | +-------------------------------+--------------------+------------------+-------------------+-------------------------+----------------------+ | openSUSE Leap 15.6 | PASS | SKIPPED | SKIPPED | SKIPPED | SKIPPED | +-------------------------------+--------------------+------------------+-------------------+-------------------------+----------------------+ | Red Hat Enterprise Linux 8.10 | PASS | SKIPPED | SKIPPED | SKIPPED | SKIPPED | +-------------------------------+--------------------+------------------+-------------------+-------------------------+----------------------+ | Red Hat Enterprise Linux 9.5 | PASS | SKIPPED | SKIPPED | SKIPPED | SKIPPED | +-------------------------------+--------------------+------------------+-------------------+-------------------------+----------------------+ | Ubuntu 22.04 | PASS | SKIPPED | SKIPPED | SKIPPED | SKIPPED | +-------------------------------+--------------------+------------------+-------------------+-------------------------+----------------------+ | Ubuntu 24.04 | PASS | PASS | SKIPPED | SKIPPED | SKIPPED | +-------------------------------+--------------------+------------------+-------------------+-------------------------+----------------------+ | Alpine Linux 3.22.0 | PASS | SKIPPED | SKIPPED | SKIPPED | SKIPPED | +-------------------------------+--------------------+------------------+-------------------+-------------------------+----------------------+ | Windows Server 2022 | SKIPPED | SKIPPED | PASS | PASS | PASS | +-------------------------------+--------------------+------------------+-------------------+-------------------------+----------------------+ Ubuntu 20.04 Kernel: 4.19 Compiler: gcc gcc (Ubuntu 9.4.0-1ubuntu1~20.04.2) 9.4.0 FreeBSD 14.2 Kernel: 14.2-RELEASE Compiler: clang 18.1.6 CentOS Stream 9 Kernel: 5.15 Compiler: gcc gcc (GCC) 11.5.0 20240719 (Red Hat 11.5.0-11) CentOS Stream 10 Kernel: 5.15 Compiler: gcc gcc (GCC) 14.2.1 20250110 (Red Hat 14.2.1-8) Debian GNU/Linux 12 Kernel: 5.15 Compiler: gcc gcc (Debian 12.2.0-14+deb12u1) 12.2.0 Fedora Linux 42 Kernel: 5.15 Compiler: clang gcc (GCC) 15.2.1 20250808 (Red Hat 15.2.1-1) openSUSE Leap 15.6 Kernel: 5.15 Compiler: gcc gcc (SUSE Linux) 7.5.0 Red Hat Enterprise Linux 8.10 Kernel: 5.15 Compiler: gcc gcc (GCC) 8.5.0 20210514 (Red Hat 8.5.0-22) Red Hat Enterprise Linux 9.5 Kernel: 5.15 Compiler: gcc gcc (GCC) 11.5.0 20240719 (Red Hat 11.5.0-2) Ubuntu 22.04 Kernel: 5.15 Compiler: gcc gcc (Ubuntu 11.4.0-1ubuntu1~22.04) 11.4.0 Ubuntu 24.04 Kernel: 5.15 Compiler: gcc gcc (Ubuntu 13.3.0-6ubuntu2~24.04) 13.3.0 Alpine Linux 3.22.0 Kernel: 5.15 Compiler: gcc gcc (Alpine 14.2.0) 14.2.0 Windows Server 2022 Kernel: 10.0.20348.2031 Compiler: clang 15.0.7, gcc 14.1.0 (MinGW), and MSVC VS 19.39.33521 To view detailed results, visit: https://lab.dpdk.org/results/dashboard/patchsets/34552/ UNH-IOL DPDK Community Lab To manage your email subscriptions, visit: https://lab.dpdk.org/results/dashboard/preferences/subscriptions/