From mboxrd@z Thu Jan 1 00:00:00 1970 Return-Path: Received: from mails.dpdk.org (mails.dpdk.org [217.70.189.124]) by inbox.dpdk.org (Postfix) with ESMTP id 3B96048B0E for ; Fri, 14 Nov 2025 22:43:06 +0100 (CET) Received: from mails.dpdk.org (localhost [127.0.0.1]) by mails.dpdk.org (Postfix) with ESMTP id 11385400D6; Fri, 14 Nov 2025 22:43:06 +0100 (CET) Received: from mail-qv1-f98.google.com (mail-qv1-f98.google.com [209.85.219.98]) by mails.dpdk.org (Postfix) with ESMTP id E0B84400D6 for ; Fri, 14 Nov 2025 22:43:04 +0100 (CET) Received: by mail-qv1-f98.google.com with SMTP id 6a1803df08f44-88246401c9eso23491616d6.1 for ; Fri, 14 Nov 2025 13:43:04 -0800 (PST) DKIM-Signature: v=1; a=rsa-sha256; c=relaxed/relaxed; d=iol.unh.edu; s=unh-iol; t=1763156584; x=1763761384; darn=dpdk.org; h=cc:to:from:subject:message-id:date:from:to:cc:subject:date :message-id:reply-to; bh=UmqaMnARXDA1kucisobdZ7vrQedgxKsueIyCOtCxJL4=; b=PQydTj4bT0bFr1ycPS8NRn2i3TW501tGPku2IC8bZwdhlGkZNAYYaHjd0xpeP9KzQc Mt+qnb9IL8y4fZaWxRGPJBp5tP5rvXzLxVIA5abZCk0VDYl7mUfppRazkHhJi1txWFG8 lzUD9CgHgoKL7Yw0QbgWcOvfLxosZiQtMSTMA= X-Google-DKIM-Signature: v=1; a=rsa-sha256; c=relaxed/relaxed; d=1e100.net; s=20230601; t=1763156584; x=1763761384; h=cc:to:from:subject:message-id:date:x-gm-gg:x-gm-message-state:from :to:cc:subject:date:message-id:reply-to; bh=UmqaMnARXDA1kucisobdZ7vrQedgxKsueIyCOtCxJL4=; b=sKg2gU00NiYp1lOBit5bALFcNAggT6KwLhsNwG59UcTybmL2QFCE1156WI6Im0JS2c EZjIGFuJ1fwSivFvIIMzi4B6sDofyG7NHHD/kg8FWFCYDdnMERVSi0MEdJWXDgoUuaD6 f2UICy6pHS7iI1hW8waww8JaUeG2Rw3Ok9TGP27yaXCEglWR6DCmEN9eo9moQ7qc8cCv Is9a1u3qJVSYVYTBjYDe5zFfNhaVnP2LwLwH7zbyvWqjXARrx4iJeKPAEMswi/SAgMyu tT66pZhDOHdNWe8IErq6UQS7AaOqbBYSHBZhF5lC5C57lkMwEIhGe3gy64k6NfYjOU62 gpgA== X-Gm-Message-State: AOJu0Yz/8JBa5799lcFS1L7FrhJdppe9iGtIaMcpl4CR4C+JBruaP8Ka yoI+t79dTO0NShbb0/+h8bp9npo1TNonNKa+nVLpv2oH7MadlKb58XigeaC7QWE1Rs7mA2EY2uT W2Z/dLcO/ZoVe9fk114GW5hC0cik4GS7ijjCL9Xv3rH9VNHd49sZ5 X-Gm-Gg: ASbGnctPf312eyova0i/Spj1rXyz3oPBHpfZpw/o9gGAX6pHaH8MXk9cKulo6iElcyP 0Q7jOZnhuV1tNeK2pTBUaZXMid2twBAhuCMaLyCcV5d2P9rqyXboWhFtFF5vp+r/soJ3HD0uPa7 /fPNvgZ+QrW+zukR2zeBSM5RVOUTP2nsBYzZ0b0yCEZSCfcu/qhoVR1Q870C3o6heg3JwJA6TV5 m9A5o32D6jAG65tIqxxUGIsbaSCEOMLR2tgy4BHb4f0V8ty4Y336dOdrmfx+yGOySF8J4/nXOvO TdQYUVbIAJoioAxM7xmK3Oh9K4hZlJCAphxFymxFJe9PLnlrPjPUWxXUEtqmkLW/cxG7dj4D6E7 ftqzU0Xsj X-Google-Smtp-Source: AGHT+IGX7urdtElpRcKINmIk0ArI0vYiniU6zF4euaiMoeFqI+ZtwXeojXQdWNlQj3ouzAqBkPc02bejt26e X-Received: by 2002:a05:6214:230f:b0:882:4c0f:9607 with SMTP id 6a1803df08f44-882925ff803mr62037166d6.21.1763156583305; Fri, 14 Nov 2025 13:43:03 -0800 (PST) Received: from postal.iol.unh.edu (postal.iol.unh.edu. [2606:4100:3880:1234::84]) by smtp-relay.gmail.com with ESMTPS id 6a1803df08f44-882862b3ddasm6718416d6.1.2025.11.14.13.43.03 (version=TLS1_2 cipher=ECDHE-ECDSA-AES128-GCM-SHA256 bits=128/128); Fri, 14 Nov 2025 13:43:03 -0800 (PST) X-Relaying-Domain: iol.unh.edu Date: Fri, 14 Nov 2025 13:43:03 -0800 (PST) Message-ID: <6917a267.d40a0220.29ea87.0caeSMTPIN_ADDED_MISSING@mx.google.com> Received: from [172.21.0.3] (unknown [172.18.0.240]) by postal.iol.unh.edu (Postfix) with ESMTP id 027006051830; Fri, 14 Nov 2025 16:43:02 -0500 (EST) Subject: |SUCCESS| [GIT MASTER] 9784db2c5af1eecd02fc21132b59b5b266039b87 From: dpdklab@iol.unh.edu To: Test Report Cc: dpdk-test-reports@iol.unh.edu, Xueming Li , Christian Ehrhardt , Kevin Traynor , Luca Boccassi Content-Type: text/plain X-BeenThere: test-report@dpdk.org X-Mailman-Version: 2.1.29 Precedence: list List-Id: automatic DPDK test reports List-Unsubscribe: , List-Archive: List-Post: List-Help: List-Subscribe: , Errors-To: test-report-bounces@dpdk.org _Testing PASS_ Branch: tags/v22.11 9784db2c5af1eecd02fc21132b59b5b266039b87 --> testing pass Upstream job id: Generic-DPDK-Compile-Meson#444400 Test environment and result as below: +-------------------------------+--------------------+ | Environment | dpdk_meson_compile | +===============================+====================+ | Ubuntu 20.04 | PASS | +-------------------------------+--------------------+ | FreeBSD 14.2 | PASS | +-------------------------------+--------------------+ | CentOS Stream 9 | PASS | +-------------------------------+--------------------+ | CentOS Stream 10 | PASS | +-------------------------------+--------------------+ | Debian GNU/Linux 12 | PASS | +-------------------------------+--------------------+ | Fedora Linux 42 | PASS | +-------------------------------+--------------------+ | openSUSE Leap 15.6 | PASS | +-------------------------------+--------------------+ | Red Hat Enterprise Linux 8.10 | PASS | +-------------------------------+--------------------+ | Red Hat Enterprise Linux 9.5 | PASS | +-------------------------------+--------------------+ | Ubuntu 22.04 | PASS | +-------------------------------+--------------------+ | Ubuntu 24.04 | PASS | +-------------------------------+--------------------+ Ubuntu 20.04 Kernel: 4.19 Compiler: gcc gcc (Ubuntu 9.4.0-1ubuntu1~20.04.2) 9.4.0 FreeBSD 14.2 Kernel: 14.2-RELEASE Compiler: clang 18.1.6 CentOS Stream 9 Kernel: 5.15 Compiler: gcc gcc (GCC) 11.5.0 20240719 (Red Hat 11.5.0-11) CentOS Stream 10 Kernel: 5.15 Compiler: gcc gcc (GCC) 14.2.1 20250110 (Red Hat 14.2.1-8) Debian GNU/Linux 12 Kernel: 5.15 Compiler: gcc gcc (Debian 12.2.0-14+deb12u1) 12.2.0 Fedora Linux 42 Kernel: 5.15 Compiler: clang gcc (GCC) 15.2.1 20250808 (Red Hat 15.2.1-1) openSUSE Leap 15.6 Kernel: 5.15 Compiler: gcc gcc (SUSE Linux) 7.5.0 Red Hat Enterprise Linux 8.10 Kernel: 5.15 Compiler: gcc gcc (GCC) 8.5.0 20210514 (Red Hat 8.5.0-22) Red Hat Enterprise Linux 9.5 Kernel: 5.15 Compiler: gcc gcc (GCC) 11.5.0 20240719 (Red Hat 11.5.0-2) Ubuntu 22.04 Kernel: 5.15 Compiler: gcc gcc (Ubuntu 11.4.0-1ubuntu1~22.04) 11.4.0 Ubuntu 24.04 Kernel: 5.15 Compiler: gcc gcc (Ubuntu 13.3.0-6ubuntu2~24.04) 13.3.0 To view detailed results, visit: https://lab.dpdk.org/results/dashboard/tarballs/35592/ UNH-IOL DPDK Community Lab To manage your email subscriptions, visit: https://lab.dpdk.org/results/dashboard/preferences/subscriptions/