From mboxrd@z Thu Jan 1 00:00:00 1970 Return-Path: Received: from mails.dpdk.org (mails.dpdk.org [217.70.189.124]) by inbox.dpdk.org (Postfix) with ESMTP id 355AA48B0E for ; Fri, 14 Nov 2025 22:43:50 +0100 (CET) Received: from mails.dpdk.org (localhost [127.0.0.1]) by mails.dpdk.org (Postfix) with ESMTP id 30038400D6; Fri, 14 Nov 2025 22:43:50 +0100 (CET) Received: from mail-yx1-f98.google.com (mail-yx1-f98.google.com [74.125.224.98]) by mails.dpdk.org (Postfix) with ESMTP id 0395A400D6 for ; Fri, 14 Nov 2025 22:43:49 +0100 (CET) Received: by mail-yx1-f98.google.com with SMTP id 956f58d0204a3-63f996d4e1aso2223541d50.0 for ; Fri, 14 Nov 2025 13:43:48 -0800 (PST) DKIM-Signature: v=1; a=rsa-sha256; c=relaxed/relaxed; d=iol.unh.edu; s=unh-iol; t=1763156628; x=1763761428; darn=dpdk.org; h=references:in-reply-to:cc:to:from:subject:message-id:date:from:to :cc:subject:date:message-id:reply-to; bh=MlNw8wPRXqRwwLk0wslhFLXNaxP8YRuaioWfGobdupA=; b=Ec8r0/fpq4bPUVKJ9jRW6G1bIqf1MdltgjWRlXpHmy3bZHhdt9U7qsgYEHv95oo4X5 V2SUpIjE7S+zM39RDE1vr7Y9zax4JpBCJZQ8oXb7tqFyDmD4yv5FjEcJ5axqqiCGNbok qKhP7IK53rThCBWONY+Rwe4jSzMFruAJqPBbo= X-Google-DKIM-Signature: v=1; a=rsa-sha256; c=relaxed/relaxed; d=1e100.net; s=20230601; t=1763156628; x=1763761428; h=references:in-reply-to:cc:to:from:subject:message-id:date:x-gm-gg :x-gm-message-state:from:to:cc:subject:date:message-id:reply-to; bh=MlNw8wPRXqRwwLk0wslhFLXNaxP8YRuaioWfGobdupA=; b=oTGEA0cOV66vlIFhVmKeqmGYowF4pVqfih3f5pgKGlFkSLfHhJN3iq4iLvioK18fsU jAHxPacb5FmRwZi8zNZ8EIQ20klGiMBnit06YPglcNn2uIFA9r9rdeQMK0KWF7zjeNm2 nfWFD+mOWmjfTGD+gEzEIM3mqk/lTOwlr5Ku+Yf4Wf/VRFv6RyTNT0247BK7bnj+C9aL MHszgefy8oQpeqgpAq3R0k9LZym79cVR9/g6WrdkLCzoYQrP4c9S7XhzL5Kb0RTO+Pmf x3KaPQHWKSNeL2pcEmjwmUcTx50d5JKWPILdjDfQws6N5lW8yVRVveqVvZ/lxj7roBGp xOCw== X-Gm-Message-State: AOJu0YzOk0lMlIZeicqQZrQL8A6/6j1gLONDm81gh8Wl1pvhRstd4mQ0 sPF+DlESXt/pSLqIZXrRLXuetq64Jn3zmVSu9LkRC5PjjQh74SnNLI8Hp8FbDhjpFhFtcskHypx IcG0BADn/kiPx/KvEIvG++rl6A4dosBNZHdM/vYj8mjMn X-Gm-Gg: ASbGncvWZNtrNReDmMUnjNjAfcqvxAU3y04QYNT205gV+z+b38NHEK9akTIZ6M8lUdD gyKSeoz8GBJokxNadBN2TvPyrGbXXH+Shp6nJ3Vl9/k9M+dx3uNYZlZAuxnwgohiqEgWG1dcc3Z ZnnzkSnwevEv+MK118RYzm6bSX8/SFqq4yRbesWJHANSEz72bs9aXfEfFgfbxmDaqPN3EQpTVWP iijZvFkGWkTTl8vPY8n7VANnIiUki+qDfOZx6kX+6U1aKF3sfnlRY4iA3CZWqJFfr5D1hFlnW6n pPLNYL6BrfElg0UQ+m7DNtbIthx4rW4pb0mFCDAYgIyywAsXf8YdQrf/QSJn7p0DdNMzwZZ8GCK lRiF7PSzcfkGMP3uzPYVC1F885tNxcjM= X-Google-Smtp-Source: AGHT+IFbjxd9kbTgVWWp5nNnxlUM4aaNwSTt5pEVKgdci8mPqDiRDOnFd7ztwgo4CSQohfFfXgFbdRhTX1qA X-Received: by 2002:a05:690e:4291:20b0:63f:ce86:8b81 with SMTP id 956f58d0204a3-641e759b55dmr3131448d50.18.1763156628271; Fri, 14 Nov 2025 13:43:48 -0800 (PST) Received: from postal.iol.unh.edu (postal.iol.unh.edu. [132.177.123.84]) by smtp-relay.gmail.com with ESMTPS id 956f58d0204a3-6410eae8154sm412611d50.12.2025.11.14.13.43.48 (version=TLS1_2 cipher=ECDHE-ECDSA-AES128-GCM-SHA256 bits=128/128); Fri, 14 Nov 2025 13:43:48 -0800 (PST) X-Relaying-Domain: iol.unh.edu Date: Fri, 14 Nov 2025 13:43:48 -0800 (PST) Message-ID: <6917a294.050a0220.4fb62.3ddcSMTPIN_ADDED_MISSING@mx.google.com> Received: from [172.21.0.4] (unknown [172.18.0.240]) by postal.iol.unh.edu (Postfix) with ESMTP id EE0A96051830; Fri, 14 Nov 2025 16:43:47 -0500 (EST) Subject: |SUCCESS| pw158773-158774 [PATCH] [v4,2/2] dts: add QinQ test suite From: dpdklab@iol.unh.edu To: Test Report Cc: dpdk-test-reports@iol.unh.edu In-Reply-To: <20251113190309.310821-2-dmarx@iol.unh.edu> References: <20251113190309.310821-2-dmarx@iol.unh.edu> Content-Type: text/plain X-BeenThere: test-report@dpdk.org X-Mailman-Version: 2.1.29 Precedence: list List-Id: automatic DPDK test reports List-Unsubscribe: , List-Archive: List-Post: List-Help: List-Subscribe: , Errors-To: test-report-bounces@dpdk.org Test-Label: iol-unit-amd64-testing Test-Status: SUCCESS http://dpdk.org/patch/158774 _Testing PASS_ Submitter: Dean Marx Date: Thursday, November 13 2025 19:03:09 DPDK git baseline: Repo:dpdk-next-dts Branch: master CommitID:8dcc93a520b22330e0ad59d360a4594b854f9ddd 158773-158774 --> testing pass Upstream job id: Generic-VM-Unit-Test-DPDK#32554 Test environment and result as below: +-------------------------------+----------------+ | Environment | dpdk_unit_test | +===============================+================+ | CentOS Stream 10 | PASS | +-------------------------------+----------------+ | Fedora Linux 40 | PASS | +-------------------------------+----------------+ | Debian GNU/Linux 12 | PASS | +-------------------------------+----------------+ | CentOS Stream 9 | PASS | +-------------------------------+----------------+ | Fedora Linux 41 | PASS | +-------------------------------+----------------+ | Fedora Linux 42 | PASS | +-------------------------------+----------------+ | Red Hat Enterprise Linux 9.5 | PASS | +-------------------------------+----------------+ | Red Hat Enterprise Linux 8.10 | PASS | +-------------------------------+----------------+ | Ubuntu 22.04 | PASS | +-------------------------------+----------------+ | Ubuntu 20.04 | PASS | +-------------------------------+----------------+ | Ubuntu 24.04 | PASS | +-------------------------------+----------------+ | Windows Server 2022 | PASS | +-------------------------------+----------------+ CentOS Stream 10 Kernel: 5.15 Compiler: gcc gcc (GCC) 14.2.1 20250110 (Red Hat 14.2.1-8) Fedora Linux 40 Kernel: 5.15 Compiler: clang gcc (GCC) 14.2.1 20240912 (Red Hat 14.2.1-3) Debian GNU/Linux 12 Kernel: 5.15 Compiler: gcc gcc (Debian 12.2.0-14+deb12u1) 12.2.0 CentOS Stream 9 Kernel: 5.15 Compiler: gcc gcc (GCC) 11.5.0 20240719 (Red Hat 11.5.0-11) Fedora Linux 41 Kernel: 5.15 Compiler: clang gcc (GCC) 14.3.1 20250523 (Red Hat 14.3.1-1) Fedora Linux 42 Kernel: 5.15 Compiler: clang gcc (GCC) 15.2.1 20250808 (Red Hat 15.2.1-1) Red Hat Enterprise Linux 9.5 Kernel: 5.15 Compiler: gcc gcc (GCC) 11.5.0 20240719 (Red Hat 11.5.0-2) Red Hat Enterprise Linux 8.10 Kernel: 5.15 Compiler: gcc gcc (GCC) 8.5.0 20210514 (Red Hat 8.5.0-22) Ubuntu 22.04 Kernel: 5.15 Compiler: gcc gcc (Ubuntu 11.4.0-1ubuntu1~22.04) 11.4.0 Ubuntu 20.04 Kernel: 5.15 Compiler: gcc gcc (Ubuntu 9.4.0-1ubuntu1~20.04.2) 9.4.0 Ubuntu 24.04 Kernel: 5.15 Compiler: gcc gcc (Ubuntu 13.3.0-6ubuntu2~24.04) 13.3.0 Windows Server 2022 Kernel: 10.0.20348.2031 Compiler: clang 15.0.7, gcc 14.1.0 (MinGW), and MSVC VS 19.39.33521 To view detailed results, visit: https://lab.dpdk.org/results/dashboard/patchsets/34581/ UNH-IOL DPDK Community Lab To manage your email subscriptions, visit: https://lab.dpdk.org/results/dashboard/preferences/subscriptions/