From mboxrd@z Thu Jan 1 00:00:00 1970 Return-Path: Received: from mails.dpdk.org (mails.dpdk.org [217.70.189.124]) by inbox.dpdk.org (Postfix) with ESMTP id 19B6948B0E for ; Fri, 14 Nov 2025 23:02:25 +0100 (CET) Received: from mails.dpdk.org (localhost [127.0.0.1]) by mails.dpdk.org (Postfix) with ESMTP id 016B4400D6; Fri, 14 Nov 2025 23:02:25 +0100 (CET) Received: from mail-il1-f227.google.com (mail-il1-f227.google.com [209.85.166.227]) by mails.dpdk.org (Postfix) with ESMTP id 83CDD400D6 for ; Fri, 14 Nov 2025 23:02:23 +0100 (CET) Received: by mail-il1-f227.google.com with SMTP id e9e14a558f8ab-433101f2032so11353585ab.1 for ; Fri, 14 Nov 2025 14:02:23 -0800 (PST) DKIM-Signature: v=1; a=rsa-sha256; c=relaxed/relaxed; d=iol.unh.edu; s=unh-iol; t=1763157743; x=1763762543; darn=dpdk.org; h=references:in-reply-to:cc:to:from:subject:message-id:date:from:to :cc:subject:date:message-id:reply-to; bh=JOmmbdkwR3kwlP/VSwyOHtyyXAS21KPo07V4Q1dFypo=; b=bb+/UYLOyFL5jyC8J+rKs3R7fAp1mRzpIjUuUO7RXSA5NxAzJ7QXesYS32E05q7zf8 angQvoZuQI4KbHPkerqAjKkNTFmvehZ/Arj1NWKjrkJJ+4KoYXQk/1he2PuHYI7AXSmN PaLLNs6k+1jzSoB2pmlK0zCdCTdKDtTIzP4pU= X-Google-DKIM-Signature: v=1; a=rsa-sha256; c=relaxed/relaxed; d=1e100.net; s=20230601; t=1763157743; x=1763762543; h=references:in-reply-to:cc:to:from:subject:message-id:date:x-gm-gg :x-gm-message-state:from:to:cc:subject:date:message-id:reply-to; bh=JOmmbdkwR3kwlP/VSwyOHtyyXAS21KPo07V4Q1dFypo=; b=g7QNqZAi9EvYANMvbL1/FGqeUE1gWLh/1zS0r9gZzNsDO4NM6dzBtQLlQv/eIPaoqy O5gULzoHapnLv8Y1e9yQkulyDmk9Y/RpYFNA8pu60E8yfxMumwoVqhmSZOXayXk3fVIy fmyOmMukbNgbeOKh48HVP2NmW1cS5jMwkqb3yatoSbkZeFdVjEB5eLBcHPPDUEqBi6NS zWX1mDLIvAcy6BfWgiA6oufrB2Qu3fUTzM2mu2Dg4FbzrYlACUWIS5cPwN76Y4zQkK45 HEC2ZZPqce6Hx4Xp1FZztg7IpRyCDIfDRYEH6/Ai3TlDuUuINJrKfk3F+fxH6PC5xqRg YgvA== X-Gm-Message-State: AOJu0Yyn/6zDzXc5H50EkUAK4ZZKACsV84fVGqNasnnM6yEVw/u/fUGk 6EavCPKswJ4tlKEVQ8dIm9kV7eZ+iO3jfi9pk7CjEd/PHwx4Mj3Vxh1dQc6ExTmH2mufEldQcEs LCAAmUn1TbvgokR8v7lPIX1W35b0DAqX32OGtoa4+PCHB X-Gm-Gg: ASbGncvyDHXurahxePe7fAJ1GLfhyGwrwX7Cn9iikaEsAwv8+BHuj6wpQcmYZpk475t CujR7bovcC3qXSINSIRufILU148AwAp12Zdm8GiVMapRXUQg0TU9jv907t+E5wl5LA0y9G3tdVr b8G2RUhBc0LThq5r+c83bnBv+GH8PaxRCpgpXAKW3ifRF7EEsLKWW/NLGYSaijvcLIZVOu9fME4 1GnimST6IApnv+B5IvPf3DXvnPZvt4QRyvRryM/26O4z+S6xP+DkFs0eimvn8J6ZHRaw0GaIyW6 uxSo+xIsw24r9f2u5l+U5azPaFDqAQc+AWUVvtCmJ7EUe1+HbHS+H3/Vl6R1ncv8Gg55TH0MMsp L9t+PyXrDE/bMOMEnEr2/E8mxaP7oJp8= X-Google-Smtp-Source: AGHT+IGuMEWky/OwTV7jnbUWQtCP+J7lIQo3egENoY3DIirvw/CqpAdvhICrwDXzYPnmu78NBal4Us0nA2qn X-Received: by 2002:a05:6e02:184d:b0:429:6c5a:61f3 with SMTP id e9e14a558f8ab-4348c88f753mr63879035ab.8.1763157742759; Fri, 14 Nov 2025 14:02:22 -0800 (PST) Received: from postal.iol.unh.edu (postal.iol.unh.edu. [132.177.123.84]) by smtp-relay.gmail.com with ESMTPS id e9e14a558f8ab-434839d529bsm5224425ab.27.2025.11.14.14.02.22 (version=TLS1_2 cipher=ECDHE-ECDSA-AES128-GCM-SHA256 bits=128/128); Fri, 14 Nov 2025 14:02:22 -0800 (PST) X-Relaying-Domain: iol.unh.edu Date: Fri, 14 Nov 2025 14:02:22 -0800 (PST) Message-ID: <6917a6ee.050a0220.122f82.9dc9SMTPIN_ADDED_MISSING@mx.google.com> Received: from [172.21.0.5] (unknown [172.18.0.240]) by postal.iol.unh.edu (Postfix) with ESMTP id 673216050A61; Fri, 14 Nov 2025 17:02:22 -0500 (EST) Subject: |SUCCESS| pw158815 [PATCH] net/qede: remove unused file From: dpdklab@iol.unh.edu To: Test Report Cc: dpdk-test-reports@iol.unh.edu In-Reply-To: <20251114180251.1233757-1-stephen@networkplumber.org> References: <20251114180251.1233757-1-stephen@networkplumber.org> Content-Type: text/plain X-BeenThere: test-report@dpdk.org X-Mailman-Version: 2.1.29 Precedence: list List-Id: automatic DPDK test reports List-Unsubscribe: , List-Archive: List-Post: List-Help: List-Subscribe: , Errors-To: test-report-bounces@dpdk.org Test-Label: iol-unit-amd64-testing Test-Status: SUCCESS http://dpdk.org/patch/158815 _Testing PASS_ Submitter: Stephen Hemminger Date: Friday, November 14 2025 18:02:51 DPDK git baseline: Repo:dpdk-next-net-mrvl Branch: master CommitID:db4c93a4c6e088346c7e6d7e744178295b568461 158815 --> testing pass Upstream job id: Generic-Unit-Test-DPDK#392887 Test environment and result as below: +-------------------------------+----------------+ | Environment | dpdk_unit_test | +===============================+================+ | Fedora Linux 41 | PASS | +-------------------------------+----------------+ | Fedora Linux 40 | PASS | +-------------------------------+----------------+ | CentOS Stream 9 | PASS | +-------------------------------+----------------+ | Debian GNU/Linux 12 | PASS | +-------------------------------+----------------+ | Red Hat Enterprise Linux 8.10 | PASS | +-------------------------------+----------------+ | CentOS Stream 10 | PASS | +-------------------------------+----------------+ | Ubuntu 20.04 | PASS | +-------------------------------+----------------+ | Ubuntu 22.04 | PASS | +-------------------------------+----------------+ | Fedora Linux 42 | PASS | +-------------------------------+----------------+ | Ubuntu 24.04 | PASS | +-------------------------------+----------------+ | Red Hat Enterprise Linux 9.5 | PASS | +-------------------------------+----------------+ Fedora Linux 41 Kernel: 5.15 Compiler: clang gcc (GCC) 14.3.1 20250523 (Red Hat 14.3.1-1) Fedora Linux 40 Kernel: 5.15 Compiler: gcc gcc (GCC) 14.2.1 20240912 (Red Hat 14.2.1-3) CentOS Stream 9 Kernel: 5.15 Compiler: gcc gcc (GCC) 11.5.0 20240719 (Red Hat 11.5.0-11) Debian GNU/Linux 12 Kernel: 5.15 Compiler: gcc gcc (Debian 12.2.0-14+deb12u1) 12.2.0 Red Hat Enterprise Linux 8.10 Kernel: 5.15 Compiler: gcc gcc (GCC) 8.5.0 20210514 (Red Hat 8.5.0-22) CentOS Stream 10 Kernel: 5.15 Compiler: gcc gcc (GCC) 14.2.1 20250110 (Red Hat 14.2.1-8) Ubuntu 20.04 Kernel: 5.15 Compiler: gcc gcc (Ubuntu 9.4.0-1ubuntu1~20.04.2) 9.4.0 Ubuntu 22.04 Kernel: 5.15 Compiler: gcc gcc (Ubuntu 11.4.0-1ubuntu1~22.04) 11.4.0 Fedora Linux 42 Kernel: 5.15 Compiler: clang gcc (GCC) 15.2.1 20250808 (Red Hat 15.2.1-1) Ubuntu 24.04 Kernel: 5.15 Compiler: gcc gcc (Ubuntu 13.3.0-6ubuntu2~24.04) 13.3.0 Red Hat Enterprise Linux 9.5 Kernel: 5.15 Compiler: gcc gcc (GCC) 11.5.0 20240719 (Red Hat 11.5.0-2) To view detailed results, visit: https://lab.dpdk.org/results/dashboard/patchsets/34597/ UNH-IOL DPDK Community Lab To manage your email subscriptions, visit: https://lab.dpdk.org/results/dashboard/preferences/subscriptions/