From mboxrd@z Thu Jan 1 00:00:00 1970 Return-Path: Received: from mails.dpdk.org (mails.dpdk.org [217.70.189.124]) by inbox.dpdk.org (Postfix) with ESMTP id BA57F48B0E for ; Fri, 14 Nov 2025 23:08:29 +0100 (CET) Received: from mails.dpdk.org (localhost [127.0.0.1]) by mails.dpdk.org (Postfix) with ESMTP id B4802400D6; Fri, 14 Nov 2025 23:08:29 +0100 (CET) Received: from mail-yx1-f97.google.com (mail-yx1-f97.google.com [74.125.224.97]) by mails.dpdk.org (Postfix) with ESMTP id 5859A400D6 for ; Fri, 14 Nov 2025 23:08:28 +0100 (CET) Received: by mail-yx1-f97.google.com with SMTP id 956f58d0204a3-63fbed0f71aso2032538d50.0 for ; Fri, 14 Nov 2025 14:08:28 -0800 (PST) DKIM-Signature: v=1; a=rsa-sha256; c=relaxed/relaxed; d=iol.unh.edu; s=unh-iol; t=1763158106; x=1763762906; darn=dpdk.org; h=references:in-reply-to:cc:to:from:subject:message-id:date:from:to :cc:subject:date:message-id:reply-to; bh=uM2llKP8y7AgNq1CXmMtbFjjHT38DgIUX6Vb6gxkfo4=; b=icvekPnQMXkX3+8NeRQMYdqyBwJHvFYnSct/k2O2E/K0G+OOwGDAm5bB/AiNejFM+D iYn1x8IKwB1fhUkeoRZ1H44Upi1Cq2aBm4+A+1VqhRcWZQk5Dq52+9d/hj4qykRPtjyl cMY5+L2H6m9jNJKkPyynSwHFK9QtpCZ0NVQuc= X-Google-DKIM-Signature: v=1; a=rsa-sha256; c=relaxed/relaxed; d=1e100.net; s=20230601; t=1763158106; x=1763762906; h=references:in-reply-to:cc:to:from:subject:message-id:date:x-gm-gg :x-gm-message-state:from:to:cc:subject:date:message-id:reply-to; bh=uM2llKP8y7AgNq1CXmMtbFjjHT38DgIUX6Vb6gxkfo4=; b=LcBZ1T6NT6qHHbh9+ppafz4dpOZy6BCbNdLDnBHlT7NZChxK2edhpCAaR0FCfSoWPY LF2DOK0Zg71gSISHiQVcUPJHBb7AJZIEE49LtX5GDeAvnQbodwkd/yzVNa8w0KiTqNY1 Am4Q9x9q3HKW6o9l9ROq3R6L+oA6ILU9V883ADOllF0R1nlxwH8/UpHl1mijWbmTfFRo +VOEOv6jsTBmQB5LEddLDi8d10E0Wrq/6rJjXYeFuOaKH9JIQedBlv23DN1nBWHEbnkU /hpUmKP9VBqmJqP+nUC+qnVJV6FgKpXXzzlGOQWs2WL5p7YTdYneK14lJbKmKlfQpx1P 47bw== X-Gm-Message-State: AOJu0Yx/UwBQO3IMrMJ6qMv4zdgNziasBe8oWp7/9QsmmCroMtZRDMZ0 wB8QMpnluPXRXFtlcVUmZVidxoa/IslvNiS28D/zJlAIsevCu1iSAr6TOdlSW/niHPXDPxpvi/W rz2DVxqPqu7ZTn4FVU368ggbAvp5Udsd4PVn03wT73eKf X-Gm-Gg: ASbGnctZr4ayhasyzSv5FPX+bKO9Y9KVLr/L9KL+yBOxPD25F9VDDABk8vQjtI9lsvQ NltgaWnd+E4V4Ijstwnu0MYq+phbtYAOuS6IK8Rx9AasE899Cd1DPmlcCkC6KA80XO7C9NhvFtb lCxZAQzxG9UNw9urc5clbV8/dATq7RCG3P3uxGzCv067HtuZTT/iMd16hPIMly3sWTshWwBerD5 r2PAJIBmRG8AsnKhZ0Zjh0nClKyqRXBYs4SVhejfEWcUH2Pw/paHjLlarThPkFInTYRT800bkEd IVq6eHZVSGp7r92zUVIiSRErAItQCE2vmlnZLKP+QptN4bB1nZSYIHr4v5+GunwACFlFPcxDJEQ w8qZw9t1VIHB2OluypqCz+NNvMWR8ZxE= X-Google-Smtp-Source: AGHT+IGhld3r5sIQqRHHTGDdIpxcHKD2mnWbZea8mFpZwxKsMFbMG1vp7fXA1hI3LY7fsbieVKjUoT3rEz/q X-Received: by 2002:a05:690e:c45:b0:63f:5785:a201 with SMTP id 956f58d0204a3-641e74e13f6mr3857248d50.15.1763158106625; Fri, 14 Nov 2025 14:08:26 -0800 (PST) Received: from postal.iol.unh.edu (postal.iol.unh.edu. [132.177.123.84]) by smtp-relay.gmail.com with ESMTPS id 00721157ae682-7893c937c25sm181967b3.13.2025.11.14.14.08.26 (version=TLS1_2 cipher=ECDHE-ECDSA-AES128-GCM-SHA256 bits=128/128); Fri, 14 Nov 2025 14:08:26 -0800 (PST) X-Relaying-Domain: iol.unh.edu Date: Fri, 14 Nov 2025 14:08:26 -0800 (PST) Message-ID: <6917a85a.050a0220.211c13.0f6cSMTPIN_ADDED_MISSING@mx.google.com> Received: from [172.21.0.3] (unknown [172.18.0.240]) by postal.iol.unh.edu (Postfix) with ESMTP id 4F2D16050A61; Fri, 14 Nov 2025 17:08:26 -0500 (EST) Subject: |SUCCESS| pw158773-158774 [PATCH] [v4,2/2] dts: add QinQ test suite From: dpdklab@iol.unh.edu To: Test Report Cc: dpdk-test-reports@iol.unh.edu In-Reply-To: <20251113190309.310821-2-dmarx@iol.unh.edu> References: <20251113190309.310821-2-dmarx@iol.unh.edu> Content-Type: text/plain X-BeenThere: test-report@dpdk.org X-Mailman-Version: 2.1.29 Precedence: list List-Id: automatic DPDK test reports List-Unsubscribe: , List-Archive: List-Post: List-Help: List-Subscribe: , Errors-To: test-report-bounces@dpdk.org Test-Label: iol-unit-amd64-testing Test-Status: SUCCESS http://dpdk.org/patch/158774 _Testing PASS_ Submitter: Dean Marx Date: Thursday, November 13 2025 19:03:09 DPDK git baseline: Repo:dpdk-next-dts Branch: master CommitID:8dcc93a520b22330e0ad59d360a4594b854f9ddd 158773-158774 --> testing pass Upstream job id: Generic-VM-Unit-Test-DPDK#32555 Test environment and result as below: +-------------------------------+----------------+ | Environment | dpdk_unit_test | +===============================+================+ | CentOS Stream 10 | PASS | +-------------------------------+----------------+ | Fedora Linux 40 | PASS | +-------------------------------+----------------+ | Debian GNU/Linux 12 | PASS | +-------------------------------+----------------+ | CentOS Stream 9 | PASS | +-------------------------------+----------------+ | Fedora Linux 41 | PASS | +-------------------------------+----------------+ | Fedora Linux 42 | PASS | +-------------------------------+----------------+ | Red Hat Enterprise Linux 9.5 | PASS | +-------------------------------+----------------+ | Red Hat Enterprise Linux 8.10 | PASS | +-------------------------------+----------------+ | Ubuntu 22.04 | PASS | +-------------------------------+----------------+ | Ubuntu 20.04 | PASS | +-------------------------------+----------------+ | Ubuntu 24.04 | PASS | +-------------------------------+----------------+ | Windows Server 2022 | PASS | +-------------------------------+----------------+ CentOS Stream 10 Kernel: 5.15 Compiler: gcc gcc (GCC) 14.2.1 20250110 (Red Hat 14.2.1-8) Fedora Linux 40 Kernel: 5.15 Compiler: clang gcc (GCC) 14.2.1 20240912 (Red Hat 14.2.1-3) Debian GNU/Linux 12 Kernel: 5.15 Compiler: gcc gcc (Debian 12.2.0-14+deb12u1) 12.2.0 CentOS Stream 9 Kernel: 5.15 Compiler: gcc gcc (GCC) 11.5.0 20240719 (Red Hat 11.5.0-11) Fedora Linux 41 Kernel: 5.15 Compiler: clang gcc (GCC) 14.3.1 20250523 (Red Hat 14.3.1-1) Fedora Linux 42 Kernel: 5.15 Compiler: clang gcc (GCC) 15.2.1 20250808 (Red Hat 15.2.1-1) Red Hat Enterprise Linux 9.5 Kernel: 5.15 Compiler: gcc gcc (GCC) 11.5.0 20240719 (Red Hat 11.5.0-2) Red Hat Enterprise Linux 8.10 Kernel: 5.15 Compiler: gcc gcc (GCC) 8.5.0 20210514 (Red Hat 8.5.0-22) Ubuntu 22.04 Kernel: 5.15 Compiler: gcc gcc (Ubuntu 11.4.0-1ubuntu1~22.04) 11.4.0 Ubuntu 20.04 Kernel: 5.15 Compiler: gcc gcc (Ubuntu 9.4.0-1ubuntu1~20.04.2) 9.4.0 Ubuntu 24.04 Kernel: 5.15 Compiler: gcc gcc (Ubuntu 13.3.0-6ubuntu2~24.04) 13.3.0 Windows Server 2022 Kernel: 10.0.20348.2031 Compiler: clang 15.0.7, gcc 14.1.0 (MinGW), and MSVC VS 19.39.33521 To view detailed results, visit: https://lab.dpdk.org/results/dashboard/patchsets/34581/ UNH-IOL DPDK Community Lab To manage your email subscriptions, visit: https://lab.dpdk.org/results/dashboard/preferences/subscriptions/