From mboxrd@z Thu Jan 1 00:00:00 1970 Return-Path: Received: from mails.dpdk.org (mails.dpdk.org [217.70.189.124]) by inbox.dpdk.org (Postfix) with ESMTP id 684E948B0E for ; Fri, 14 Nov 2025 23:15:00 +0100 (CET) Received: from mails.dpdk.org (localhost [127.0.0.1]) by mails.dpdk.org (Postfix) with ESMTP id 62D77400D6; Fri, 14 Nov 2025 23:15:00 +0100 (CET) Received: from mail-pl1-f226.google.com (mail-pl1-f226.google.com [209.85.214.226]) by mails.dpdk.org (Postfix) with ESMTP id 03E37400D6 for ; Fri, 14 Nov 2025 23:14:59 +0100 (CET) Received: by mail-pl1-f226.google.com with SMTP id d9443c01a7336-29812589890so31072875ad.3 for ; Fri, 14 Nov 2025 14:14:58 -0800 (PST) DKIM-Signature: v=1; a=rsa-sha256; c=relaxed/relaxed; d=iol.unh.edu; s=unh-iol; t=1763158498; x=1763763298; darn=dpdk.org; h=references:in-reply-to:cc:to:from:subject:message-id:date:from:to :cc:subject:date:message-id:reply-to; bh=35UQZiBi2lS8k+nFAgkdph9LQPKEW/YsDCmW0Cx+0so=; b=RlDen2FrXFcIKMYJaIC/otcY53ukO1JCzhpfzXaNClYFmBQcbdyn9X+01TML/sZX9e nG4tP64bg/78aJ7ttDy8cs8RB9dybcX8DxKqTifKN58MdI9JPPRnIM2nxTNqRxqrx4jn z0jKdkF63X8Qu69dz7L4rDz3KLHLSgIUm6K2Q= X-Google-DKIM-Signature: v=1; a=rsa-sha256; c=relaxed/relaxed; d=1e100.net; s=20230601; t=1763158498; x=1763763298; h=references:in-reply-to:cc:to:from:subject:message-id:date:x-gm-gg :x-gm-message-state:from:to:cc:subject:date:message-id:reply-to; bh=35UQZiBi2lS8k+nFAgkdph9LQPKEW/YsDCmW0Cx+0so=; b=hiiPtnDCmkpZg6Pf7mbQYbK6IdAIimIfH0t2jq45k2DPBv/lyamP5JdliS4qK3xfJh 7sqmReOUmbM40L2HabuvrU6CImUvWUMQu7VWyj2qkegghqnwrarY8HSzdqd79OWRyMqr nqsDzisW5pMy7E4XgzyltjLNg3xly9Rv/XW+V6Pm2Y4keMjlx2KqsTLJtxuuiU3EHZCd ltZDGqIKfjg53Fvcr0qPeZ1fDyGQAn4JWuyvS36D8UwSrtCK22mEffCME8IVsUEDKsjE 1qs0aBFaInkF2btLrwWAvThGKIVNcVJfCGHIPq/zOePW3ETV8OAOn3TXC7JLiPU3M33R R3aQ== X-Gm-Message-State: AOJu0YyofRie+vzCLLyf5f1Bz1WSYhP8P44s9xCepjCbVJm/knlivx4w Pv+a46OsEYXNn5z8M1UTzDOK36wYdteq+bgPyrBzJetzQXrXdvDa7BcFIXZ6VBVFWllLU7fBFVa GJ/oRiLQ88M1H3a039Z0/GwvixNxQa4nuJg1vbtzksus+ X-Gm-Gg: ASbGncupOeyBo6JXjcVDyfkF9o/eXJgs41iYg/7vAv9hLPeMRwxbwbhh5SQDQxyHItQ wTnSGTyYhI1XL4VYMLHq+7YyQRr45376ITtn4N37Yk0dAAburgTKDL7NFn2+orEWlCNWIl9czQu QbYpjkXYqPykvg0844C/Jzij5IqwIdp0EIXc9660de9w/2OpB6QjTxoRrDLwa0lBSKDsQun994J P2Mo4MCOqgayg5xCYuYYoWFSoJs1QQgprytvRchP/N+Ooh5vbOdKh+JgmbQNdEdtHgaL82PlTsI 7n7ggdkl6TL/wSYqJ9IFy8NelSkOefVHO+G0Tm4YIcg/aDi2nM2c72HX0uEtq2vudgXJiDzlYvi Xren3npQQOs/Nt49G0s+Sm/gtHg1+xsw= X-Google-Smtp-Source: AGHT+IEzRZl/g0ORd80L7W741J62Dhu3VdmaWFY47/xVckSONxAkRa/6xO+ydiOFqKbEckHgqmrFSylKRg3v X-Received: by 2002:a17:903:46c4:b0:271:479d:3dcb with SMTP id d9443c01a7336-2986a6af037mr45811655ad.6.1763158498252; Fri, 14 Nov 2025 14:14:58 -0800 (PST) Received: from postal.iol.unh.edu (postal.iol.unh.edu. [132.177.123.84]) by smtp-relay.gmail.com with ESMTPS id d9443c01a7336-2985c241b7fsm6991375ad.16.2025.11.14.14.14.58 (version=TLS1_2 cipher=ECDHE-ECDSA-AES128-GCM-SHA256 bits=128/128); Fri, 14 Nov 2025 14:14:58 -0800 (PST) X-Relaying-Domain: iol.unh.edu Date: Fri, 14 Nov 2025 14:14:58 -0800 (PST) Message-ID: <6917a9e2.170a0220.607dc.2841SMTPIN_ADDED_MISSING@mx.google.com> Received: from [172.21.0.5] (unknown [172.18.0.240]) by postal.iol.unh.edu (Postfix) with ESMTP id B49546050A61; Fri, 14 Nov 2025 17:14:57 -0500 (EST) Subject: |SUCCESS| pw158783 [PATCH] [v2] ethdev: add GENEVE encapsulation and From: dpdklab@iol.unh.edu To: Test Report Cc: dpdk-test-reports@iol.unh.edu, Stephen Hemminger In-Reply-To: <20251114061917.20948-1-sunyang.wu@jaguarmicro.com> References: <20251114061917.20948-1-sunyang.wu@jaguarmicro.com> Content-Type: text/plain X-BeenThere: test-report@dpdk.org X-Mailman-Version: 2.1.29 Precedence: list List-Id: automatic DPDK test reports List-Unsubscribe: , List-Archive: List-Post: List-Help: List-Subscribe: , Errors-To: test-report-bounces@dpdk.org Test-Label: iol-compile-amd64-testing Test-Status: SUCCESS http://dpdk.org/patch/158783 _Testing PASS_ Submitter: Sunyang Wu Date: Friday, November 14 2025 06:19:17 DPDK git baseline: Repo:dpdk-next-net Branch: master CommitID:fca6f2910345c25a5050a0b586e0d324ca616cbb 158783 --> testing pass Upstream job id: Generic-DPDK-Compile-Meson#444468 Test environment and result as below: +-------------------------------+--------------------+------------------+-------------------+ | Environment | dpdk_meson_compile | dpdk_compile_ovs | dpdk_msvc_compile | +===============================+====================+==================+===================+ | Ubuntu 20.04 | PASS | SKIPPED | SKIPPED | +-------------------------------+--------------------+------------------+-------------------+ | FreeBSD 14.2 | PASS | SKIPPED | SKIPPED | +-------------------------------+--------------------+------------------+-------------------+ | Ubuntu 22.04 | PASS | SKIPPED | SKIPPED | +-------------------------------+--------------------+------------------+-------------------+ | CentOS Stream 9 | PASS | SKIPPED | SKIPPED | +-------------------------------+--------------------+------------------+-------------------+ | CentOS Stream 10 | PASS | SKIPPED | SKIPPED | +-------------------------------+--------------------+------------------+-------------------+ | Fedora Linux 42 | PASS | PASS | SKIPPED | +-------------------------------+--------------------+------------------+-------------------+ | Debian GNU/Linux 12 | PASS | SKIPPED | SKIPPED | +-------------------------------+--------------------+------------------+-------------------+ | Red Hat Enterprise Linux 8.10 | PASS | SKIPPED | SKIPPED | +-------------------------------+--------------------+------------------+-------------------+ | openSUSE Leap 15.6 | PASS | SKIPPED | SKIPPED | +-------------------------------+--------------------+------------------+-------------------+ | Red Hat Enterprise Linux 9.5 | PASS | SKIPPED | SKIPPED | +-------------------------------+--------------------+------------------+-------------------+ | Ubuntu 24.04 | PASS | PASS | SKIPPED | +-------------------------------+--------------------+------------------+-------------------+ | Alpine Linux 3.22.0 | PASS | SKIPPED | SKIPPED | +-------------------------------+--------------------+------------------+-------------------+ | Windows Server 2022 | SKIPPED | SKIPPED | PASS | +-------------------------------+--------------------+------------------+-------------------+ Ubuntu 20.04 Kernel: 4.19 Compiler: gcc gcc (Ubuntu 9.4.0-1ubuntu1~20.04.2) 9.4.0 FreeBSD 14.2 Kernel: 14.2-RELEASE Compiler: clang 18.1.6 Ubuntu 22.04 Kernel: 5.15 Compiler: gcc gcc (Ubuntu 11.4.0-1ubuntu1~22.04) 11.4.0 CentOS Stream 9 Kernel: 5.15 Compiler: gcc gcc (GCC) 11.5.0 20240719 (Red Hat 11.5.0-11) CentOS Stream 10 Kernel: 5.15 Compiler: gcc gcc (GCC) 14.2.1 20250110 (Red Hat 14.2.1-8) Fedora Linux 42 Kernel: 5.15 Compiler: clang gcc (GCC) 15.2.1 20250808 (Red Hat 15.2.1-1) Debian GNU/Linux 12 Kernel: 5.15 Compiler: gcc gcc (Debian 12.2.0-14+deb12u1) 12.2.0 Red Hat Enterprise Linux 8.10 Kernel: 5.15 Compiler: gcc gcc (GCC) 8.5.0 20210514 (Red Hat 8.5.0-22) openSUSE Leap 15.6 Kernel: 5.15 Compiler: gcc gcc (SUSE Linux) 7.5.0 Red Hat Enterprise Linux 9.5 Kernel: 5.15 Compiler: gcc gcc (GCC) 11.5.0 20240719 (Red Hat 11.5.0-2) Ubuntu 24.04 Kernel: 5.15 Compiler: gcc gcc (Ubuntu 13.3.0-6ubuntu2~24.04) 13.3.0 Alpine Linux 3.22.0 Kernel: 5.15 Compiler: gcc gcc (Alpine 14.2.0) 14.2.0 Windows Server 2022 Kernel: 10.0.20348.2031 Compiler: clang 15.0.7, gcc 14.1.0 (MinGW), and MSVC VS 19.39.33521 To view detailed results, visit: https://lab.dpdk.org/results/dashboard/patchsets/34587/ UNH-IOL DPDK Community Lab To manage your email subscriptions, visit: https://lab.dpdk.org/results/dashboard/preferences/subscriptions/