From mboxrd@z Thu Jan 1 00:00:00 1970 Return-Path: Received: from mails.dpdk.org (mails.dpdk.org [217.70.189.124]) by inbox.dpdk.org (Postfix) with ESMTP id B65DB48B0E for ; Fri, 14 Nov 2025 23:17:39 +0100 (CET) Received: from mails.dpdk.org (localhost [127.0.0.1]) by mails.dpdk.org (Postfix) with ESMTP id AD593400D6; Fri, 14 Nov 2025 23:17:39 +0100 (CET) Received: from mail-pl1-f227.google.com (mail-pl1-f227.google.com [209.85.214.227]) by mails.dpdk.org (Postfix) with ESMTP id CA4AB400D6 for ; Fri, 14 Nov 2025 23:17:38 +0100 (CET) Received: by mail-pl1-f227.google.com with SMTP id d9443c01a7336-29808a9a96aso24179705ad.1 for ; Fri, 14 Nov 2025 14:17:38 -0800 (PST) DKIM-Signature: v=1; a=rsa-sha256; c=relaxed/relaxed; d=iol.unh.edu; s=unh-iol; t=1763158658; x=1763763458; darn=dpdk.org; h=references:in-reply-to:cc:to:from:subject:message-id:date:from:to :cc:subject:date:message-id:reply-to; bh=QLrTyOEuo9NtjqiExQpWzBlplftJkuCIRH+dvo2vWm4=; b=XeTxhmD38ijh/GDpP8wyskBCNtfqU3/8f+S9Foj0UmydGcwXH9dsyyhUY0TFS7acj9 SqU9lY7OjR7zOgXRH+Hr357ZX5NbgyCzYkDxGtvnCmRTgla7RIayrFK8H7nAL7ccRaP5 jKb/vRg0+S11TZeNraWh1cQZtYleF1mJNdltE= X-Google-DKIM-Signature: v=1; a=rsa-sha256; c=relaxed/relaxed; d=1e100.net; s=20230601; t=1763158658; x=1763763458; h=references:in-reply-to:cc:to:from:subject:message-id:date:x-gm-gg :x-gm-message-state:from:to:cc:subject:date:message-id:reply-to; bh=QLrTyOEuo9NtjqiExQpWzBlplftJkuCIRH+dvo2vWm4=; b=h6IRyRopBMTAvKxGHWK/wkC+HT9PeslgpIbWpv/QXnYlSVbdhxhbn7QcgZEO1+Mqyp JZ1jH5AK+v4ro2Z0juaOLP4CCwKbKKwcZOoq8pBFs9TX9x6+SeM74FXPBfG1TcdVbJZS RyVlfuz/4cuB2omuVzgvPR5ERQCGle5xMZ40E3YDeZifH0/fPG2BXOWwi/2CGRgphT8P If5tzvlF7fifRRAUNuJt22lg5G7Hj/JAI0gR1o0B2C9z8i55zv5Yy12Si6RZeJpxbQwY +/yDjLe9NkTX80hwe7UpS8DmcDMRfOJN5TJzdD9TcoMWaIXZ8xGQUyVVgJFcouxlvG9t dwcg== X-Gm-Message-State: AOJu0Yx/Y6DZ6dy2nixHHo9ageJJBLlOxgCijq3UpZYiSmddqxIHsiXU Y/qK8fj71GU1x3V+SXdg3QTOtE1zCnvizxDGp5JPk27zI6prrHE9BgrIGDWrZvkA3S/UexsDXdk ctirzPQ0UuOaDwBvCfH9YL48qDGLYc24Fr3bxfEM/zELh X-Gm-Gg: ASbGncvh6ZXc34FOcDm8BFBvfMkk8KG05Vbea+PEtuk1At6k/tyOo6hip0TC5z02Vnk xcku9yk/cQKUEaNWAqOSwb4l6wT6YjCa/oL9J7FHP+suf9VVDbVwLCEN1utHVyAMNgQ2o5NpjW6 ekAJcCUDFjh6c9Zg4DDS+cMMyUs7DOgooRWmHpdQDetBZaZi6+rOT6j0EuV3zuP4+dGbH3ZmHE+ 6nNKQ76WVTE/4wydgcFurfcOrq55g7fad7ydvCisO2aUIZIn9JEvTMXVW9GSMw/jGk4s01cVbp8 roKATSIxSW01TwmArjroDzRQN/SrS7mkZ7FT+5NE6dPa108fbqmYhGLPogaM+/y3oTdWtkV7KDN 8J0JQX6huew5VAhzslLprs4F37x4EgHE= X-Google-Smtp-Source: AGHT+IG0FUH+QoRgfIABcqKay7OA78oVEPFlVoHkqUcFqTdZAOjSnljwUJK0KOLfX8ICQheotqTI9P10aPoa X-Received: by 2002:a17:903:8cc:b0:298:33c9:eda2 with SMTP id d9443c01a7336-2986a73b4b2mr50690665ad.33.1763158658020; Fri, 14 Nov 2025 14:17:38 -0800 (PST) Received: from postal.iol.unh.edu (postal.iol.unh.edu. [132.177.123.84]) by smtp-relay.gmail.com with ESMTPS id d9443c01a7336-2985c244ea3sm7036395ad.18.2025.11.14.14.17.37 (version=TLS1_2 cipher=ECDHE-ECDSA-AES128-GCM-SHA256 bits=128/128); Fri, 14 Nov 2025 14:17:38 -0800 (PST) X-Relaying-Domain: iol.unh.edu Date: Fri, 14 Nov 2025 14:17:38 -0800 (PST) Message-ID: <6917aa82.170a0220.1fc12b.3bd4SMTPIN_ADDED_MISSING@mx.google.com> Received: from [172.21.0.4] (unknown [172.18.0.240]) by postal.iol.unh.edu (Postfix) with ESMTP id 4CBAD6050A61; Fri, 14 Nov 2025 17:17:37 -0500 (EST) Subject: |SUCCESS| pw158816 [PATCH] net/e1000: add check for filter mask rang From: dpdklab@iol.unh.edu To: Test Report Cc: dpdk-test-reports@iol.unh.edu, Bruce Richardson In-Reply-To: <20251114182131.1296580-1-stephen@networkplumber.org> References: <20251114182131.1296580-1-stephen@networkplumber.org> Content-Type: text/plain X-BeenThere: test-report@dpdk.org X-Mailman-Version: 2.1.29 Precedence: list List-Id: automatic DPDK test reports List-Unsubscribe: , List-Archive: List-Post: List-Help: List-Subscribe: , Errors-To: test-report-bounces@dpdk.org Test-Label: iol-unit-amd64-testing Test-Status: SUCCESS http://dpdk.org/patch/158816 _Testing PASS_ Submitter: Stephen Hemminger Date: Friday, November 14 2025 18:21:31 DPDK git baseline: Repo:dpdk-next-net-intel Branch: master CommitID:e5357d609907d504f4705e4899f3dad43cb4b70f 158816 --> testing pass Upstream job id: Generic-Unit-Test-DPDK#392926 Test environment and result as below: +-------------------------------+----------------+ | Environment | dpdk_unit_test | +===============================+================+ | CentOS Stream 9 | PASS | +-------------------------------+----------------+ | CentOS Stream 10 | PASS | +-------------------------------+----------------+ | Fedora Linux 40 | PASS | +-------------------------------+----------------+ | Debian GNU/Linux 12 | PASS | +-------------------------------+----------------+ | Fedora Linux 41 | PASS | +-------------------------------+----------------+ | Red Hat Enterprise Linux 8.10 | PASS | +-------------------------------+----------------+ | Ubuntu 22.04 | PASS | +-------------------------------+----------------+ | Fedora Linux 42 | PASS | +-------------------------------+----------------+ | Ubuntu 20.04 | PASS | +-------------------------------+----------------+ | Ubuntu 24.04 | PASS | +-------------------------------+----------------+ | Red Hat Enterprise Linux 9.5 | PASS | +-------------------------------+----------------+ CentOS Stream 9 Kernel: 5.15 Compiler: gcc gcc (GCC) 11.5.0 20240719 (Red Hat 11.5.0-11) CentOS Stream 10 Kernel: 5.15 Compiler: gcc gcc (GCC) 14.2.1 20250110 (Red Hat 14.2.1-8) Fedora Linux 40 Kernel: 5.15 Compiler: clang gcc (GCC) 14.2.1 20240912 (Red Hat 14.2.1-3) Debian GNU/Linux 12 Kernel: 5.15 Compiler: gcc gcc (Debian 12.2.0-14+deb12u1) 12.2.0 Fedora Linux 41 Kernel: 5.15 Compiler: clang gcc (GCC) 14.3.1 20250523 (Red Hat 14.3.1-1) Red Hat Enterprise Linux 8.10 Kernel: 5.15 Compiler: gcc gcc (GCC) 8.5.0 20210514 (Red Hat 8.5.0-22) Ubuntu 22.04 Kernel: 5.15 Compiler: gcc gcc (Ubuntu 11.4.0-1ubuntu1~22.04) 11.4.0 Fedora Linux 42 Kernel: 5.15 Compiler: gcc gcc (GCC) 15.2.1 20250808 (Red Hat 15.2.1-1) Ubuntu 20.04 Kernel: 5.15 Compiler: gcc gcc (Ubuntu 9.4.0-1ubuntu1~20.04.2) 9.4.0 Ubuntu 24.04 Kernel: 5.15 Compiler: gcc gcc (Ubuntu 13.3.0-6ubuntu2~24.04) 13.3.0 Red Hat Enterprise Linux 9.5 Kernel: 5.15 Compiler: gcc gcc (GCC) 11.5.0 20240719 (Red Hat 11.5.0-2) To view detailed results, visit: https://lab.dpdk.org/results/dashboard/patchsets/34598/ UNH-IOL DPDK Community Lab To manage your email subscriptions, visit: https://lab.dpdk.org/results/dashboard/preferences/subscriptions/