From mboxrd@z Thu Jan 1 00:00:00 1970 Return-Path: Received: from mails.dpdk.org (mails.dpdk.org [217.70.189.124]) by inbox.dpdk.org (Postfix) with ESMTP id D907E48B0E for ; Fri, 14 Nov 2025 23:19:07 +0100 (CET) Received: from mails.dpdk.org (localhost [127.0.0.1]) by mails.dpdk.org (Postfix) with ESMTP id D3474400D6; Fri, 14 Nov 2025 23:19:07 +0100 (CET) Received: from mail-pj1-f97.google.com (mail-pj1-f97.google.com [209.85.216.97]) by mails.dpdk.org (Postfix) with ESMTP id B0992400D6 for ; Fri, 14 Nov 2025 23:19:06 +0100 (CET) Received: by mail-pj1-f97.google.com with SMTP id 98e67ed59e1d1-3437af8444cso2554052a91.2 for ; Fri, 14 Nov 2025 14:19:06 -0800 (PST) DKIM-Signature: v=1; a=rsa-sha256; c=relaxed/relaxed; d=iol.unh.edu; s=unh-iol; t=1763158746; x=1763763546; darn=dpdk.org; h=cc:to:from:subject:message-id:date:from:to:cc:subject:date :message-id:reply-to; bh=7tfDEl6FLRPK4AyVz+iywb4wGdpSnrQbKctCOCzqf18=; b=ZW/iUb59sSMORS98+iqa+hE5F9kxxpHKdyPX3HD85J2YGX632sTdncFSUUewBgQo18 9edQX7FE/hzqseCczDwozHiOhmHQSnC3oayeR+hd5PKTfCj86lPKwU0XLI6sqs1zWaOI GC/SNkaWXsPwUwT1i24Hx2ZASXSUe8v+KXCu8= X-Google-DKIM-Signature: v=1; a=rsa-sha256; c=relaxed/relaxed; d=1e100.net; s=20230601; t=1763158746; x=1763763546; h=cc:to:from:subject:message-id:date:x-gm-gg:x-gm-message-state:from :to:cc:subject:date:message-id:reply-to; bh=7tfDEl6FLRPK4AyVz+iywb4wGdpSnrQbKctCOCzqf18=; b=qvwHfUiVAwjDD7xcXwYaJXx6ki1jnM1tXiRelNkPvtHH42druirPGOPmEbE0tXPLxB vG90I0A63zROcYJ2qxSachBAO/AVbeDQz+wOJ6HXGtutPnr/DFraNpWhghxsAqqNMbIc WgXfFro3xmi66ZPOHELPiH6N/Z+IM5UwYaPju4ItvnV3xt2W5BmNO1uv+I3Wt07HFO5r 8Z0WznmSI48ejFUKbnPDDiupaWNMSH6vzuIPF0mzci85MDBVTGdxC8QsW+KL2gjasOp5 I4b/HbTx9olgM0upYJYZ1WeNMT9fNcWgLp57HVWp/ESJu0EDxgHjsqRpQrpOoiyKujc0 Vh9A== X-Gm-Message-State: AOJu0Yzwl5zRqHWnWj1f4lbdpzdrKGGwxx95rzjVUE3WNurARUT+EKAv ZaUQCtukpt/GBM6ZVtrLJTI5HwWVw7l43p8AeitfI57rBHp0bzKwARQKPYrZcIwvq5A7sM5v4s8 mvyHezgnGSN3d/SKRDYkvJ1aCbMqYy3uvuF12+gGpRxKKzrUKkV6D X-Gm-Gg: ASbGncuZUx/+hf05RbtLnHDgj9zhyaq7bkOrI8CSoiN+zlcY8KEiufqacu4qAx6evuK nnLEVlcGoVE1ZCmrO0sF4Qh/Jd8Ym1+mj92uibGvSppPUYr5l9IerP0aiXJAupzNgL+m+sEIM0W aQNw5sAmdtxuOvIzKFtdw3126f+K3sDik/Wfz6h7hK8BMgvLxZey4aiesH/eUK7ek19UqUWx0p6 uQzq3PLFko82EXJUehJE6+DulmJFWF8+H0v2/KWp3ldiOJPBEs90FQ1Y1bH/55a0skXFsKPvmSp I8fUA2qr8tO0kTVjcQ6UQwpezGtxILbfkIgYhK34IYbNExZcV8WBvFUw0C56KUWm7S4/f5+ULXu s/ss90D6j X-Google-Smtp-Source: AGHT+IFPS6Iy2Mf0o9heVzLNDoJ7HpYE5YbLcqw21PDWaCjL7n/sRYJABo61W6zovLcTdom7fJS+rN/2XMvs X-Received: by 2002:a17:90b:4c48:b0:341:2b78:61b8 with SMTP id 98e67ed59e1d1-343fa637866mr5419379a91.20.1763158745831; Fri, 14 Nov 2025 14:19:05 -0800 (PST) Received: from postal.iol.unh.edu (postal.iol.unh.edu. [2606:4100:3880:1234::84]) by smtp-relay.gmail.com with ESMTPS id 98e67ed59e1d1-343ee0a2455sm702396a91.3.2025.11.14.14.19.05 (version=TLS1_2 cipher=ECDHE-ECDSA-AES128-GCM-SHA256 bits=128/128); Fri, 14 Nov 2025 14:19:05 -0800 (PST) X-Relaying-Domain: iol.unh.edu Date: Fri, 14 Nov 2025 14:19:05 -0800 (PST) Message-ID: <6917aad9.170a0220.399c40.2590SMTPIN_ADDED_MISSING@mx.google.com> Received: from [172.21.0.3] (unknown [172.18.0.240]) by postal.iol.unh.edu (Postfix) with ESMTP id 16F606050A61; Fri, 14 Nov 2025 17:19:05 -0500 (EST) Subject: |SUCCESS| [GIT MASTER] 0bd935abcb823f581ce53986986aa54eaf6f8140 From: dpdklab@iol.unh.edu To: Test Report Cc: dpdk-test-reports@iol.unh.edu, Xueming Li , Christian Ehrhardt , Kevin Traynor , Luca Boccassi Content-Type: text/plain X-BeenThere: test-report@dpdk.org X-Mailman-Version: 2.1.29 Precedence: list List-Id: automatic DPDK test reports List-Unsubscribe: , List-Archive: List-Post: List-Help: List-Subscribe: , Errors-To: test-report-bounces@dpdk.org _Testing PASS_ Branch: tags/v24.11 0bd935abcb823f581ce53986986aa54eaf6f8140 --> testing pass Upstream job id: Generic-DPDK-Compile-Meson#444463 Test environment and result as below: +-------------------------------+--------------------+------------------+-------------------+ | Environment | dpdk_meson_compile | dpdk_compile_ovs | dpdk_msvc_compile | +===============================+====================+==================+===================+ | FreeBSD 14.2 | PASS | SKIPPED | SKIPPED | +-------------------------------+--------------------+------------------+-------------------+ | Ubuntu 20.04 | PASS | SKIPPED | SKIPPED | +-------------------------------+--------------------+------------------+-------------------+ | CentOS Stream 10 | PASS | SKIPPED | SKIPPED | +-------------------------------+--------------------+------------------+-------------------+ | CentOS Stream 9 | PASS | SKIPPED | SKIPPED | +-------------------------------+--------------------+------------------+-------------------+ | Debian GNU/Linux 12 | PASS | SKIPPED | SKIPPED | +-------------------------------+--------------------+------------------+-------------------+ | Fedora Linux 42 | PASS | PASS | SKIPPED | +-------------------------------+--------------------+------------------+-------------------+ | openSUSE Leap 15.6 | PASS | SKIPPED | SKIPPED | +-------------------------------+--------------------+------------------+-------------------+ | Red Hat Enterprise Linux 8.10 | PASS | SKIPPED | SKIPPED | +-------------------------------+--------------------+------------------+-------------------+ | Red Hat Enterprise Linux 9.5 | PASS | SKIPPED | SKIPPED | +-------------------------------+--------------------+------------------+-------------------+ | Ubuntu 22.04 | PASS | SKIPPED | SKIPPED | +-------------------------------+--------------------+------------------+-------------------+ | Ubuntu 24.04 | PASS | PASS | SKIPPED | +-------------------------------+--------------------+------------------+-------------------+ | Alpine Linux 3.22.0 | PASS | SKIPPED | SKIPPED | +-------------------------------+--------------------+------------------+-------------------+ | Windows Server 2022 | SKIPPED | SKIPPED | PASS | +-------------------------------+--------------------+------------------+-------------------+ FreeBSD 14.2 Kernel: 14.2-RELEASE Compiler: clang 18.1.6 Ubuntu 20.04 Kernel: 4.19 Compiler: gcc gcc (Ubuntu 9.4.0-1ubuntu1~20.04.2) 9.4.0 CentOS Stream 10 Kernel: 5.15 Compiler: gcc gcc (GCC) 14.2.1 20250110 (Red Hat 14.2.1-8) CentOS Stream 9 Kernel: 5.15 Compiler: gcc gcc (GCC) 11.5.0 20240719 (Red Hat 11.5.0-11) Debian GNU/Linux 12 Kernel: 5.15 Compiler: gcc gcc (Debian 12.2.0-14+deb12u1) 12.2.0 Fedora Linux 42 Kernel: 5.15 Compiler: clang gcc (GCC) 15.2.1 20250808 (Red Hat 15.2.1-1) openSUSE Leap 15.6 Kernel: 5.15 Compiler: gcc gcc (SUSE Linux) 7.5.0 Red Hat Enterprise Linux 8.10 Kernel: 5.15 Compiler: gcc gcc (GCC) 8.5.0 20210514 (Red Hat 8.5.0-22) Red Hat Enterprise Linux 9.5 Kernel: 5.15 Compiler: gcc gcc (GCC) 11.5.0 20240719 (Red Hat 11.5.0-2) Ubuntu 22.04 Kernel: 5.15 Compiler: gcc gcc (Ubuntu 11.4.0-1ubuntu1~22.04) 11.4.0 Ubuntu 24.04 Kernel: 5.15 Compiler: gcc gcc (Ubuntu 13.3.0-6ubuntu2~24.04) 13.3.0 Alpine Linux 3.22.0 Kernel: 5.15 Compiler: gcc gcc (Alpine 14.2.0) 14.2.0 Windows Server 2022 Kernel: 10.0.20348.2031 Compiler: clang 15.0.7, gcc 14.1.0 (MinGW), and MSVC VS 19.39.33521 To view detailed results, visit: https://lab.dpdk.org/results/dashboard/tarballs/35594/ UNH-IOL DPDK Community Lab To manage your email subscriptions, visit: https://lab.dpdk.org/results/dashboard/preferences/subscriptions/