automatic DPDK test reports
 help / color / mirror / Atom feed
From: dpdklab@iol.unh.edu
To: Test Report <test-report@dpdk.org>
Cc: dpdk-test-reports@iol.unh.edu
Subject: |SUCCESS| pw158819 [PATCH] net/mlx5: improve error on completing tab
Date: Fri, 14 Nov 2025 14:33:13 -0800 (PST)	[thread overview]
Message-ID: <6917ae29.170a0220.38a400.d93bSMTPIN_ADDED_MISSING@mx.google.com> (raw)
In-Reply-To: <20251114192712.1637369-1-dsosnowski@nvidia.com>

Test-Label: iol-compile-amd64-testing
Test-Status: SUCCESS
http://dpdk.org/patch/158819

_Testing PASS_

Submitter: Dariusz Sosnowski <dsosnowski@nvidia.com>
Date: Friday, November 14 2025 19:27:12 
DPDK git baseline: Repo:dpdk-next-net-mlx
  Branch: master
  CommitID:ae657d56b1f0ea979b3f611edf28d773efc2ddcf

158819 --> testing pass

Upstream job id: Windows-Compile-DPDK-Native#32332

Test environment and result as below:

+---------------------+--------------------+-------------------------+
|     Environment     | dpdk_meson_compile | dpdk_llvm_clang_compile |
+=====================+====================+=========================+
| Ubuntu 20.04        | PASS               | SKIPPED                 |
+---------------------+--------------------+-------------------------+
| FreeBSD 14.2        | PASS               | SKIPPED                 |
+---------------------+--------------------+-------------------------+
| Windows Server 2022 | SKIPPED            | PASS                    |
+---------------------+--------------------+-------------------------+


Ubuntu 20.04
	Kernel: 4.19
	Compiler: gcc gcc (Ubuntu 9.4.0-1ubuntu1~20.04.2) 9.4.0

FreeBSD 14.2
	Kernel: 14.2-RELEASE
	Compiler: clang 18.1.6

Windows Server 2022
	Kernel: 10.0.20348.2031
	Compiler: clang 15.0.7, gcc 14.1.0 (MinGW), and MSVC VS 19.39.33521

To view detailed results, visit:
https://lab.dpdk.org/results/dashboard/patchsets/34601/

UNH-IOL DPDK Community Lab

To manage your email subscriptions, visit: 
https://lab.dpdk.org/results/dashboard/preferences/subscriptions/

  parent reply	other threads:[~2025-11-14 22:33 UTC|newest]

Thread overview: 21+ messages / expand[flat|nested]  mbox.gz  Atom feed  top
     [not found] <20251114192712.1637369-1-dsosnowski@nvidia.com>
2025-11-14 18:54 ` |SUCCESS| pw158819 [PATCH] net/mlx5: improve error on completing table resize qemudev
2025-11-14 18:59 ` qemudev
2025-11-14 19:27 ` checkpatch
2025-11-14 20:40 ` |PENDING| pw158819 [PATCH] net/mlx5: improve error on completing tab dpdklab
2025-11-14 20:44 ` |SUCCESS| " dpdklab
2025-11-14 20:48 ` dpdklab
2025-11-14 20:48 ` dpdklab
2025-11-14 20:49 ` |SUCCESS| pw158819 [PATCH] net/mlx5: improve error on completing table resize 0-day Robot
2025-11-14 20:49 ` 0-day Robot
2025-11-14 20:53 ` |SUCCESS| pw158819 [PATCH] net/mlx5: improve error on completing tab dpdklab
2025-11-14 21:04 ` dpdklab
2025-11-14 21:35 ` dpdklab
2025-11-14 21:35 ` dpdklab
2025-11-14 21:37 ` |PENDING| " dpdklab
2025-11-14 22:07 ` |SUCCESS| " dpdklab
2025-11-14 22:14 ` dpdklab
2025-11-14 22:17 ` |PENDING| " dpdklab
2025-11-14 22:33 ` dpdklab [this message]
2025-11-14 22:36 ` |SUCCESS| " dpdklab
2025-11-14 22:45 ` dpdklab
2025-11-14 23:34 ` dpdklab

Reply instructions:

You may reply publicly to this message via plain-text email
using any one of the following methods:

* Save the following mbox file, import it into your mail client,
  and reply-to-all from there: mbox

  Avoid top-posting and favor interleaved quoting:
  https://en.wikipedia.org/wiki/Posting_style#Interleaved_style

* Reply using the --to, --cc, and --in-reply-to
  switches of git-send-email(1):

  git send-email \
    --in-reply-to=6917ae29.170a0220.38a400.d93bSMTPIN_ADDED_MISSING@mx.google.com \
    --to=dpdklab@iol.unh.edu \
    --cc=dpdk-test-reports@iol.unh.edu \
    --cc=test-report@dpdk.org \
    /path/to/YOUR_REPLY

  https://kernel.org/pub/software/scm/git/docs/git-send-email.html

* If your mail client supports setting the In-Reply-To header
  via mailto: links, try the mailto: link
Be sure your reply has a Subject: header at the top and a blank line before the message body.
This is a public inbox, see mirroring instructions
for how to clone and mirror all data and code used for this inbox;
as well as URLs for NNTP newsgroup(s).