From mboxrd@z Thu Jan 1 00:00:00 1970 Return-Path: Received: from mails.dpdk.org (mails.dpdk.org [217.70.189.124]) by inbox.dpdk.org (Postfix) with ESMTP id 5045048B0E for ; Fri, 14 Nov 2025 23:33:15 +0100 (CET) Received: from mails.dpdk.org (localhost [127.0.0.1]) by mails.dpdk.org (Postfix) with ESMTP id 30311400D6; Fri, 14 Nov 2025 23:33:15 +0100 (CET) Received: from mail-pl1-f227.google.com (mail-pl1-f227.google.com [209.85.214.227]) by mails.dpdk.org (Postfix) with ESMTP id 91C4C400D6 for ; Fri, 14 Nov 2025 23:33:14 +0100 (CET) Received: by mail-pl1-f227.google.com with SMTP id d9443c01a7336-297d4a56f97so25619015ad.1 for ; Fri, 14 Nov 2025 14:33:14 -0800 (PST) DKIM-Signature: v=1; a=rsa-sha256; c=relaxed/relaxed; d=iol.unh.edu; s=unh-iol; t=1763159594; x=1763764394; darn=dpdk.org; h=references:in-reply-to:cc:to:from:subject:message-id:date:from:to :cc:subject:date:message-id:reply-to; bh=lgpReHC1T5yTdXBpoBq2FV37ND1DwhgAOQQFOkXnEug=; b=UMPddAaa/pXCIu3jV50ljuxk00Vx/M0mOvxZOdxn0qnYoJt9fShSUBmGDN4BrqO5we gJ54jMapBbCP2yoLI40h1G1D/7qUYqYTwwp6rINDZrf7hpJAq57TAFe52HEGGuerXXnw j0Y1WDPSd3783+gIMDn7hnip6swNBX3M+mEd0= X-Google-DKIM-Signature: v=1; a=rsa-sha256; c=relaxed/relaxed; d=1e100.net; s=20230601; t=1763159594; x=1763764394; h=references:in-reply-to:cc:to:from:subject:message-id:date:x-gm-gg :x-gm-message-state:from:to:cc:subject:date:message-id:reply-to; bh=lgpReHC1T5yTdXBpoBq2FV37ND1DwhgAOQQFOkXnEug=; b=bz9jAlVhbLO+JPtTStMjLhdRdKXljoEkBSmrIKP8jjRekEHhpVGt/MpnBpjPUDDO5V zSl8bQRgjyDhRMK553b+yrQtoYEbJgPgVc/z8RSFRpNc+719ruFJRE6i3y7S121QxJFp t4K3K6WArGCYmWEqImUYOYHioeLrnNXEtTPy1FLsv7a32Ynb/DK5Vi3YDwn8ZgQWfTFf nOk0MyFlPnt4diWsLGPgquf2KjTdIahpxTKKqQe19aqvAekDyMCabdfiPzfMlM1nlbE/ 8PcitJPj0vX9t83D/rcNSz1r+CPU0MBTqyXt2415EFPnpbcoLlp8cZ/DhO3LzwR2LOWk i8oA== X-Gm-Message-State: AOJu0YwhU8GsO3nr2KIzBGaf3n7/xm7sgnhAs8jIVpXHTYY0k/+5MLnX gKUkbJf8R0z3NSYxhjouUCHlyD/QXseRatIBvQoae37dDxzHVnFzwEbKwMtWFz4b7rlhlNiD3fC 1Hq7Ds/ENMku3YwmQSP1RlBEQd+cot/v4eXxncm9lC9+b X-Gm-Gg: ASbGnctbOVhlDhRRdBJyw4qhvhBVElZdeLja+OgLx8K03lzJmeXC8QkMJ2l0g5v8uol Pe5NrTzkVjIqtD3/X4Dv5RUP6hKhEkctYY62eQmRh9DgDEoY/5SWg7mAPfo0OlF928LGT6INbgL MsqrZevzf6SHeXQNZH4HioQIAk5N8tbr142tNCSEpNNF0X2C8FiTOW+av9FEmAlyg8M6lMagFKx lCPDCpFqUmm7A3cbXAGF6LFghZzITeu+KrVmKeoWmUWUinC1/4DBHkRJDcLDLXUBpUXNlwfYF+F 7AA1CL1xY+wiju73G+uYX6gSJVDwZYUr9Vv4Nw0YWDVnd1CnF5OQDfbC6MOxsZn28NFrMDgzy0Z YnQhDvNCx1nqP/oYAIO0y9RFV4LIyyfQ= X-Google-Smtp-Source: AGHT+IFfcISxVfGCjir7z7SxNCwbQD7mp7kxI1hSDMMsiYYMPJ63/H/W6ncXvHBObcLcDAzDBZZKKoonapv0 X-Received: by 2002:a17:903:1b2f:b0:295:7423:4be2 with SMTP id d9443c01a7336-2986a6abf30mr53790105ad.3.1763159593740; Fri, 14 Nov 2025 14:33:13 -0800 (PST) Received: from postal.iol.unh.edu (postal.iol.unh.edu. [132.177.123.84]) by smtp-relay.gmail.com with ESMTPS id d9443c01a7336-2985eb68a58sm6037595ad.56.2025.11.14.14.33.13 (version=TLS1_2 cipher=ECDHE-ECDSA-AES128-GCM-SHA256 bits=128/128); Fri, 14 Nov 2025 14:33:13 -0800 (PST) X-Relaying-Domain: iol.unh.edu Date: Fri, 14 Nov 2025 14:33:13 -0800 (PST) Message-ID: <6917ae29.170a0220.38a400.d93bSMTPIN_ADDED_MISSING@mx.google.com> Received: from [172.21.0.4] (unknown [172.18.0.240]) by postal.iol.unh.edu (Postfix) with ESMTP id EF1A560003E7; Fri, 14 Nov 2025 17:33:12 -0500 (EST) Subject: |SUCCESS| pw158819 [PATCH] net/mlx5: improve error on completing tab From: dpdklab@iol.unh.edu To: Test Report Cc: dpdk-test-reports@iol.unh.edu In-Reply-To: <20251114192712.1637369-1-dsosnowski@nvidia.com> References: <20251114192712.1637369-1-dsosnowski@nvidia.com> Content-Type: text/plain X-BeenThere: test-report@dpdk.org X-Mailman-Version: 2.1.29 Precedence: list List-Id: automatic DPDK test reports List-Unsubscribe: , List-Archive: List-Post: List-Help: List-Subscribe: , Errors-To: test-report-bounces@dpdk.org Test-Label: iol-compile-amd64-testing Test-Status: SUCCESS http://dpdk.org/patch/158819 _Testing PASS_ Submitter: Dariusz Sosnowski Date: Friday, November 14 2025 19:27:12 DPDK git baseline: Repo:dpdk-next-net-mlx Branch: master CommitID:ae657d56b1f0ea979b3f611edf28d773efc2ddcf 158819 --> testing pass Upstream job id: Windows-Compile-DPDK-Native#32332 Test environment and result as below: +---------------------+--------------------+-------------------------+ | Environment | dpdk_meson_compile | dpdk_llvm_clang_compile | +=====================+====================+=========================+ | Ubuntu 20.04 | PASS | SKIPPED | +---------------------+--------------------+-------------------------+ | FreeBSD 14.2 | PASS | SKIPPED | +---------------------+--------------------+-------------------------+ | Windows Server 2022 | SKIPPED | PASS | +---------------------+--------------------+-------------------------+ Ubuntu 20.04 Kernel: 4.19 Compiler: gcc gcc (Ubuntu 9.4.0-1ubuntu1~20.04.2) 9.4.0 FreeBSD 14.2 Kernel: 14.2-RELEASE Compiler: clang 18.1.6 Windows Server 2022 Kernel: 10.0.20348.2031 Compiler: clang 15.0.7, gcc 14.1.0 (MinGW), and MSVC VS 19.39.33521 To view detailed results, visit: https://lab.dpdk.org/results/dashboard/patchsets/34601/ UNH-IOL DPDK Community Lab To manage your email subscriptions, visit: https://lab.dpdk.org/results/dashboard/preferences/subscriptions/