From mboxrd@z Thu Jan 1 00:00:00 1970 Return-Path: Received: from mails.dpdk.org (mails.dpdk.org [217.70.189.124]) by inbox.dpdk.org (Postfix) with ESMTP id 5C8B248B0E for ; Fri, 14 Nov 2025 23:43:17 +0100 (CET) Received: from mails.dpdk.org (localhost [127.0.0.1]) by mails.dpdk.org (Postfix) with ESMTP id 36D35400D6; Fri, 14 Nov 2025 23:43:17 +0100 (CET) Received: from mail-pl1-f228.google.com (mail-pl1-f228.google.com [209.85.214.228]) by mails.dpdk.org (Postfix) with ESMTP id 4F674400D6 for ; Fri, 14 Nov 2025 23:43:16 +0100 (CET) Received: by mail-pl1-f228.google.com with SMTP id d9443c01a7336-29808a9a96aso24308065ad.1 for ; Fri, 14 Nov 2025 14:43:16 -0800 (PST) DKIM-Signature: v=1; a=rsa-sha256; c=relaxed/relaxed; d=iol.unh.edu; s=unh-iol; t=1763160195; x=1763764995; darn=dpdk.org; h=references:in-reply-to:cc:to:from:subject:message-id:date:from:to :cc:subject:date:message-id:reply-to; bh=85TXD/UJ/fOAOeUg4RVhM9x1FGAR6akAhWX79ISAGsc=; b=RKQ6FL04qfziglJMjj6xVaNz/cZVH2Zr6EDjkEz8a3+Ju1eiESwsYdqxdNGxUWaO2O 0zAmXKw63PLlxSQF4yz8q+HoKmIzMt1QoFBkHiV7XzqrWIQSI1TbBpbTjNi1VyXLdYdZ QFqlt5jjrx08J6RkcSvmTs1+P6tjgQfbYsVBs= X-Google-DKIM-Signature: v=1; a=rsa-sha256; c=relaxed/relaxed; d=1e100.net; s=20230601; t=1763160195; x=1763764995; h=references:in-reply-to:cc:to:from:subject:message-id:date:x-gm-gg :x-gm-message-state:from:to:cc:subject:date:message-id:reply-to; bh=85TXD/UJ/fOAOeUg4RVhM9x1FGAR6akAhWX79ISAGsc=; b=QTzNGEJ4Aa0kBkrm+IFal4z/Ce9tttHed2wDA0eRyeKc9TU23TQZBoW6DMq86Ht9vm Gj5/TqicXtFY6nVxLE4KgKaSwPNu6vTolXhGKL8TX/RhDs3hb3UTDSkSCFuPgcgDKZ0y evebGnxB+THPoXYJT4cxUqZfN9Gc1UCogwggWHyE/Dmlc3rwn2DJsAvGWx8IUgRUGGWJ bTaqP1DTL5p3U5Il7xZ2dJi7+JUj1TU/IKDOsDbzt7oswj+8sz4EMqewD9zoki0wsWat ZN5dDEVDttL+dBSe+QDvIavhwp7/5AfxRvzUD3AgE45gsAlif2+8pKaI8jlV5MZZX44G PUCg== X-Gm-Message-State: AOJu0Yzpcaeeu8I+pgtVnf+BYedKWfgw/DCar2N05rTx8z5HUr9PpuNs kvPbq8lLWS0jpbWpcNHt/XteOMb3Z6+rh+zacnfJeze8F1Iv6EHTRFBXvy53TZ4rkBNtri7dhxg I1DjOVjbWim6XPOVlVZk+BImlBiDcY4KtIqV7oRnXyXILOJhramOdwcyhu8RX X-Gm-Gg: ASbGnctzOAyxPSelk00+rJW97pwGQJHSUdN8heF9Ti1mpvW7Jg/Z/I8opAdu5k51+Zy sdhv+GOgOHS4rAHxWrLp3i3HG9spzyaVx0oEkUyt2M0OPMitulXBRPTBEmJjvcWy1fw3/cY6XWd pU0cV6vQEq+Dz7kj6PbRkH8jwGHJEsRuhlv3HuUqrOoetYRoc2H7yEXYLPyph2D19HEIH9A9CEi BKg6qmlfQ1375UuXXyPvItMfs4xvBlNuSl6kvEJZ3INxn3UoHvWpT4bbbYVwEk7ywhlMTpGnS6p WAQz7dhucKX68H+Wckp0S0b6klNCqCPwk1ykh3j91xpjF+rV/dlb7/teOHkC7ZuBQfu3cnELmCp 8GoDRAYTu X-Google-Smtp-Source: AGHT+IET2nKepKN4+7tJ+PzUmLdIJV8a+qhP8Uy4JhL16pLzTOKO7pOCyyshPtYjXIYE5oVSGE2wGxO7QHka X-Received: by 2002:a17:903:17c6:b0:295:1aa7:edf7 with SMTP id d9443c01a7336-2986a73ba63mr50145845ad.30.1763160195452; Fri, 14 Nov 2025 14:43:15 -0800 (PST) Received: from postal.iol.unh.edu (postal.iol.unh.edu. [2606:4100:3880:1234::84]) by smtp-relay.gmail.com with ESMTPS id d9443c01a7336-2985c2c3f5dsm7096305ad.59.2025.11.14.14.43.15 (version=TLS1_2 cipher=ECDHE-ECDSA-AES128-GCM-SHA256 bits=128/128); Fri, 14 Nov 2025 14:43:15 -0800 (PST) X-Relaying-Domain: iol.unh.edu Date: Fri, 14 Nov 2025 14:43:15 -0800 (PST) Message-ID: <6917b083.170a0220.2ea11d.30eaSMTPIN_ADDED_MISSING@mx.google.com> Received: from [172.21.0.3] (unknown [172.18.0.240]) by postal.iol.unh.edu (Postfix) with ESMTP id AF9AA6051830; Fri, 14 Nov 2025 17:43:14 -0500 (EST) Subject: |SUCCESS| pw158775 [PATCH] net/mlx5: fix state corruption in dev sta From: dpdklab@iol.unh.edu To: Test Report Cc: dpdk-test-reports@iol.unh.edu In-Reply-To: <20251113193711.7883-1-mkashani@nvidia.com> References: <20251113193711.7883-1-mkashani@nvidia.com> Content-Type: text/plain X-BeenThere: test-report@dpdk.org X-Mailman-Version: 2.1.29 Precedence: list List-Id: automatic DPDK test reports List-Unsubscribe: , List-Archive: List-Post: List-Help: List-Subscribe: , Errors-To: test-report-bounces@dpdk.org Test-Label: iol-unit-amd64-testing Test-Status: SUCCESS http://dpdk.org/patch/158775 _Testing PASS_ Submitter: Maayan Kashani Date: Thursday, November 13 2025 19:37:11 DPDK git baseline: Repo:dpdk-next-net-mlx Branch: master CommitID:ae657d56b1f0ea979b3f611edf28d773efc2ddcf 158775 --> testing pass Upstream job id: Generic-VM-Unit-Test-DPDK#32556 Test environment and result as below: +-------------------------------+----------------+ | Environment | dpdk_unit_test | +===============================+================+ | CentOS Stream 9 | PASS | +-------------------------------+----------------+ | CentOS Stream 10 | PASS | +-------------------------------+----------------+ | Debian GNU/Linux 12 | PASS | +-------------------------------+----------------+ | Fedora Linux 40 | PASS | +-------------------------------+----------------+ | Fedora Linux 41 | PASS | +-------------------------------+----------------+ | Fedora Linux 42 | PASS | +-------------------------------+----------------+ | Ubuntu 20.04 | PASS | +-------------------------------+----------------+ | Ubuntu 24.04 | PASS | +-------------------------------+----------------+ | Ubuntu 22.04 | PASS | +-------------------------------+----------------+ | Red Hat Enterprise Linux 9.5 | PASS | +-------------------------------+----------------+ | Red Hat Enterprise Linux 8.10 | PASS | +-------------------------------+----------------+ | Windows Server 2022 | PASS | +-------------------------------+----------------+ CentOS Stream 9 Kernel: 5.15 Compiler: gcc gcc (GCC) 11.5.0 20240719 (Red Hat 11.5.0-11) CentOS Stream 10 Kernel: 5.15 Compiler: gcc gcc (GCC) 14.2.1 20250110 (Red Hat 14.2.1-8) Debian GNU/Linux 12 Kernel: 5.15 Compiler: gcc gcc (Debian 12.2.0-14+deb12u1) 12.2.0 Fedora Linux 40 Kernel: 5.15 Compiler: gcc gcc (GCC) 14.2.1 20240912 (Red Hat 14.2.1-3) Fedora Linux 41 Kernel: 5.15 Compiler: gcc gcc (GCC) 14.3.1 20250523 (Red Hat 14.3.1-1) Fedora Linux 42 Kernel: 5.15 Compiler: clang gcc (GCC) 15.2.1 20250808 (Red Hat 15.2.1-1) Ubuntu 20.04 Kernel: 5.15 Compiler: gcc gcc (Ubuntu 9.4.0-1ubuntu1~20.04.2) 9.4.0 Ubuntu 24.04 Kernel: 5.15 Compiler: gcc gcc (Ubuntu 13.3.0-6ubuntu2~24.04) 13.3.0 Ubuntu 22.04 Kernel: 5.15 Compiler: gcc gcc (Ubuntu 11.4.0-1ubuntu1~22.04) 11.4.0 Red Hat Enterprise Linux 9.5 Kernel: 5.15 Compiler: gcc gcc (GCC) 11.5.0 20240719 (Red Hat 11.5.0-2) Red Hat Enterprise Linux 8.10 Kernel: 5.15 Compiler: gcc gcc (GCC) 8.5.0 20210514 (Red Hat 8.5.0-22) Windows Server 2022 Kernel: 10.0.20348.2031 Compiler: clang 15.0.7, gcc 14.1.0 (MinGW), and MSVC VS 19.39.33521 To view detailed results, visit: https://lab.dpdk.org/results/dashboard/patchsets/34582/ UNH-IOL DPDK Community Lab To manage your email subscriptions, visit: https://lab.dpdk.org/results/dashboard/preferences/subscriptions/