From mboxrd@z Thu Jan 1 00:00:00 1970 Return-Path: Received: from mails.dpdk.org (mails.dpdk.org [217.70.189.124]) by inbox.dpdk.org (Postfix) with ESMTP id 888A948B0E for ; Fri, 14 Nov 2025 23:45:50 +0100 (CET) Received: from mails.dpdk.org (localhost [127.0.0.1]) by mails.dpdk.org (Postfix) with ESMTP id 834C2400D6; Fri, 14 Nov 2025 23:45:50 +0100 (CET) Received: from mail-pf1-f225.google.com (mail-pf1-f225.google.com [209.85.210.225]) by mails.dpdk.org (Postfix) with ESMTP id 3031B400D6 for ; Fri, 14 Nov 2025 23:45:49 +0100 (CET) Received: by mail-pf1-f225.google.com with SMTP id d2e1a72fcca58-7b8d99ad095so2042191b3a.0 for ; Fri, 14 Nov 2025 14:45:49 -0800 (PST) DKIM-Signature: v=1; a=rsa-sha256; c=relaxed/relaxed; d=iol.unh.edu; s=unh-iol; t=1763160348; x=1763765148; darn=dpdk.org; h=references:in-reply-to:cc:to:from:subject:message-id:date:from:to :cc:subject:date:message-id:reply-to; bh=kdGKdtJM2cJZwz6NEAAepNj3NKAJV3tvMaFlzqQK55s=; b=iZa/A1+3yfS29Mhk3swU5K59CUcx2wYvscKBjyxKiJlgJnc6d6ArgMG6yzERFuK/nW AtoC8ujm4ZjvAD/+eUvGEEy2tc8dY49y7eoINmH3uaEQvKCPJel3ql9hKYMZz69IahOh jloEuUpYvGdpYlvnrvRCF7G3YMlSmSwg8mJYA= X-Google-DKIM-Signature: v=1; a=rsa-sha256; c=relaxed/relaxed; d=1e100.net; s=20230601; t=1763160348; x=1763765148; h=references:in-reply-to:cc:to:from:subject:message-id:date:x-gm-gg :x-gm-message-state:from:to:cc:subject:date:message-id:reply-to; bh=kdGKdtJM2cJZwz6NEAAepNj3NKAJV3tvMaFlzqQK55s=; b=xO0BxYbTTEfZ4WKOJKf+C8O55y/7UBZCs5jSNMW8YgwhtTAvI3znp1HNatrzASAB6e jb+/Z+fRugNliIWgPkgc86Cz6Ix0/mjULRXff8ceYn9LnZDY//mGMtdbxrpCCHoUnj+W Tulo7Ykcfq1LiLXc06knQFKbDyznAYcRrmgXpgunykzqjqRLX9nSHAhgK5I3Mn5cVNpc GNypPb1xPTlv0/D36l26gws9a3aANQmrp6wdZy58cGzt++S7+6Be3tqcoP5kkhbGrQHB C0sk727dgVxqwlx8HnqTm9NqHuslp86qFc3k0+KzL45B90WSqFvMJQasZe0ooDJB2gJ3 5ATA== X-Gm-Message-State: AOJu0YyA1FZll4hZrPqz3JHh5RgzzolfFFEMEKG1T0WqmEYpPpEShgah ty3Cc8Lv/CQ693FeFOoYIzmck96Kqf8kYHbQHRSnqcrcjPXPARh68pIv5uwht14FS1XrtTH0DBp ZJhf916ANACJzKh7HRwD5qPfX5fPqn2xn6wqfPdVu3rL6w41jssIchD15Meb4 X-Gm-Gg: ASbGnctJTnum0OYcxTjyYAEDEc9Uxh6wNmNTeQj7h7uW49KeJelRX3NEzBPt3E2l1C6 p4dWBZsx3WbxAzsKLhtOBafch1y887/kmNKdyuE1ey1yf6YhidoSUflWcWZKoq1d6ge83QuTQZX AR/1yDGT/TXis0xsCbd+vSq8IeJQdQVVZHSXYg/KjOhexG/wF/B4VZvCeXy0Fs4jz1Pe/YSxOfb VN5GKSgwG+ydZxZgSESrt3sRduLY/9ZD9YhoCtMQzWrhW7hnXfxqejdxoLEboC1LO+m+k6rqLs4 i+uCzsdpi3f+CLfRJeMbu+VuzlgghSaG2SY1XxU9oN7zRdbI/ZhK3Jo1rrXRFU+KXoQBec73ngi CjA52ZGWS X-Google-Smtp-Source: AGHT+IH01cJmyDDOIYpSFpqm3xjhHODftqi+JtkYbEogz3nuI54ssQSWdiz25itZUaU6Ii2bFi9sZqDjyBhR X-Received: by 2002:a05:7022:6728:b0:11a:4a52:5a42 with SMTP id a92af1059eb24-11b40b33c48mr1717328c88.0.1763160348296; Fri, 14 Nov 2025 14:45:48 -0800 (PST) Received: from postal.iol.unh.edu (postal.iol.unh.edu. [2606:4100:3880:1234::84]) by smtp-relay.gmail.com with ESMTPS id 5a478bee46e88-2a49da02784sm445813eec.1.2025.11.14.14.45.48 (version=TLS1_2 cipher=ECDHE-ECDSA-AES128-GCM-SHA256 bits=128/128); Fri, 14 Nov 2025 14:45:48 -0800 (PST) X-Relaying-Domain: iol.unh.edu Date: Fri, 14 Nov 2025 14:45:48 -0800 (PST) Message-ID: <6917b11c.050a0220.3d5c8.607dSMTPIN_ADDED_MISSING@mx.google.com> Received: from [172.21.0.3] (unknown [172.18.0.240]) by postal.iol.unh.edu (Postfix) with ESMTP id 6BC7A6051830; Fri, 14 Nov 2025 17:45:47 -0500 (EST) Subject: |SUCCESS| pw158819 [PATCH] net/mlx5: improve error on completing tab From: dpdklab@iol.unh.edu To: Test Report Cc: dpdk-test-reports@iol.unh.edu In-Reply-To: <20251114192712.1637369-1-dsosnowski@nvidia.com> References: <20251114192712.1637369-1-dsosnowski@nvidia.com> Content-Type: text/plain X-BeenThere: test-report@dpdk.org X-Mailman-Version: 2.1.29 Precedence: list List-Id: automatic DPDK test reports List-Unsubscribe: , List-Archive: List-Post: List-Help: List-Subscribe: , Errors-To: test-report-bounces@dpdk.org Test-Label: iol-unit-amd64-testing Test-Status: SUCCESS http://dpdk.org/patch/158819 _Testing PASS_ Submitter: Dariusz Sosnowski Date: Friday, November 14 2025 19:27:12 DPDK git baseline: Repo:dpdk-next-net-mlx Branch: master CommitID:ae657d56b1f0ea979b3f611edf28d773efc2ddcf 158819 --> testing pass Upstream job id: Generic-Unit-Test-DPDK#392947 Test environment and result as below: +-------------------------------+----------------+ | Environment | dpdk_unit_test | +===============================+================+ | CentOS Stream 10 | PASS | +-------------------------------+----------------+ | CentOS Stream 9 | PASS | +-------------------------------+----------------+ | Debian GNU/Linux 12 | PASS | +-------------------------------+----------------+ | Fedora Linux 41 | PASS | +-------------------------------+----------------+ | Fedora Linux 40 | PASS | +-------------------------------+----------------+ | Fedora Linux 42 | PASS | +-------------------------------+----------------+ | Ubuntu 22.04 | PASS | +-------------------------------+----------------+ | Ubuntu 20.04 | PASS | +-------------------------------+----------------+ | Red Hat Enterprise Linux 9.5 | PASS | +-------------------------------+----------------+ | Red Hat Enterprise Linux 8.10 | PASS | +-------------------------------+----------------+ | Ubuntu 24.04 | PASS | +-------------------------------+----------------+ CentOS Stream 10 Kernel: 5.15 Compiler: gcc gcc (GCC) 14.2.1 20250110 (Red Hat 14.2.1-8) CentOS Stream 9 Kernel: 5.15 Compiler: gcc gcc (GCC) 11.5.0 20240719 (Red Hat 11.5.0-11) Debian GNU/Linux 12 Kernel: 5.15 Compiler: gcc gcc (Debian 12.2.0-14+deb12u1) 12.2.0 Fedora Linux 41 Kernel: 5.15 Compiler: clang gcc (GCC) 14.3.1 20250523 (Red Hat 14.3.1-1) Fedora Linux 40 Kernel: 5.15 Compiler: gcc gcc (GCC) 14.2.1 20240912 (Red Hat 14.2.1-3) Fedora Linux 42 Kernel: 5.15 Compiler: clang gcc (GCC) 15.2.1 20250808 (Red Hat 15.2.1-1) Ubuntu 22.04 Kernel: 5.15 Compiler: gcc gcc (Ubuntu 11.4.0-1ubuntu1~22.04) 11.4.0 Ubuntu 20.04 Kernel: 5.15 Compiler: gcc gcc (Ubuntu 9.4.0-1ubuntu1~20.04.2) 9.4.0 Red Hat Enterprise Linux 9.5 Kernel: 5.15 Compiler: gcc gcc (GCC) 11.5.0 20240719 (Red Hat 11.5.0-2) Red Hat Enterprise Linux 8.10 Kernel: 5.15 Compiler: gcc gcc (GCC) 8.5.0 20210514 (Red Hat 8.5.0-22) Ubuntu 24.04 Kernel: 5.15 Compiler: gcc gcc (Ubuntu 13.3.0-6ubuntu2~24.04) 13.3.0 To view detailed results, visit: https://lab.dpdk.org/results/dashboard/patchsets/34601/ UNH-IOL DPDK Community Lab To manage your email subscriptions, visit: https://lab.dpdk.org/results/dashboard/preferences/subscriptions/