From mboxrd@z Thu Jan 1 00:00:00 1970 Return-Path: Received: from mails.dpdk.org (mails.dpdk.org [217.70.189.124]) by inbox.dpdk.org (Postfix) with ESMTP id 2F7E048B0E for ; Sat, 15 Nov 2025 00:04:03 +0100 (CET) Received: from mails.dpdk.org (localhost [127.0.0.1]) by mails.dpdk.org (Postfix) with ESMTP id 18A24400D6; Sat, 15 Nov 2025 00:04:03 +0100 (CET) Received: from mail-pl1-f228.google.com (mail-pl1-f228.google.com [209.85.214.228]) by mails.dpdk.org (Postfix) with ESMTP id E00C5400D6 for ; Sat, 15 Nov 2025 00:04:01 +0100 (CET) Received: by mail-pl1-f228.google.com with SMTP id d9443c01a7336-2964d616df7so33397505ad.3 for ; Fri, 14 Nov 2025 15:04:01 -0800 (PST) DKIM-Signature: v=1; a=rsa-sha256; c=relaxed/relaxed; d=iol.unh.edu; s=unh-iol; t=1763161441; x=1763766241; darn=dpdk.org; h=references:in-reply-to:cc:to:from:subject:message-id:date:from:to :cc:subject:date:message-id:reply-to; bh=vA5q28k4bESk5hWrKhuxANpR0XvTebTnY+Hq4d5q/Oo=; b=OltO+IaCR3x6ZaN343b/V3m5NTNKeN8e6drjX2qw1hyyzu1u7MYAtbIx0+66gNqNRj Qy4R2hnpz4SDVWmqCz9bWvjpupNDRgKTFxIiTe+rlwrT1gbIPuzeK1w+2AotjP1tKCVR v//tb/h5PY+8XpSJFXpj8EGOSk6fE+m2s9Cn4= X-Google-DKIM-Signature: v=1; a=rsa-sha256; c=relaxed/relaxed; d=1e100.net; s=20230601; t=1763161441; x=1763766241; h=references:in-reply-to:cc:to:from:subject:message-id:date:x-gm-gg :x-gm-message-state:from:to:cc:subject:date:message-id:reply-to; bh=vA5q28k4bESk5hWrKhuxANpR0XvTebTnY+Hq4d5q/Oo=; b=H3rgmVaMnMHu9W8d08iwoTYtudyDsgT8+BnPO6cJ3KR3mgHuHubWSQz/3GDw5/MNsx mk9w2S4y8XtTYql6Lia24MvnGqR+yxRU4vdgYWrIakFEeVivg7fHZFdLzikquejROdBh V/t3XuRqSYENz1dVR336tUXxEpplXVBHc9ah8JKEPiki9iQdnz3eGsxXsCzNR/4MT9Fi e3c8+hWJERvm8cLJ8/Yiqp++dhc5QfpizCx7jOmRuFqUJVd4oNgM43o+PLm3b3qfLy+s XMtn0tVjU0nr5UumDbELqMCun9gojsTG5+JJf/ehEvFfWrrD18illpEcySnX2fD3vc78 EK0g== X-Gm-Message-State: AOJu0YxLKiL6JoAHSBl/s/q8Jcga1NP0/tU1v1g7Mt7gtqWokviAZlDg bgYdhfi5yMrDdL9MkxZqzpdDbperxnM6Fj7rR4+TAkLCs00XzqTtYbBKPl1Ejw4aaZfKP5I1UKb raPsReseoRlzwpAuuT3IwYzIACT+SHwOPq/TeE2Ttbu5wQCS3pjnXqyaXPeKD X-Gm-Gg: ASbGncveJ1G0b1z9vFRPyn1vVYrMiAtsxWad3lfSglBpCLTMbhJKu/ZK55iNXbZM2SA SZiKExZg006zRMBpgw+xeJ2Q9AEAbS4BvQgvXHyMHA1MiL2lkWkZuQxOucQk1OAuIv+r7OnFoW6 hktMYAyTUi2SbVhjGtd5ntimw8m/5do0SRoIDvlvUTzEQH7ruggx0c704QseW/V5uNf8RKW/JS8 PLyvOrucgU/MPeJecK9GJMmhzDLgT5esw6am8dDrSV69/MO98o2s51rHFvFCNMhH5P5rMIaMEhn l4sb41UKj4tCTHSDThVRldaymgU2LCPISjZxgFho3vhH8fm8nleMREgKkULItcUvfCzpPxZpxcx rO0+r8Dnn X-Google-Smtp-Source: AGHT+IEZS+dngfZMZ1IDwETnh5uuz22vRQJARHimTQQp7PHnKn+J5qqcbx10DVgj4+bmmYpOlg80rTxh7eOc X-Received: by 2002:a17:902:e84c:b0:295:9e4e:4092 with SMTP id d9443c01a7336-2986a76b624mr59009395ad.56.1763161440973; Fri, 14 Nov 2025 15:04:00 -0800 (PST) Received: from postal.iol.unh.edu (postal.iol.unh.edu. [2606:4100:3880:1234::84]) by smtp-relay.gmail.com with ESMTPS id d9443c01a7336-2985c2342e1sm6894325ad.9.2025.11.14.15.04.00 (version=TLS1_2 cipher=ECDHE-ECDSA-AES128-GCM-SHA256 bits=128/128); Fri, 14 Nov 2025 15:04:00 -0800 (PST) X-Relaying-Domain: iol.unh.edu Date: Fri, 14 Nov 2025 15:04:00 -0800 (PST) Message-ID: <6917b560.170a0220.1dbe2e.2043SMTPIN_ADDED_MISSING@mx.google.com> Received: from [172.21.0.2] (unknown [172.18.0.240]) by postal.iol.unh.edu (Postfix) with ESMTP id 676086051830; Fri, 14 Nov 2025 18:04:00 -0500 (EST) Subject: |SUCCESS| pw158820 [PATCH] [v2] devtools: ignore new warnings on rep From: dpdklab@iol.unh.edu To: Test Report Cc: dpdk-test-reports@iol.unh.edu In-Reply-To: <20251114200640.1639056-1-dsosnowski@nvidia.com> References: <20251114200640.1639056-1-dsosnowski@nvidia.com> Content-Type: text/plain X-BeenThere: test-report@dpdk.org X-Mailman-Version: 2.1.29 Precedence: list List-Id: automatic DPDK test reports List-Unsubscribe: , List-Archive: List-Post: List-Help: List-Subscribe: , Errors-To: test-report-bounces@dpdk.org Test-Label: iol-unit-amd64-testing Test-Status: SUCCESS http://dpdk.org/patch/158820 _Testing PASS_ Submitter: Dariusz Sosnowski Date: Friday, November 14 2025 20:06:40 DPDK git baseline: Repo:dpdk Branch: master CommitID:be0112878b4fc3a1b918370ed2fe615c52039d77 158820 --> testing pass Upstream job id: Generic-Unit-Test-DPDK#392969 Test environment and result as below: +-------------------------------+----------------+ | Environment | dpdk_unit_test | +===============================+================+ | CentOS Stream 9 | PASS | +-------------------------------+----------------+ | CentOS Stream 10 | PASS | +-------------------------------+----------------+ | Fedora Linux 42 | PASS | +-------------------------------+----------------+ | Fedora Linux 41 | PASS | +-------------------------------+----------------+ | Debian GNU/Linux 12 | PASS | +-------------------------------+----------------+ | Fedora Linux 40 | PASS | +-------------------------------+----------------+ | Red Hat Enterprise Linux 9.5 | PASS | +-------------------------------+----------------+ | Red Hat Enterprise Linux 8.10 | PASS | +-------------------------------+----------------+ | Ubuntu 20.04 | PASS | +-------------------------------+----------------+ | Ubuntu 22.04 | PASS | +-------------------------------+----------------+ | Ubuntu 24.04 | PASS | +-------------------------------+----------------+ CentOS Stream 9 Kernel: 5.15 Compiler: gcc gcc (GCC) 11.5.0 20240719 (Red Hat 11.5.0-11) CentOS Stream 10 Kernel: 5.15 Compiler: gcc gcc (GCC) 14.2.1 20250110 (Red Hat 14.2.1-8) Fedora Linux 42 Kernel: 5.15 Compiler: clang gcc (GCC) 15.2.1 20250808 (Red Hat 15.2.1-1) Fedora Linux 41 Kernel: 5.15 Compiler: gcc gcc (GCC) 14.3.1 20250523 (Red Hat 14.3.1-1) Debian GNU/Linux 12 Kernel: 5.15 Compiler: gcc gcc (Debian 12.2.0-14+deb12u1) 12.2.0 Fedora Linux 40 Kernel: 5.15 Compiler: gcc gcc (GCC) 14.2.1 20240912 (Red Hat 14.2.1-3) Red Hat Enterprise Linux 9.5 Kernel: 5.15 Compiler: gcc gcc (GCC) 11.5.0 20240719 (Red Hat 11.5.0-2) Red Hat Enterprise Linux 8.10 Kernel: 5.15 Compiler: gcc gcc (GCC) 8.5.0 20210514 (Red Hat 8.5.0-22) Ubuntu 20.04 Kernel: 5.15 Compiler: gcc gcc (Ubuntu 9.4.0-1ubuntu1~20.04.2) 9.4.0 Ubuntu 22.04 Kernel: 5.15 Compiler: gcc gcc (Ubuntu 11.4.0-1ubuntu1~22.04) 11.4.0 Ubuntu 24.04 Kernel: 5.15 Compiler: gcc gcc (Ubuntu 13.3.0-6ubuntu2~24.04) 13.3.0 To view detailed results, visit: https://lab.dpdk.org/results/dashboard/patchsets/34602/ UNH-IOL DPDK Community Lab To manage your email subscriptions, visit: https://lab.dpdk.org/results/dashboard/preferences/subscriptions/