From mboxrd@z Thu Jan 1 00:00:00 1970 Return-Path: Received: from mails.dpdk.org (mails.dpdk.org [217.70.189.124]) by inbox.dpdk.org (Postfix) with ESMTP id AA50448B0E for ; Sat, 15 Nov 2025 00:09:26 +0100 (CET) Received: from mails.dpdk.org (localhost [127.0.0.1]) by mails.dpdk.org (Postfix) with ESMTP id A4A7B400D6; Sat, 15 Nov 2025 00:09:26 +0100 (CET) Received: from mail-pl1-f225.google.com (mail-pl1-f225.google.com [209.85.214.225]) by mails.dpdk.org (Postfix) with ESMTP id 72594400D6 for ; Sat, 15 Nov 2025 00:09:25 +0100 (CET) Received: by mail-pl1-f225.google.com with SMTP id d9443c01a7336-297ec50477aso18643405ad.1 for ; Fri, 14 Nov 2025 15:09:25 -0800 (PST) DKIM-Signature: v=1; a=rsa-sha256; c=relaxed/relaxed; d=iol.unh.edu; s=unh-iol; t=1763161764; x=1763766564; darn=dpdk.org; h=references:in-reply-to:cc:to:from:subject:message-id:date:from:to :cc:subject:date:message-id:reply-to; bh=fvLPGmAzcsWhFq/5rNEahq2ktdW2Rkhb1xBQQfEykYY=; b=G+DC0pNJ47nEhfQGXqcLEC84CW1DDxmmzPha8MbdZqUFl19Oyh0yufFxcnkDnOgLjy WRG/AvktsJMhKH7Je58fOmaPXTbn7mCGOKXjVIms/LWEZpktHOq/0QVEDXePs6O0mhQQ Au15fGvC3j62Q9K40Pk32PVd73EB5woK+c0XI= X-Google-DKIM-Signature: v=1; a=rsa-sha256; c=relaxed/relaxed; d=1e100.net; s=20230601; t=1763161764; x=1763766564; h=references:in-reply-to:cc:to:from:subject:message-id:date:x-gm-gg :x-gm-message-state:from:to:cc:subject:date:message-id:reply-to; bh=fvLPGmAzcsWhFq/5rNEahq2ktdW2Rkhb1xBQQfEykYY=; b=w/L+sqNn5GN3q8kSSnwj6/ZpmWaOVp/yMfulEz4h/tGbuOEzHXvMySq79yBX31KAOR 1IgkBXYocE7F12Uivg9FB1Dr79Ws0jkquu1hPAyOea9W9CwXWsE/NHqn6ISH+Qs/Utul cLCvPBK7LFt5JITzY3Ac5+rXQRFbx5BHCEUVYYgtysemafTZOhgKPat2uc7Jp/X7Of4U n0muzePFrre43pqFPc45FV/ctjNWpo9HqG5O37vbpJCWFmU1zltEqXFCrK3RylZarXdG HgFOZDYYrvWWDqlwwVYgncWZSGI2aGkmgcMPZsUMPRHYIWleXZ9C98rWzehrIwClmyIC zrvg== X-Gm-Message-State: AOJu0Yz+7howaDkFY4ZC+XJc0DIg28ADViWOhYCB4+5q4bffhki78zs0 hA+QPmLRdlxRQ7/B303KN0IHn4nH0wHJFE7tKIEJDbthzN/KN8lU+9lQUNltmdTO0esIuQyXJiU 7SyDaxTKU63OgJv5DBesFhAJGX1SUTAqZSdwd545uNUaWRzdeGy9YUH9RFiDg X-Gm-Gg: ASbGncvX2uaDoRIOTPb+aw8vz/ZKOVHqdNEaZCEwmp6pDqmc8qWhrQLmSum5MEsMaBY tX3BwtW1eJxPB/teH4BRVISKyT6dCfArnhbFe4srobK7aaW6fGW2tl2xKORlLWafsUj8chW8KC0 cuADQH4NNWtBY1ava6F0YEkuG8fNi7UI++MEFI0s1r6d61I8k3PtB4KVc+ITwlKJzwKyyBnqIhz oIL3pSWH3YkpYVyWtE956TxcY78ALYvkiS5WTFHPAkXxQ5nxexPYMjNz6W6dc9OCoxqqB8V8YuZ sCZrSdKFgQ355GhmN0UhnPUxT91Cwg/R22wlo2vOZXLdoe4Bf6yBclZ1ZVkbbwF/aA3nktD6utP mzJEn6fzO X-Google-Smtp-Source: AGHT+IGhkSlRE79tVCweK0z4+BjR6CKUwbqvWEPS2xl16y+fs6jnb0LjA3qqDekFS5PadPf/hvA+PVwR9cn4 X-Received: by 2002:a17:902:cec1:b0:296:547a:4bf2 with SMTP id d9443c01a7336-2986801646fmr51916835ad.27.1763161764592; Fri, 14 Nov 2025 15:09:24 -0800 (PST) Received: from postal.iol.unh.edu (postal.iol.unh.edu. [2606:4100:3880:1234::84]) by smtp-relay.gmail.com with ESMTPS id d9443c01a7336-2985c241b61sm6826545ad.14.2025.11.14.15.09.24 (version=TLS1_2 cipher=ECDHE-ECDSA-AES128-GCM-SHA256 bits=128/128); Fri, 14 Nov 2025 15:09:24 -0800 (PST) X-Relaying-Domain: iol.unh.edu Date: Fri, 14 Nov 2025 15:09:24 -0800 (PST) Message-ID: <6917b6a4.170a0220.2cc0b1.1d4cSMTPIN_ADDED_MISSING@mx.google.com> Received: from [172.21.0.2] (unknown [172.18.0.240]) by postal.iol.unh.edu (Postfix) with ESMTP id 107816051830; Fri, 14 Nov 2025 18:09:24 -0500 (EST) Subject: |SUCCESS| pw158775 [PATCH] net/mlx5: fix state corruption in dev sta From: dpdklab@iol.unh.edu To: Test Report Cc: dpdk-test-reports@iol.unh.edu In-Reply-To: <20251113193711.7883-1-mkashani@nvidia.com> References: <20251113193711.7883-1-mkashani@nvidia.com> Content-Type: text/plain X-BeenThere: test-report@dpdk.org X-Mailman-Version: 2.1.29 Precedence: list List-Id: automatic DPDK test reports List-Unsubscribe: , List-Archive: List-Post: List-Help: List-Subscribe: , Errors-To: test-report-bounces@dpdk.org Test-Label: iol-unit-amd64-testing Test-Status: SUCCESS http://dpdk.org/patch/158775 _Testing PASS_ Submitter: Maayan Kashani Date: Thursday, November 13 2025 19:37:11 DPDK git baseline: Repo:dpdk-next-net-mlx Branch: master CommitID:ae657d56b1f0ea979b3f611edf28d773efc2ddcf 158775 --> testing pass Upstream job id: Generic-VM-Unit-Test-DPDK#32557 Test environment and result as below: +-------------------------------+----------------+ | Environment | dpdk_unit_test | +===============================+================+ | CentOS Stream 9 | PASS | +-------------------------------+----------------+ | CentOS Stream 10 | PASS | +-------------------------------+----------------+ | Debian GNU/Linux 12 | PASS | +-------------------------------+----------------+ | Fedora Linux 40 | PASS | +-------------------------------+----------------+ | Fedora Linux 41 | PASS | +-------------------------------+----------------+ | Fedora Linux 42 | PASS | +-------------------------------+----------------+ | Ubuntu 20.04 | PASS | +-------------------------------+----------------+ | Ubuntu 24.04 | PASS | +-------------------------------+----------------+ | Ubuntu 22.04 | PASS | +-------------------------------+----------------+ | Red Hat Enterprise Linux 9.5 | PASS | +-------------------------------+----------------+ | Red Hat Enterprise Linux 8.10 | PASS | +-------------------------------+----------------+ | Windows Server 2022 | PASS | +-------------------------------+----------------+ CentOS Stream 9 Kernel: 5.15 Compiler: gcc gcc (GCC) 11.5.0 20240719 (Red Hat 11.5.0-11) CentOS Stream 10 Kernel: 5.15 Compiler: gcc gcc (GCC) 14.2.1 20250110 (Red Hat 14.2.1-8) Debian GNU/Linux 12 Kernel: 5.15 Compiler: gcc gcc (Debian 12.2.0-14+deb12u1) 12.2.0 Fedora Linux 40 Kernel: 5.15 Compiler: gcc gcc (GCC) 14.2.1 20240912 (Red Hat 14.2.1-3) Fedora Linux 41 Kernel: 5.15 Compiler: gcc gcc (GCC) 14.3.1 20250523 (Red Hat 14.3.1-1) Fedora Linux 42 Kernel: 5.15 Compiler: clang gcc (GCC) 15.2.1 20250808 (Red Hat 15.2.1-1) Ubuntu 20.04 Kernel: 5.15 Compiler: gcc gcc (Ubuntu 9.4.0-1ubuntu1~20.04.2) 9.4.0 Ubuntu 24.04 Kernel: 5.15 Compiler: gcc gcc (Ubuntu 13.3.0-6ubuntu2~24.04) 13.3.0 Ubuntu 22.04 Kernel: 5.15 Compiler: gcc gcc (Ubuntu 11.4.0-1ubuntu1~22.04) 11.4.0 Red Hat Enterprise Linux 9.5 Kernel: 5.15 Compiler: gcc gcc (GCC) 11.5.0 20240719 (Red Hat 11.5.0-2) Red Hat Enterprise Linux 8.10 Kernel: 5.15 Compiler: gcc gcc (GCC) 8.5.0 20210514 (Red Hat 8.5.0-22) Windows Server 2022 Kernel: 10.0.20348.2031 Compiler: clang 15.0.7, gcc 14.1.0 (MinGW), and MSVC VS 19.39.33521 To view detailed results, visit: https://lab.dpdk.org/results/dashboard/patchsets/34582/ UNH-IOL DPDK Community Lab To manage your email subscriptions, visit: https://lab.dpdk.org/results/dashboard/preferences/subscriptions/