From mboxrd@z Thu Jan 1 00:00:00 1970 Return-Path: Received: from mails.dpdk.org (mails.dpdk.org [217.70.189.124]) by inbox.dpdk.org (Postfix) with ESMTP id 5EB4A48B0E for ; Sat, 15 Nov 2025 00:26:17 +0100 (CET) Received: from mails.dpdk.org (localhost [127.0.0.1]) by mails.dpdk.org (Postfix) with ESMTP id 378FE400D6; Sat, 15 Nov 2025 00:26:17 +0100 (CET) Received: from mail-yx1-f100.google.com (mail-yx1-f100.google.com [74.125.224.100]) by mails.dpdk.org (Postfix) with ESMTP id 4498A400D6 for ; Sat, 15 Nov 2025 00:26:16 +0100 (CET) Received: by mail-yx1-f100.google.com with SMTP id 956f58d0204a3-640d0895d7cso3221155d50.1 for ; Fri, 14 Nov 2025 15:26:16 -0800 (PST) DKIM-Signature: v=1; a=rsa-sha256; c=relaxed/relaxed; d=iol.unh.edu; s=unh-iol; t=1763162775; x=1763767575; darn=dpdk.org; h=references:in-reply-to:cc:to:from:subject:message-id:date:from:to :cc:subject:date:message-id:reply-to; bh=Wl/L3CQdvvU99z4URKSxjdlNUINKS9WOk9xZKyuxy5E=; b=EKSMgFwwmYhAcQUjUqjYKm5u00bfNvuhYJisysv1I4hO4XfIwi5fbCPFfvWs96xxrr RXH9c9SL6jpE1AJvecvHHtNfwk8b6W2A0y36Bo2S+Z5QArRMr2L8XXOiFcKQm0t35UFu eZaDVZzDygy0iLwSSv2Ce0/dzVE8HbmuqkYS0= X-Google-DKIM-Signature: v=1; a=rsa-sha256; c=relaxed/relaxed; d=1e100.net; s=20230601; t=1763162775; x=1763767575; h=references:in-reply-to:cc:to:from:subject:message-id:date:x-gm-gg :x-gm-message-state:from:to:cc:subject:date:message-id:reply-to; bh=Wl/L3CQdvvU99z4URKSxjdlNUINKS9WOk9xZKyuxy5E=; b=m/7rgrrjb3+fSu4tD8RQN5tDO6kundNq3/1Ih6RRH4llV37zNtYqVAdqVzxRC54xiv jNj70pMiElzCF8wnNgJeSyBCvt2gmUHxfYlWZj8Y+Z+glxiBqKwZaeRLJi450r1ZsL88 hiCZ9HgTHQV4jGh8gQyh9AlQmXeg3StvvU5tQV88E5HpVk/MhJUv/gS1p3d1kUWdJ1dh zMQ7uuE9oWSR1ym+8hkA1Qx8EmAgbgg7kBLIwTB0E5X/6SWne9CqvivNHj5WCKojPZOh ZuVnlpHD7S8pJZesqfw2KM4lGr6wKl1Nfx2Azje5z8UemHSWsiNvP9kbTta1ksj8sIEF 9e1g== X-Gm-Message-State: AOJu0YxrxIddOe5QcaHv1UjUskTN3vgzszZGKtNLEq+7P7Tpb/lGBCIS iQ8ypCGEKwIgTfcg/c+JVSpbS99KfIeftwbm9pN0/GiOCVtHBhzyYOz5YDLYEEj9JKoUWpb6IUb rRhwhtOWhpTvntetPVvxFNRxC/OcaPYCqjFnYXhmZfDsT X-Gm-Gg: ASbGncsjPL9tC3JI/+ZM2MWxsYmSNW761imt+tQ/9+BlIr6Nio8I0miGEwP8L+6GUcv X7D2QJaUWtbWRWIabTthFhIYPh+7OZq7Qw+w/7RlTpL4/1iSjCksn6bugCT9fTBq/OWtQxTCD3X cYQGVdJOe9TTS/pJVKyA5Wd5QSk5CVrbkJ9v4j1UsbZN2CACkMphXSZFvxCFmmMnSG1mT1+e9FW h2rp/RXj/q9dk+q4ePX+c/od0SZS2B/eIm5dGYWVLMWeU6ZB9OoqYJ/rV+1ziiH0WHw5ZG+e/DZ oIgI9pSvugCNMG8y7DjnVItxMH2zB6UkjpeK3+Wbb8kQlnLIRtjgXdi8hNwqe5oddgBd0M3EzUG lXaO7s85pNM8fG+3EOy/n5mRfVbFv09Y= X-Google-Smtp-Source: AGHT+IF6UdO/SezklHpp5pfSQ9cgx1CQJuschyJqW5jEQLadhrxSVAAjyctARxzgkdny/ZAP4Di9fszHBIyL X-Received: by 2002:a05:690e:1246:b0:63f:b2b3:8c2d with SMTP id 956f58d0204a3-6410d10f904mr6917153d50.17.1763162775473; Fri, 14 Nov 2025 15:26:15 -0800 (PST) Received: from postal.iol.unh.edu (postal.iol.unh.edu. [132.177.123.84]) by smtp-relay.gmail.com with ESMTPS id 956f58d0204a3-6410ea0d940sm470878d50.6.2025.11.14.15.26.15 (version=TLS1_2 cipher=ECDHE-ECDSA-AES128-GCM-SHA256 bits=128/128); Fri, 14 Nov 2025 15:26:15 -0800 (PST) X-Relaying-Domain: iol.unh.edu Date: Fri, 14 Nov 2025 15:26:15 -0800 (PST) Message-ID: <6917ba97.530a0220.3411c8.72d8SMTPIN_ADDED_MISSING@mx.google.com> Received: from [172.21.0.3] (unknown [172.18.0.240]) by postal.iol.unh.edu (Postfix) with ESMTP id 1F23A6051830; Fri, 14 Nov 2025 18:26:15 -0500 (EST) Subject: |SUCCESS| pw158788 [PATCH] net: ipv6 link local compliance with rfc From: dpdklab@iol.unh.edu To: Test Report Cc: dpdk-test-reports@iol.unh.edu In-Reply-To: <20251114105751.54802-3-rjarry@redhat.com> References: <20251114105751.54802-3-rjarry@redhat.com> Content-Type: text/plain X-BeenThere: test-report@dpdk.org X-Mailman-Version: 2.1.29 Precedence: list List-Id: automatic DPDK test reports List-Unsubscribe: , List-Archive: List-Post: List-Help: List-Subscribe: , Errors-To: test-report-bounces@dpdk.org Test-Label: iol-compile-amd64-testing Test-Status: SUCCESS http://dpdk.org/patch/158788 _Testing PASS_ Submitter: Robin Jarry Date: Friday, November 14 2025 10:57:53 DPDK git baseline: Repo:dpdk Branch: master CommitID:be0112878b4fc3a1b918370ed2fe615c52039d77 158788 --> testing pass Upstream job id: Windows-Compile-DPDK-VS#7555 Test environment and result as below: +---------------------+--------------------+-------------------+ | Environment | dpdk_meson_compile | dpdk_msvc_compile | +=====================+====================+===================+ | FreeBSD 14.2 | PASS | SKIPPED | +---------------------+--------------------+-------------------+ | Ubuntu 20.04 | PASS | SKIPPED | +---------------------+--------------------+-------------------+ | Windows Server 2022 | SKIPPED | PASS | +---------------------+--------------------+-------------------+ FreeBSD 14.2 Kernel: 14.2-RELEASE Compiler: clang 18.1.6 Ubuntu 20.04 Kernel: 4.19 Compiler: gcc gcc (Ubuntu 9.4.0-1ubuntu1~20.04.2) 9.4.0 Windows Server 2022 Kernel: 10.0.20348.2031 Compiler: clang 15.0.7, gcc 14.1.0 (MinGW), and MSVC VS 19.39.33521 To view detailed results, visit: https://lab.dpdk.org/results/dashboard/patchsets/34590/ UNH-IOL DPDK Community Lab To manage your email subscriptions, visit: https://lab.dpdk.org/results/dashboard/preferences/subscriptions/