From mboxrd@z Thu Jan 1 00:00:00 1970 Return-Path: Received: from mails.dpdk.org (mails.dpdk.org [217.70.189.124]) by inbox.dpdk.org (Postfix) with ESMTP id C5E7248B0E for ; Sat, 15 Nov 2025 00:31:09 +0100 (CET) Received: from mails.dpdk.org (localhost [127.0.0.1]) by mails.dpdk.org (Postfix) with ESMTP id BE636400D6; Sat, 15 Nov 2025 00:31:09 +0100 (CET) Received: from mail-pl1-f227.google.com (mail-pl1-f227.google.com [209.85.214.227]) by mails.dpdk.org (Postfix) with ESMTP id 25FBB400D6 for ; Sat, 15 Nov 2025 00:31:08 +0100 (CET) Received: by mail-pl1-f227.google.com with SMTP id d9443c01a7336-2953e415b27so24045695ad.2 for ; Fri, 14 Nov 2025 15:31:08 -0800 (PST) DKIM-Signature: v=1; a=rsa-sha256; c=relaxed/relaxed; d=iol.unh.edu; s=unh-iol; t=1763163067; x=1763767867; darn=dpdk.org; h=references:in-reply-to:cc:to:from:subject:message-id:date:from:to :cc:subject:date:message-id:reply-to; bh=Tli2y6ITEwlyOCGUxLxCZ87L5TrUSGtdRbzI2HTRIWs=; b=hOiYd0VTqwmJzrWc3R50PanAp7Igsw0TOhAcVGT8q0McvKLUV0Z5HFotWuuNL3eCD8 9BDCPQgLCWFevK4EM2vpXLDzvgkgZSDpebM0XQIR4mR6jKHHhfRJssOFKjmrV4JAIrsW VfGi9bByQwX7PbtCE4ILZ1BZXQKb2jFBkrsGE= X-Google-DKIM-Signature: v=1; a=rsa-sha256; c=relaxed/relaxed; d=1e100.net; s=20230601; t=1763163067; x=1763767867; h=references:in-reply-to:cc:to:from:subject:message-id:date:x-gm-gg :x-gm-message-state:from:to:cc:subject:date:message-id:reply-to; bh=Tli2y6ITEwlyOCGUxLxCZ87L5TrUSGtdRbzI2HTRIWs=; b=i2/MoSVJEHW/4/ZD5nGRUR6m2jgJX7zqZCbaey4vvMTo6Zo974OSx3Lfu5zDYWdQfj gh0WYbLuKGnlXj2ryNmLnAWnWtRP2qlaThGaLRk7sd403E29lvg8ZCdCSml1a+6L0WhG nRnZIdMp+eDKTyvxT+F7yyA0vSv7nkHQpmEbsQbI2CZCYH8xI+ayYovmjRjk4rvD7DrD l0a0M3pvxoLLXIzUautfwYdldEXR9tK1UU4WQ6NVq01qyws65LSi6d7xYQnrJPLOjrod Reo8IFrjAjKpbS/DQwsQWvHfdDdUjGyHxZdJOwrMchcUsquStg5ObQr1xuhztK8zO86j m8mg== X-Gm-Message-State: AOJu0YyiFU4Eih5S6JdBe+nncK8UHmloJkkW++gDWDaf+mMfMiZhJkUV r2bK5jacGF5gxRJ3dLHt7CP18Cg5tBdrI4lpeN6ipZXICsrs24IsxfBQB4drR6nliwqRuzvQU9W pH6Tz9AlJqMJ2WHy+qpZu0O2Ar5bpyzviCo5pYxT4nA1uj5/7s7i9S8bSxfeO X-Gm-Gg: ASbGnctKPyh9sAoxEaT/wMF6sfz1hqhVnnnoBFjyynTM3VYiFhLKiSbN5ahY7UnXm7L nAYazCLy08PU9Pg12vaUMnNLs2BHzc+9H3nJCxvjhckSFFMBsnONIOjh/FoAuBaQtd5etz9ga2s pAOjuMOuvUUCmI1QDwHi0llELJK1nH0ot0q9zEiGzDT8jFAyIAJLfEMwc4rG6fNMGqpd15wWVQz NwtR5BjjNaEnnkftwV4oy7zES2vm5Bwwlo17S5BGWJkX8tbuUjsVHZJI4YVk7yWUXRjbFMwp/o5 29m7eJK09dQuI1n2vGCdg810EhBB5ipcqUhlZrR2ZgvkuRtzF5ZDGiyPGW3xcUzToYlFDxS0nbV O91oet4hw X-Google-Smtp-Source: AGHT+IFHx+Z84HUcPYu10p4tvOlVCoyrje8Sw4Vc446NNGvoAB3N1VaCoPQyWskdVfG5PDbwTx3C8Hm5QRbQ X-Received: by 2002:a17:903:1b04:b0:290:b53b:7456 with SMTP id d9443c01a7336-2986a6b8906mr52304295ad.5.1763163067317; Fri, 14 Nov 2025 15:31:07 -0800 (PST) Received: from postal.iol.unh.edu (postal.iol.unh.edu. [2606:4100:3880:1234::84]) by smtp-relay.gmail.com with ESMTPS id d9443c01a7336-2985c2422b1sm6858905ad.21.2025.11.14.15.31.07 (version=TLS1_2 cipher=ECDHE-ECDSA-AES128-GCM-SHA256 bits=128/128); Fri, 14 Nov 2025 15:31:07 -0800 (PST) X-Relaying-Domain: iol.unh.edu Date: Fri, 14 Nov 2025 15:31:07 -0800 (PST) Message-ID: <6917bbbb.170a0220.101d72.382fSMTPIN_ADDED_MISSING@mx.google.com> Received: from [172.21.0.3] (unknown [172.18.0.240]) by postal.iol.unh.edu (Postfix) with ESMTP id BCC7A6051830; Fri, 14 Nov 2025 18:31:06 -0500 (EST) Subject: |SUCCESS| pw158547 [PATCH] telemetry: make socket handler typedef pr From: dpdklab@iol.unh.edu To: Test Report Cc: dpdk-test-reports@iol.unh.edu In-Reply-To: <20251107093259.3305537-1-bruce.richardson@intel.com> References: <20251107093259.3305537-1-bruce.richardson@intel.com> Content-Type: text/plain X-BeenThere: test-report@dpdk.org X-Mailman-Version: 2.1.29 Precedence: list List-Id: automatic DPDK test reports List-Unsubscribe: , List-Archive: List-Post: List-Help: List-Subscribe: , Errors-To: test-report-bounces@dpdk.org Test-Label: iol-compile-amd64-testing Test-Status: SUCCESS http://dpdk.org/patch/158547 _Testing PASS_ Submitter: Bruce Richardson Date: Friday, November 07 2025 09:32:59 DPDK git baseline: Repo:dpdk Branch: master CommitID:be0112878b4fc3a1b918370ed2fe615c52039d77 158547 --> testing pass Upstream job id: Windows-Compile-DPDK-Native#32333 Test environment and result as below: +-------------------------------+--------------------+------------------+-------------------+-------------------------+ | Environment | dpdk_meson_compile | dpdk_compile_ovs | dpdk_msvc_compile | dpdk_llvm_clang_compile | +===============================+====================+==================+===================+=========================+ | FreeBSD 14.2 | PASS | SKIPPED | SKIPPED | SKIPPED | +-------------------------------+--------------------+------------------+-------------------+-------------------------+ | Ubuntu 20.04 | PASS | SKIPPED | SKIPPED | SKIPPED | +-------------------------------+--------------------+------------------+-------------------+-------------------------+ | CentOS Stream 9 | PASS | SKIPPED | SKIPPED | SKIPPED | +-------------------------------+--------------------+------------------+-------------------+-------------------------+ | Fedora Linux 42 | PASS | PASS | SKIPPED | SKIPPED | +-------------------------------+--------------------+------------------+-------------------+-------------------------+ | CentOS Stream 10 | PASS | SKIPPED | SKIPPED | SKIPPED | +-------------------------------+--------------------+------------------+-------------------+-------------------------+ | Debian GNU/Linux 12 | PASS | SKIPPED | SKIPPED | SKIPPED | +-------------------------------+--------------------+------------------+-------------------+-------------------------+ | openSUSE Leap 15.6 | PASS | SKIPPED | SKIPPED | SKIPPED | +-------------------------------+--------------------+------------------+-------------------+-------------------------+ | Red Hat Enterprise Linux 8.10 | PASS | SKIPPED | SKIPPED | SKIPPED | +-------------------------------+--------------------+------------------+-------------------+-------------------------+ | Red Hat Enterprise Linux 9.5 | PASS | SKIPPED | SKIPPED | SKIPPED | +-------------------------------+--------------------+------------------+-------------------+-------------------------+ | Ubuntu 22.04 | PASS | SKIPPED | SKIPPED | SKIPPED | +-------------------------------+--------------------+------------------+-------------------+-------------------------+ | Ubuntu 24.04 | PASS | PASS | SKIPPED | SKIPPED | +-------------------------------+--------------------+------------------+-------------------+-------------------------+ | Alpine Linux 3.22.0 | PASS | SKIPPED | SKIPPED | SKIPPED | +-------------------------------+--------------------+------------------+-------------------+-------------------------+ | Windows Server 2022 | SKIPPED | SKIPPED | PASS | PASS | +-------------------------------+--------------------+------------------+-------------------+-------------------------+ FreeBSD 14.2 Kernel: 14.2-RELEASE Compiler: clang 18.1.6 Ubuntu 20.04 Kernel: 4.19 Compiler: gcc gcc (Ubuntu 9.4.0-1ubuntu1~20.04.2) 9.4.0 CentOS Stream 9 Kernel: 5.15 Compiler: gcc gcc (GCC) 11.5.0 20240719 (Red Hat 11.5.0-11) Fedora Linux 42 Kernel: 5.15 Compiler: clang gcc (GCC) 15.2.1 20250808 (Red Hat 15.2.1-1) CentOS Stream 10 Kernel: 5.15 Compiler: gcc gcc (GCC) 14.2.1 20250110 (Red Hat 14.2.1-8) Debian GNU/Linux 12 Kernel: 5.15 Compiler: gcc gcc (Debian 12.2.0-14+deb12u1) 12.2.0 openSUSE Leap 15.6 Kernel: 5.15 Compiler: gcc gcc (SUSE Linux) 7.5.0 Red Hat Enterprise Linux 8.10 Kernel: 5.15 Compiler: gcc gcc (GCC) 8.5.0 20210514 (Red Hat 8.5.0-22) Red Hat Enterprise Linux 9.5 Kernel: 5.15 Compiler: gcc gcc (GCC) 11.5.0 20240719 (Red Hat 11.5.0-2) Ubuntu 22.04 Kernel: 5.15 Compiler: gcc gcc (Ubuntu 11.4.0-1ubuntu1~22.04) 11.4.0 Ubuntu 24.04 Kernel: 5.15 Compiler: gcc gcc (Ubuntu 13.3.0-6ubuntu2~24.04) 13.3.0 Alpine Linux 3.22.0 Kernel: 5.15 Compiler: gcc gcc (Alpine 14.2.0) 14.2.0 Windows Server 2022 Kernel: 10.0.20348.2031 Compiler: clang 15.0.7, gcc 14.1.0 (MinGW), and MSVC VS 19.39.33521 To view detailed results, visit: https://lab.dpdk.org/results/dashboard/patchsets/34555/ UNH-IOL DPDK Community Lab To manage your email subscriptions, visit: https://lab.dpdk.org/results/dashboard/preferences/subscriptions/