From mboxrd@z Thu Jan 1 00:00:00 1970 Return-Path: Received: from mails.dpdk.org (mails.dpdk.org [217.70.189.124]) by inbox.dpdk.org (Postfix) with ESMTP id BE00D48B0E for ; Sat, 15 Nov 2025 01:00:57 +0100 (CET) Received: from mails.dpdk.org (localhost [127.0.0.1]) by mails.dpdk.org (Postfix) with ESMTP id B26DD400D6; Sat, 15 Nov 2025 01:00:57 +0100 (CET) Received: from mail-oa1-f98.google.com (mail-oa1-f98.google.com [209.85.160.98]) by mails.dpdk.org (Postfix) with ESMTP id 8563C400D6 for ; Sat, 15 Nov 2025 01:00:56 +0100 (CET) Received: by mail-oa1-f98.google.com with SMTP id 586e51a60fabf-3e2d1477b9cso1540291fac.2 for ; Fri, 14 Nov 2025 16:00:56 -0800 (PST) DKIM-Signature: v=1; a=rsa-sha256; c=relaxed/relaxed; d=iol.unh.edu; s=unh-iol; t=1763164855; x=1763769655; darn=dpdk.org; h=references:in-reply-to:cc:to:from:subject:message-id:date:from:to :cc:subject:date:message-id:reply-to; bh=kotBsc9AKLmYXP2TebT/ulwCuNrSQnMrcHskYtE39XA=; b=Kv3A2UBBGJW6c1i4pu1xrDxfVovJL1idVlyuGANDbDTowf9qfeFNh2lCq2UCIXHYKQ FOX4PWl2wc4cIJKmV5GNS2wX2qcZIUmneTRk6lEtIhJYvA/qFcaey6hIFBGriZbAc7H3 cSY7ESVijZf8kEOTB9EP2ctFjEc3DJORRNnlc= X-Google-DKIM-Signature: v=1; a=rsa-sha256; c=relaxed/relaxed; d=1e100.net; s=20230601; t=1763164855; x=1763769655; h=references:in-reply-to:cc:to:from:subject:message-id:date:x-gm-gg :x-gm-message-state:from:to:cc:subject:date:message-id:reply-to; bh=kotBsc9AKLmYXP2TebT/ulwCuNrSQnMrcHskYtE39XA=; b=fgff+8oopX5+K/QH/xYFnVj95ibQIcNh8j641e3BmCKlSHcBeLCRdovDypWGHbOiSY fXzCi1erGvNqCzRGVYkAiODEY4hnRLEXSeIcloSx2xhRgAETuH53zgMUESQi45ymYxON xSjMEsgteClrG6JlDXcMDTa/dEzjtmffY2tN+2MA5ehpSmCnS8uGos9xvbASRy4H143+ jrOVAmeX4YfYZ7jcvWIG3WwN3Y1+JgHDKALODAt0fBpoSDKL7KyJ9RYY0aE3c5aRqjx9 YVRHYWpOtRA1Gn1fd7s6X3wTo33Et8fusQtmB9FOjsR7yj2h9T1ukZnY5rGl9HBrga8M JfLQ== X-Gm-Message-State: AOJu0YyjPJtzYPFWDyoEwV0CNSvSqRrumySThiq8EH1t2/t5AVkWFsf5 eUonaxRXcVote5zT3ToZK02dOrbxJmcOjiM/FJlKr6TAnpbU5U9AmChfOdcDs4w0qQyyvxg3iHf +wqCcxKi9FsbDjXd+CQk6CXK9uv5qmaPFV5XPa7U5cARU X-Gm-Gg: ASbGncsqa4MsR3a+15qkQMMa/ur2GmMb69rPDabs81szWP2jLhHfbB6+/0O9yyk555v FYCXvcUBSb0KTLn/oJovLKrj8sx5Ge8fbvCWKbCC33uqlFAL5nHNBc5+Vv8SJB7XUnzCr0SF8JQ HKg2mkMVCIknX7Xmlhz22AcFfjBbBe3zVG6VepDKvs3siKcsCvhZfZDI5q2Yd13jltr1SabEsWz CXVCuU3U9CwDJbz1ualM6xMeUpoJXJxOAA8+FxO8YCs+AbItuYm3LNjykZIH2EznRDi696Hqfup pJuDUgwc/S6Hrg6LYJ1olyUjCtlhXjWoPD1t7neTjWXbpGS2nLBMakTMSqaD8JDWxHzb8NZgU5O vvLzsE2UaoCK1qNPoEIug/Y40J0GZiGI= X-Google-Smtp-Source: AGHT+IFgTJrYFq986Hr6X/mIqWuNDW6zsfq7Ng3iGG3BGGMad+YenafA7l6vqICC3TEezzIASzP3wxZnlbgL X-Received: by 2002:a05:6870:7182:b0:3d4:cea7:62b5 with SMTP id 586e51a60fabf-3e86920a732mr2592340fac.48.1763164855433; Fri, 14 Nov 2025 16:00:55 -0800 (PST) Received: from postal.iol.unh.edu (postal.iol.unh.edu. [132.177.123.84]) by smtp-relay.gmail.com with ESMTPS id 586e51a60fabf-3e851d6410bsm599615fac.0.2025.11.14.16.00.55 (version=TLS1_2 cipher=ECDHE-ECDSA-AES128-GCM-SHA256 bits=128/128); Fri, 14 Nov 2025 16:00:55 -0800 (PST) X-Relaying-Domain: iol.unh.edu Date: Fri, 14 Nov 2025 16:00:55 -0800 (PST) Message-ID: <6917c2b7.050a0220.c94f9.d10cSMTPIN_ADDED_MISSING@mx.google.com> Received: from [172.21.0.4] (unknown [172.18.0.240]) by postal.iol.unh.edu (Postfix) with ESMTP id E680D6051830; Fri, 14 Nov 2025 19:00:54 -0500 (EST) Subject: |SUCCESS| pw158776 [PATCH] app/testpmd: fix flex item link parsing From: dpdklab@iol.unh.edu To: Test Report Cc: dpdk-test-reports@iol.unh.edu, Stephen Hemminger In-Reply-To: <20251113201726.10597-1-mkashani@nvidia.com> References: <20251113201726.10597-1-mkashani@nvidia.com> Content-Type: text/plain X-BeenThere: test-report@dpdk.org X-Mailman-Version: 2.1.29 Precedence: list List-Id: automatic DPDK test reports List-Unsubscribe: , List-Archive: List-Post: List-Help: List-Subscribe: , Errors-To: test-report-bounces@dpdk.org Test-Label: iol-unit-amd64-testing Test-Status: SUCCESS http://dpdk.org/patch/158776 _Testing PASS_ Submitter: Maayan Kashani Date: Thursday, November 13 2025 20:17:25 DPDK git baseline: Repo:dpdk-next-net Branch: master CommitID:fca6f2910345c25a5050a0b586e0d324ca616cbb 158776 --> testing pass Upstream job id: Generic-VM-Unit-Test-DPDK#32559 Test environment and result as below: +-------------------------------+----------------+ | Environment | dpdk_unit_test | +===============================+================+ | CentOS Stream 9 | PASS | +-------------------------------+----------------+ | CentOS Stream 10 | PASS | +-------------------------------+----------------+ | Debian GNU/Linux 12 | PASS | +-------------------------------+----------------+ | Fedora Linux 40 | PASS | +-------------------------------+----------------+ | Fedora Linux 41 | PASS | +-------------------------------+----------------+ | Ubuntu 22.04 | PASS | +-------------------------------+----------------+ | Red Hat Enterprise Linux 9.5 | PASS | +-------------------------------+----------------+ | Fedora Linux 42 | PASS | +-------------------------------+----------------+ | Red Hat Enterprise Linux 8.10 | PASS | +-------------------------------+----------------+ | Ubuntu 24.04 | PASS | +-------------------------------+----------------+ | Ubuntu 20.04 | PASS | +-------------------------------+----------------+ | Windows Server 2022 | PASS | +-------------------------------+----------------+ CentOS Stream 9 Kernel: 5.15 Compiler: gcc gcc (GCC) 11.5.0 20240719 (Red Hat 11.5.0-11) CentOS Stream 10 Kernel: 5.15 Compiler: gcc gcc (GCC) 14.2.1 20250110 (Red Hat 14.2.1-8) Debian GNU/Linux 12 Kernel: 5.15 Compiler: gcc gcc (Debian 12.2.0-14+deb12u1) 12.2.0 Fedora Linux 40 Kernel: 5.15 Compiler: gcc gcc (GCC) 14.2.1 20240912 (Red Hat 14.2.1-3) Fedora Linux 41 Kernel: 5.15 Compiler: gcc gcc (GCC) 14.3.1 20250523 (Red Hat 14.3.1-1) Ubuntu 22.04 Kernel: 5.15 Compiler: gcc gcc (Ubuntu 11.4.0-1ubuntu1~22.04) 11.4.0 Red Hat Enterprise Linux 9.5 Kernel: 5.15 Compiler: gcc gcc (GCC) 11.5.0 20240719 (Red Hat 11.5.0-2) Fedora Linux 42 Kernel: 5.15 Compiler: clang gcc (GCC) 15.2.1 20250808 (Red Hat 15.2.1-1) Red Hat Enterprise Linux 8.10 Kernel: 5.15 Compiler: gcc gcc (GCC) 8.5.0 20210514 (Red Hat 8.5.0-22) Ubuntu 24.04 Kernel: 5.15 Compiler: gcc gcc (Ubuntu 13.3.0-6ubuntu2~24.04) 13.3.0 Ubuntu 20.04 Kernel: 5.15 Compiler: gcc gcc (Ubuntu 9.4.0-1ubuntu1~20.04.2) 9.4.0 Windows Server 2022 Kernel: 10.0.20348.2031 Compiler: clang 15.0.7, gcc 14.1.0 (MinGW), and MSVC VS 19.39.33521 To view detailed results, visit: https://lab.dpdk.org/results/dashboard/patchsets/34583/ UNH-IOL DPDK Community Lab To manage your email subscriptions, visit: https://lab.dpdk.org/results/dashboard/preferences/subscriptions/