From mboxrd@z Thu Jan 1 00:00:00 1970 Return-Path: Received: from mails.dpdk.org (mails.dpdk.org [217.70.189.124]) by inbox.dpdk.org (Postfix) with ESMTP id 3A33B48B0E for ; Sat, 15 Nov 2025 01:04:29 +0100 (CET) Received: from mails.dpdk.org (localhost [127.0.0.1]) by mails.dpdk.org (Postfix) with ESMTP id 1091A400D6; Sat, 15 Nov 2025 01:04:29 +0100 (CET) Received: from mail-pf1-f228.google.com (mail-pf1-f228.google.com [209.85.210.228]) by mails.dpdk.org (Postfix) with ESMTP id 1F1F9400D6 for ; Sat, 15 Nov 2025 01:04:27 +0100 (CET) Received: by mail-pf1-f228.google.com with SMTP id d2e1a72fcca58-794e300e20dso2502932b3a.1 for ; Fri, 14 Nov 2025 16:04:26 -0800 (PST) DKIM-Signature: v=1; a=rsa-sha256; c=relaxed/relaxed; d=iol.unh.edu; s=unh-iol; t=1763165066; x=1763769866; darn=dpdk.org; h=cc:to:from:subject:message-id:date:from:to:cc:subject:date :message-id:reply-to; bh=mVFAw66d+21IHXCGGMvfONe+3pwX15sCDVLZ50iJFDw=; b=C0xgTEuU4OV1veL9OHyoPINaNhiICjXoU4ieWBBFNv8as5B6MsNwPLfLQl7llmHcrh XhoVtsFnr07oEphDnStdhRn8DGq0SYxyZm/5KpWls0oV2zeGqtW5gug66BM0hx0ld8xW Vlg2Uf69rXaMlaoB238Hm4pT3VFswTXY2gQZc= X-Google-DKIM-Signature: v=1; a=rsa-sha256; c=relaxed/relaxed; d=1e100.net; s=20230601; t=1763165066; x=1763769866; h=cc:to:from:subject:message-id:date:x-gm-gg:x-gm-message-state:from :to:cc:subject:date:message-id:reply-to; bh=mVFAw66d+21IHXCGGMvfONe+3pwX15sCDVLZ50iJFDw=; b=ak3lASPXqimwpOlsevnVI4GfXXezW04Ea3boqp0TCJc+tRVCGhktty2UvkdZ+dBzjV 853mMz3u95Nv5lcbjT5xNeABasM5GAkpM6PnPIlrn9aJwKxut62u5vM8kOqjUyR7Dybo 7/njXq0RL0g9iScpwzJvCoiPBEw1LwjZgo8T5593RBTEddt2mzQYhqv6v6M+lskR1+cm ZQHD1cc6LMq9qo0nNNq4HGuRjvg282DdZyDrMsEj0/Y4qqNNPVVJgZ5LMTHvqHUI/19C rspGmrReVLBqYupqsT2Ct4E/9IvG77wVi3KvyKX42cVO6yRiFiRaZaQGKlBJLM/EhOS7 4eEw== X-Gm-Message-State: AOJu0YwtLtiR616WSTi2ZNI+E4A8MxQfpc2aPNOgy7JZ7JQPsq9LS0T0 6qGdGNm96chFLsZgXI5YVrWUFCUyqKmSKOkdUedKi/OLRcZlHnalWx/33RlYO/kf5UkeDmCk5I9 cbgSVkdRJxVYeWVJwMqjwSLHLF67JkAA9QrGs6QEn5LmFGcaTbWd04uAIjkh1 X-Gm-Gg: ASbGncvkWA0U7wj7TKutAmBKUuKi7UmKyY/t5P7nz6E4iWiun/g+Lzq+UkdHXJQRHPr hoOmWR6Su5LNcmNofl42rzkr0Tan08SNEG6Qau+T8iLO4gsOsfh67wGPvFS5Wv5subjD4HaZarJ Z5DsAz299nqyf8JX2/qhh6Iw4ozuF48vMkeMpyIHJgZs4MGcDEpy5AbLWTcg9TDV9il/7m67xbE 3Q8L3NxtznKhBkvzqM3afvf+OYDQZyV7IfsMKkK3coUBzmKBoTk9gVdhutZRFVKwrOUqyyRnPzr tvQifmqm4P1w/3Hfy5xZH78eA/jczjxnj2+nH89iZz/yFkO6aNDr9TpRSKde8b8zjd5XC7ikCko kobEvNvwB X-Google-Smtp-Source: AGHT+IGdfkHkLzz3qWQAXOaqNaf6rsPkM1jF6VQK4VvUDqOUH035e0eqoIuwvjUXmYYe+eMu7FhByXrBg7l4 X-Received: by 2002:a05:7022:925:b0:119:e569:f866 with SMTP id a92af1059eb24-11b40e8ad2dmr2064347c88.3.1763165066003; Fri, 14 Nov 2025 16:04:26 -0800 (PST) Received: from postal.iol.unh.edu (postal.iol.unh.edu. [2606:4100:3880:1234::84]) by smtp-relay.gmail.com with ESMTPS id a92af1059eb24-11b0609131csm433661c88.5.2025.11.14.16.04.25 (version=TLS1_2 cipher=ECDHE-ECDSA-AES128-GCM-SHA256 bits=128/128); Fri, 14 Nov 2025 16:04:25 -0800 (PST) X-Relaying-Domain: iol.unh.edu Date: Fri, 14 Nov 2025 16:04:25 -0800 (PST) Message-ID: <6917c389.050a0220.98bfc.6282SMTPIN_ADDED_MISSING@mx.google.com> Received: from [172.21.0.2] (unknown [172.18.0.240]) by postal.iol.unh.edu (Postfix) with ESMTP id F279B6051830; Fri, 14 Nov 2025 19:04:24 -0500 (EST) Subject: |SUCCESS| [GIT MASTER] be0112878b4fc3a1b918370ed2fe615c52039d77 From: dpdklab@iol.unh.edu To: Test Report Cc: dpdk-test-reports@iol.unh.edu Content-Type: text/plain X-BeenThere: test-report@dpdk.org X-Mailman-Version: 2.1.29 Precedence: list List-Id: automatic DPDK test reports List-Unsubscribe: , List-Archive: List-Post: List-Help: List-Subscribe: , Errors-To: test-report-bounces@dpdk.org _Testing PASS_ Branch: dpdk be0112878b4fc3a1b918370ed2fe615c52039d77 --> testing pass Upstream job id: Generic-Unit-Test-DPDK#392547 Test environment and result as below: +------------------------------+----------------+---------------------------+--------------+------------------------------+ | Environment | dpdk_unit_test | cryptodev_sw_zuc_autotest | lpm_autotest | cryptodev_sw_snow3g_autotest | +==============================+================+===========================+==============+==============================+ | CentOS Stream 9 | PASS | SKIPPED | SKIPPED | SKIPPED | +------------------------------+----------------+---------------------------+--------------+------------------------------+ | Debian GNU/Linux 12 | PASS | SKIPPED | SKIPPED | SKIPPED | +------------------------------+----------------+---------------------------+--------------+------------------------------+ | CentOS Stream 10 | PASS | SKIPPED | SKIPPED | SKIPPED | +------------------------------+----------------+---------------------------+--------------+------------------------------+ | Fedora Linux 40 | PASS | SKIPPED | SKIPPED | SKIPPED | +------------------------------+----------------+---------------------------+--------------+------------------------------+ | Fedora Linux 42 | PASS | SKIPPED | SKIPPED | SKIPPED | +------------------------------+----------------+---------------------------+--------------+------------------------------+ | Fedora Linux 41 | PASS | SKIPPED | SKIPPED | SKIPPED | +------------------------------+----------------+---------------------------+--------------+------------------------------+ | Ubuntu 22.04 | PASS | SKIPPED | SKIPPED | SKIPPED | +------------------------------+----------------+---------------------------+--------------+------------------------------+ | Red Hat Enterprise Linux 9.5 | PASS | SKIPPED | SKIPPED | SKIPPED | +------------------------------+----------------+---------------------------+--------------+------------------------------+ | Ubuntu 20.04 | PASS | SKIPPED | PASS | SKIPPED | +------------------------------+----------------+---------------------------+--------------+------------------------------+ | Ubuntu 24.04 | PASS | SKIPPED | SKIPPED | SKIPPED | +------------------------------+----------------+---------------------------+--------------+------------------------------+ | Debian 12 (arm) | SKIPPED | PASS | SKIPPED | PASS | +------------------------------+----------------+---------------------------+--------------+------------------------------+ CentOS Stream 9 Kernel: 5.4 Compiler: gcc gcc (GCC) 11.5.0 20240719 (Red Hat 11.5.0-11) Debian GNU/Linux 12 Kernel: 5.4 Compiler: gcc gcc (Debian 12.2.0-14+deb12u1) 12.2.0 CentOS Stream 10 Kernel: 5.4 Compiler: gcc gcc (GCC) 14.2.1 20250110 (Red Hat 14.2.1-8) Fedora Linux 40 Kernel: 5.4 Compiler: gcc gcc (GCC) 14.2.1 20240912 (Red Hat 14.2.1-3) Fedora Linux 42 Kernel: 5.4 Compiler: clang gcc (GCC) 15.2.1 20250808 (Red Hat 15.2.1-1) Fedora Linux 41 Kernel: 5.4 Compiler: gcc gcc (GCC) 14.3.1 20250523 (Red Hat 14.3.1-1) Ubuntu 22.04 Kernel: 5.15 Compiler: gcc gcc (Ubuntu 11.4.0-1ubuntu1~22.04.2) 11.4.0 Red Hat Enterprise Linux 9.5 Kernel: 5.4 Compiler: gcc gcc (GCC) 11.5.0 20240719 (Red Hat 11.5.0-2) Ubuntu 20.04 Kernel: 5.4 Compiler: gcc gcc (Ubuntu 9.4.0-1ubuntu1~20.04.2) 9.4.0 Ubuntu 24.04 Kernel: 5.4 Compiler: gcc gcc (Ubuntu 13.3.0-6ubuntu2~24.04) 13.3.0 Debian 12 (arm) Kernel: Depends on container host Compiler: gcc (Debian 12.2.0-14) 12.2.0 To view detailed results, visit: https://lab.dpdk.org/results/dashboard/tarballs/35590/ UNH-IOL DPDK Community Lab To manage your email subscriptions, visit: https://lab.dpdk.org/results/dashboard/preferences/subscriptions/