From mboxrd@z Thu Jan 1 00:00:00 1970 Return-Path: Received: from mails.dpdk.org (mails.dpdk.org [217.70.189.124]) by inbox.dpdk.org (Postfix) with ESMTP id 5E55648B0E for ; Sat, 15 Nov 2025 01:06:19 +0100 (CET) Received: from mails.dpdk.org (localhost [127.0.0.1]) by mails.dpdk.org (Postfix) with ESMTP id 53030400D6; Sat, 15 Nov 2025 01:06:19 +0100 (CET) Received: from mail-qt1-f226.google.com (mail-qt1-f226.google.com [209.85.160.226]) by mails.dpdk.org (Postfix) with ESMTP id EEA19400D6 for ; Sat, 15 Nov 2025 01:06:17 +0100 (CET) Received: by mail-qt1-f226.google.com with SMTP id d75a77b69052e-4eddfb8c7f5so25276391cf.1 for ; Fri, 14 Nov 2025 16:06:17 -0800 (PST) DKIM-Signature: v=1; a=rsa-sha256; c=relaxed/relaxed; d=iol.unh.edu; s=unh-iol; t=1763165177; x=1763769977; darn=dpdk.org; h=references:in-reply-to:cc:to:from:subject:message-id:date:from:to :cc:subject:date:message-id:reply-to; bh=yFeKcNOmXDx3nWzb7s3EjumBW5MNRUqIJFIlZQAzAKY=; b=KO/LJzd/NFsMTG+EE50e7PDn6urqdVimnSFs0msOv44UsitVDOv7CrDIsyPzI/eLA7 Uk38gp5dfHGrO4MPUXEDhp2ZTTTWo40K9vGORJfWTsS8eRx+JOWuhYsUUsG+dU8zCuLw GyAQAhBIAuMhcYGfb1krli8IMYDnjbLHXkD1k= X-Google-DKIM-Signature: v=1; a=rsa-sha256; c=relaxed/relaxed; d=1e100.net; s=20230601; t=1763165177; x=1763769977; h=references:in-reply-to:cc:to:from:subject:message-id:date:x-gm-gg :x-gm-message-state:from:to:cc:subject:date:message-id:reply-to; bh=yFeKcNOmXDx3nWzb7s3EjumBW5MNRUqIJFIlZQAzAKY=; b=Tq9+nLmwezB8cCxkxnAf5kzlhzIgA/jB2QpWDG2pLA7gKQ6ToHo9v9ibX9eAoB9DTU 2pB0MckOGxEKfxwx8BlUBfP0BZyZ2AL2XeHQvO82gsLqHlmgKj51R9kcMaZNeY9M2tDH cOavWlLMmmkS5vqrQpgP6L8yaPF0WTJYxaUxBePNBpDonZit6eGAZ6rWYoiW3RwhOBlR 8C999AcQduGG00bzA/rFOPm7mYeMi8v313+5hGKI+HHD0OWgCUXFLDT/XeR3MX4zoyE7 CZIjY3kcJCixvqybtEsNYaJ023iLIFTrqI3/HBNhz5q4sOyXCWeXAqflLCbHBKWhUkTv OFag== X-Gm-Message-State: AOJu0YwH8JSAqPr/F4XLsWZ8BtMZME5VzcHVkNJWRGxrSnrttw77yyjV h6ZxKYvLcum22lESP1cUOQY9fiEOwF7pU6iGtWOdjkBCQ7n686rs1tCF3OfXrD9EIqvs6029U6K zi3GtZYxvPxqzqcs7n67ZmCbDu/yr+LKM97eseUqiB1BeZ19WFUHMzmvyZn8l X-Gm-Gg: ASbGncuxpoHZ183uau+bk0SGysLEUFEFMO27PeiM8AIc20+7k4EMmZh8OPEjuKKanur GQAJmAkudbF++K56sZqkJtUNhaTv7kurv+6qs0nprntzzdrPLsaVVx7AG1MOxUsySXgXL7SNbVI whkwMr2RlbJsABJa85UB5AioQlDkuChQSyclUR5oPFoGISf7gspJKrdxn2OSVJOBugK5oL3FJLC SPzrqhDRETkOiNJBOS8/pCGx7FvNkhSL3thzgcEF4+s0Ol2kPdvhQuMEHYgJzswDCDq96T3OHcV LbXBu2tJIFQCeoBlCmIQBhWgdM4c+cG/1JeFjTtDm3zuXjmwGakKqNV+n+1aeagdJAqiuU7ZVZl mxp+b8szl X-Google-Smtp-Source: AGHT+IGQ6K44WRkh1rOLk9U4f1P7LqQUMrylb90FQvecCOWXoFeHUO/BV8TTjRHHUE2pgpCBhHBjF+alHcAl X-Received: by 2002:a05:622a:110b:b0:4e8:9e67:92af with SMTP id d75a77b69052e-4edf2097a3cmr74288351cf.20.1763165177268; Fri, 14 Nov 2025 16:06:17 -0800 (PST) Received: from postal.iol.unh.edu (postal.iol.unh.edu. [2606:4100:3880:1234::84]) by smtp-relay.gmail.com with ESMTPS id 6a1803df08f44-882862fcdf1sm7033826d6.9.2025.11.14.16.06.17 (version=TLS1_2 cipher=ECDHE-ECDSA-AES128-GCM-SHA256 bits=128/128); Fri, 14 Nov 2025 16:06:17 -0800 (PST) X-Relaying-Domain: iol.unh.edu Date: Fri, 14 Nov 2025 16:06:17 -0800 (PST) Message-ID: <6917c3f9.050a0220.3dbc62.341fSMTPIN_ADDED_MISSING@mx.google.com> Received: from [172.21.0.2] (unknown [172.18.0.240]) by postal.iol.unh.edu (Postfix) with ESMTP id CCD1D6051830; Fri, 14 Nov 2025 19:06:16 -0500 (EST) Subject: |SUCCESS| pw158791 [PATCH] [v4] test/crypto: add AES-CCM test case w From: dpdklab@iol.unh.edu To: Test Report Cc: dpdk-test-reports@iol.unh.edu, Akhil Goyal In-Reply-To: <20251114162036.170466-1-emma.finn@intel.com> References: <20251114162036.170466-1-emma.finn@intel.com> Content-Type: text/plain X-BeenThere: test-report@dpdk.org X-Mailman-Version: 2.1.29 Precedence: list List-Id: automatic DPDK test reports List-Unsubscribe: , List-Archive: List-Post: List-Help: List-Subscribe: , Errors-To: test-report-bounces@dpdk.org Test-Label: iol-compile-amd64-testing Test-Status: SUCCESS http://dpdk.org/patch/158791 _Testing PASS_ Submitter: Emma Finn Date: Friday, November 14 2025 16:20:35 DPDK git baseline: Repo:dpdk-next-crypto Branch: master CommitID:754ac59dcaf20949b55c58ab00ca73ea19dcc1cb 158791 --> testing pass Upstream job id: Windows-Compile-DPDK-VS#7556 Test environment and result as below: +---------------------+--------------------+-------------------+ | Environment | dpdk_meson_compile | dpdk_msvc_compile | +=====================+====================+===================+ | Ubuntu 20.04 | PASS | SKIPPED | +---------------------+--------------------+-------------------+ | FreeBSD 14.2 | PASS | SKIPPED | +---------------------+--------------------+-------------------+ | Windows Server 2022 | SKIPPED | PASS | +---------------------+--------------------+-------------------+ Ubuntu 20.04 Kernel: 4.19 Compiler: gcc gcc (Ubuntu 9.4.0-1ubuntu1~20.04.2) 9.4.0 FreeBSD 14.2 Kernel: 14.2-RELEASE Compiler: clang 18.1.6 Windows Server 2022 Kernel: 10.0.20348.2031 Compiler: clang 15.0.7, gcc 14.1.0 (MinGW), and MSVC VS 19.39.33521 To view detailed results, visit: https://lab.dpdk.org/results/dashboard/patchsets/34592/ UNH-IOL DPDK Community Lab To manage your email subscriptions, visit: https://lab.dpdk.org/results/dashboard/preferences/subscriptions/