From mboxrd@z Thu Jan 1 00:00:00 1970 Return-Path: Received: from mails.dpdk.org (mails.dpdk.org [217.70.189.124]) by inbox.dpdk.org (Postfix) with ESMTP id 81F5B48B0E for ; Sat, 15 Nov 2025 01:07:10 +0100 (CET) Received: from mails.dpdk.org (localhost [127.0.0.1]) by mails.dpdk.org (Postfix) with ESMTP id 78999400D6; Sat, 15 Nov 2025 01:07:10 +0100 (CET) Received: from mail-io1-f98.google.com (mail-io1-f98.google.com [209.85.166.98]) by mails.dpdk.org (Postfix) with ESMTP id 0D152400D6 for ; Sat, 15 Nov 2025 01:07:09 +0100 (CET) Received: by mail-io1-f98.google.com with SMTP id ca18e2360f4ac-93e7e87c21bso95201539f.3 for ; Fri, 14 Nov 2025 16:07:09 -0800 (PST) DKIM-Signature: v=1; a=rsa-sha256; c=relaxed/relaxed; d=iol.unh.edu; s=unh-iol; t=1763165228; x=1763770028; darn=dpdk.org; h=references:in-reply-to:cc:to:from:subject:message-id:date:from:to :cc:subject:date:message-id:reply-to; bh=phVeJ5ni0wZHQmWlX2UfBcjglSiZmcWLCmCJwSFxTiw=; b=Pc13pgUjT6DBsf2cgKywT6r9yIzQm/q3d/VPuBvY8g2vMOVcQ2wQ5CDF5Mcytrckuf Jpe8f0OqpVh/ADSlZyNGjbfFDwOLbVJYyiRmy27OYurUVgPVzqlbWxtikWKeUMextc3C +xOkEiBdcpmkWhwosdBuaiKcFt+Em/gvHv6lI= X-Google-DKIM-Signature: v=1; a=rsa-sha256; c=relaxed/relaxed; d=1e100.net; s=20230601; t=1763165228; x=1763770028; h=references:in-reply-to:cc:to:from:subject:message-id:date:x-gm-gg :x-gm-message-state:from:to:cc:subject:date:message-id:reply-to; bh=phVeJ5ni0wZHQmWlX2UfBcjglSiZmcWLCmCJwSFxTiw=; b=GlmIjVGnnFgfpchMdp0AnOzs47GoWanRkDZOUt/Pm1kA2LlNXjSVkeKTGFlNXVuLZu LBvHj1sADZ/PSjA0tx9xAbvmtullxb02UEK2yBEtnEOSiGe07SKPi54ChzwJRU6Lp7S6 qL/hR+CqddCUTqvuicFLtFZuu/tR370w+JwwSGS4BaBt0v92cULJ1saPC1oZGl+1M3+8 Wkw5MG0HbWqMU2ZtZ2r8bztrGb/73V4iVqUGXi/BVgzKTAhrfIycet9LyQFVlpDkZPrz PA3eLT3XwCpHRZ8aDNZ+wTBHgBKJN7nRiEB3/6P+4ryjIADJxnO4eRFnA0gtHTsMxs09 QPxw== X-Gm-Message-State: AOJu0Yzzfr2eXwBw30qfMWenstzT8GH2HXtI0S8yWDOhFeHqdoiVWXJu Pratw5DqVFfUG+q3rUKErTvioEvU6JqWPl4ihnZEAApZ5VcmqR7jeAfgVHmvV9YPb1Xaj5w9BPz 16duwvUq+kY5RLnv4PRGiBtL/7pi42Qj1dVt8DFiTHvNiuPK2os7ye6NwuhEr X-Gm-Gg: ASbGncu5V81MAjs1/xGW0fdrhGHNo2Q5gIb2Fol1t+0ws4AbxMdM0Etn7D9+LSoIa3Q 7z6DwmFMIUgOhwFNL4p73CibWBRPPMggNfJTi9gsb1NTcVFbJxNINiZsUwQTkLfdCDCTLKCDU1K uNAzWpz68lXbjRD40Vqk1+WUnlT/PY1KfsRgH8nj63Io5SPSMBua5S//wUVKU3YQdkkVg66V9GR 4tmVhvpgtOD4RwdtAHYPiraq5R+r7TbQ9MT1GZrTZ1GZ9ZfGTYAiTlns9CEyJ4896fWzSIGUwtG HLD/9s0jt6HLtBCEYwEB537nvXagU+VnAmJ8nvJZ81k3f14hsS/bEbHxNN/uIPZdliGImrSHdtv YSqKuSOS0 X-Google-Smtp-Source: AGHT+IEyeXU5HWwhYkIIR1a/vvm8lyyr8q0iikBkMK9x02pONPDn8kfRYEWvAU4TfghirfuuLwuF0LdRrzsy X-Received: by 2002:a05:6638:155:b0:55f:5973:4bbc with SMTP id 8926c6da1cb9f-5b7c9c567bemr536546173.2.1763165228319; Fri, 14 Nov 2025 16:07:08 -0800 (PST) Received: from postal.iol.unh.edu (postal.iol.unh.edu. [2606:4100:3880:1234::84]) by smtp-relay.gmail.com with ESMTPS id 8926c6da1cb9f-5b7bd27fb22sm324781173.18.2025.11.14.16.07.08 (version=TLS1_2 cipher=ECDHE-ECDSA-AES128-GCM-SHA256 bits=128/128); Fri, 14 Nov 2025 16:07:08 -0800 (PST) X-Relaying-Domain: iol.unh.edu Date: Fri, 14 Nov 2025 16:07:08 -0800 (PST) Message-ID: <6917c42c.050a0220.142f44.f559SMTPIN_ADDED_MISSING@mx.google.com> Received: from [172.21.0.2] (unknown [172.18.0.240]) by postal.iol.unh.edu (Postfix) with ESMTP id D289F6051830; Fri, 14 Nov 2025 19:07:07 -0500 (EST) Subject: |SUCCESS| pw158547 [PATCH] telemetry: make socket handler typedef pr From: dpdklab@iol.unh.edu To: Test Report Cc: dpdk-test-reports@iol.unh.edu In-Reply-To: <20251107093259.3305537-1-bruce.richardson@intel.com> References: <20251107093259.3305537-1-bruce.richardson@intel.com> Content-Type: text/plain X-BeenThere: test-report@dpdk.org X-Mailman-Version: 2.1.29 Precedence: list List-Id: automatic DPDK test reports List-Unsubscribe: , List-Archive: List-Post: List-Help: List-Subscribe: , Errors-To: test-report-bounces@dpdk.org Test-Label: iol-compile-amd64-testing Test-Status: SUCCESS http://dpdk.org/patch/158547 _Testing PASS_ Submitter: Bruce Richardson Date: Friday, November 07 2025 09:32:59 DPDK git baseline: Repo:dpdk Branch: master CommitID:be0112878b4fc3a1b918370ed2fe615c52039d77 158547 --> testing pass Upstream job id: Windows-Compile-DPDK-Native#32334 Test environment and result as below: +-------------------------------+--------------------+------------------+-------------------+-------------------------+----------------------+ | Environment | dpdk_meson_compile | dpdk_compile_ovs | dpdk_msvc_compile | dpdk_llvm_clang_compile | dpdk_mingw64_compile | +===============================+====================+==================+===================+=========================+======================+ | FreeBSD 14.2 | PASS | SKIPPED | SKIPPED | SKIPPED | SKIPPED | +-------------------------------+--------------------+------------------+-------------------+-------------------------+----------------------+ | Ubuntu 20.04 | PASS | SKIPPED | SKIPPED | SKIPPED | SKIPPED | +-------------------------------+--------------------+------------------+-------------------+-------------------------+----------------------+ | CentOS Stream 9 | PASS | SKIPPED | SKIPPED | SKIPPED | SKIPPED | +-------------------------------+--------------------+------------------+-------------------+-------------------------+----------------------+ | Fedora Linux 42 | PASS | PASS | SKIPPED | SKIPPED | SKIPPED | +-------------------------------+--------------------+------------------+-------------------+-------------------------+----------------------+ | CentOS Stream 10 | PASS | SKIPPED | SKIPPED | SKIPPED | SKIPPED | +-------------------------------+--------------------+------------------+-------------------+-------------------------+----------------------+ | Debian GNU/Linux 12 | PASS | SKIPPED | SKIPPED | SKIPPED | SKIPPED | +-------------------------------+--------------------+------------------+-------------------+-------------------------+----------------------+ | openSUSE Leap 15.6 | PASS | SKIPPED | SKIPPED | SKIPPED | SKIPPED | +-------------------------------+--------------------+------------------+-------------------+-------------------------+----------------------+ | Red Hat Enterprise Linux 8.10 | PASS | SKIPPED | SKIPPED | SKIPPED | SKIPPED | +-------------------------------+--------------------+------------------+-------------------+-------------------------+----------------------+ | Red Hat Enterprise Linux 9.5 | PASS | SKIPPED | SKIPPED | SKIPPED | SKIPPED | +-------------------------------+--------------------+------------------+-------------------+-------------------------+----------------------+ | Ubuntu 22.04 | PASS | SKIPPED | SKIPPED | SKIPPED | SKIPPED | +-------------------------------+--------------------+------------------+-------------------+-------------------------+----------------------+ | Ubuntu 24.04 | PASS | PASS | SKIPPED | SKIPPED | SKIPPED | +-------------------------------+--------------------+------------------+-------------------+-------------------------+----------------------+ | Alpine Linux 3.22.0 | PASS | SKIPPED | SKIPPED | SKIPPED | SKIPPED | +-------------------------------+--------------------+------------------+-------------------+-------------------------+----------------------+ | Windows Server 2022 | SKIPPED | SKIPPED | PASS | PASS | PASS | +-------------------------------+--------------------+------------------+-------------------+-------------------------+----------------------+ FreeBSD 14.2 Kernel: 14.2-RELEASE Compiler: clang 18.1.6 Ubuntu 20.04 Kernel: 4.19 Compiler: gcc gcc (Ubuntu 9.4.0-1ubuntu1~20.04.2) 9.4.0 CentOS Stream 9 Kernel: 5.15 Compiler: gcc gcc (GCC) 11.5.0 20240719 (Red Hat 11.5.0-11) Fedora Linux 42 Kernel: 5.15 Compiler: clang gcc (GCC) 15.2.1 20250808 (Red Hat 15.2.1-1) CentOS Stream 10 Kernel: 5.15 Compiler: gcc gcc (GCC) 14.2.1 20250110 (Red Hat 14.2.1-8) Debian GNU/Linux 12 Kernel: 5.15 Compiler: gcc gcc (Debian 12.2.0-14+deb12u1) 12.2.0 openSUSE Leap 15.6 Kernel: 5.15 Compiler: gcc gcc (SUSE Linux) 7.5.0 Red Hat Enterprise Linux 8.10 Kernel: 5.15 Compiler: gcc gcc (GCC) 8.5.0 20210514 (Red Hat 8.5.0-22) Red Hat Enterprise Linux 9.5 Kernel: 5.15 Compiler: gcc gcc (GCC) 11.5.0 20240719 (Red Hat 11.5.0-2) Ubuntu 22.04 Kernel: 5.15 Compiler: gcc gcc (Ubuntu 11.4.0-1ubuntu1~22.04) 11.4.0 Ubuntu 24.04 Kernel: 5.15 Compiler: gcc gcc (Ubuntu 13.3.0-6ubuntu2~24.04) 13.3.0 Alpine Linux 3.22.0 Kernel: 5.15 Compiler: gcc gcc (Alpine 14.2.0) 14.2.0 Windows Server 2022 Kernel: 10.0.20348.2031 Compiler: clang 15.0.7, gcc 14.1.0 (MinGW), and MSVC VS 19.39.33521 To view detailed results, visit: https://lab.dpdk.org/results/dashboard/patchsets/34555/ UNH-IOL DPDK Community Lab To manage your email subscriptions, visit: https://lab.dpdk.org/results/dashboard/preferences/subscriptions/