From mboxrd@z Thu Jan 1 00:00:00 1970 Return-Path: Received: from mails.dpdk.org (mails.dpdk.org [217.70.189.124]) by inbox.dpdk.org (Postfix) with ESMTP id 50FFB48B0E for ; Sat, 15 Nov 2025 01:16:20 +0100 (CET) Received: from mails.dpdk.org (localhost [127.0.0.1]) by mails.dpdk.org (Postfix) with ESMTP id 4B3EB400D6; Sat, 15 Nov 2025 01:16:20 +0100 (CET) Received: from mail-yw1-f225.google.com (mail-yw1-f225.google.com [209.85.128.225]) by mails.dpdk.org (Postfix) with ESMTP id C8941400D6 for ; Sat, 15 Nov 2025 01:16:18 +0100 (CET) Received: by mail-yw1-f225.google.com with SMTP id 00721157ae682-786635a8ce4so22622747b3.2 for ; Fri, 14 Nov 2025 16:16:18 -0800 (PST) DKIM-Signature: v=1; a=rsa-sha256; c=relaxed/relaxed; d=iol.unh.edu; s=unh-iol; t=1763165778; x=1763770578; darn=dpdk.org; h=references:in-reply-to:cc:to:from:subject:message-id:date:from:to :cc:subject:date:message-id:reply-to; bh=5dSoXRzAwMxk12BpnFKNqdcvrUWTVaBnkSdB4BdZvV0=; b=Zr5JH5/PL2JPuNP7qXm5sUm2qGpDxJ+6q0aw8oshPwWamxC4zEZIX7p9hsTVX2SOCV q7c02qh+Ovc0EpIBbbJJyahlnU7TQ0v3a3DkY+KMAVs9wyVShpHT6qewi5JrnqprCweY LHCQVkKagqtj8kt8SYwqPPpyNUrj7+BjdPjoU= X-Google-DKIM-Signature: v=1; a=rsa-sha256; c=relaxed/relaxed; d=1e100.net; s=20230601; t=1763165778; x=1763770578; h=references:in-reply-to:cc:to:from:subject:message-id:date:x-gm-gg :x-gm-message-state:from:to:cc:subject:date:message-id:reply-to; bh=5dSoXRzAwMxk12BpnFKNqdcvrUWTVaBnkSdB4BdZvV0=; b=qm1yVAytGxARxim8xkcI3rukV4lehF/bVaqYsNkK5W4Q3W7+VFe6qAzZPdyHyHvGtp BcWRznAIQAPJ7phlTc4GZq1fu/ysFoLrsB2DNWjJ2+SYP6aK+4IzmKhBPu0fZLGMBQY0 a+qaJnjXPKYv7KKg1j7OrHU2q6He7SRtSrwREfvx//HaIcDFpfUgLBgSEWPZliKuLW9z Fz8iQc9bqoZoU21r/vgetlFQelqWpzcVhSL7uLGVaAPBLUqfjqE+0HKgKABuNvoqOZxy xomc5t/pC+9+TXjW7MbyP2yrCJ6vzDo6t1FBtCM2gyojigwdqA0bgs5GicHJIq8lay1g p8bw== X-Gm-Message-State: AOJu0YxPVZT+3iJLdsxfcVE9fSycmpT0Y0Q1px6YmMJMRQlX94Ox4vZv nsyYXPxOByFLYoDS3xUtcc9e4Jc9Ldsmq8q+nPVESYXaJ/ZuEZJqRmgpBBQ5a9/umlKhsmeGa6q CLzuvJX9jVtFDUjf6It6Pi+mpoF8Cq6E3LxuyhOQfyzYI X-Gm-Gg: ASbGncvas6GtwZk1sTaSHcreeIJYFqlWEsBtRq0uNuhljIs2LFKMq+l5wlF4ggjfkfJ X0p8r4CsSiYHp3oCffzfLkgB0IJY25G2otRBnpJj5dG/rSG6FBc6Yt0MT+PByjccZsHZigvdwJ4 /zgEst2gIrByDIBc3HOgkCMMaKPazNOxGM7HIXsJg08ksDWDSpcSCn6nc0NAmshIxqBvLSfrzm6 LtjrV/0N5F/2tVY+aSawhJJPq5LOe+gckBizjjHUB+1G9V2qKIpgW7bFpUKoSsyCmekiiqLDxE1 i/4cdw7xCKOT8NMFlKUE95Rmdn22DZLu36ZPJPW0+dPIUFLrGaNW0bPaNjEbq5vOH/8vnR6oUNt vDyptXXgDgaD9bpXz7hb0pkCLliWJyOc= X-Google-Smtp-Source: AGHT+IEUGx50L2HSC2E/CJjOm50SdmazlwD8GNXqvXtY92G3bxU/GzT1tlPjtpD0nmyDS00pJIW2oznO7G/S X-Received: by 2002:a05:690e:c4c:b0:63e:b41:cebc with SMTP id 956f58d0204a3-641e759ab12mr4283671d50.17.1763165778033; Fri, 14 Nov 2025 16:16:18 -0800 (PST) Received: from postal.iol.unh.edu (postal.iol.unh.edu. [132.177.123.84]) by smtp-relay.gmail.com with ESMTPS id 956f58d0204a3-6410eacd1d5sm430673d50.10.2025.11.14.16.16.17 (version=TLS1_2 cipher=ECDHE-ECDSA-AES128-GCM-SHA256 bits=128/128); Fri, 14 Nov 2025 16:16:18 -0800 (PST) X-Relaying-Domain: iol.unh.edu Date: Fri, 14 Nov 2025 16:16:18 -0800 (PST) Message-ID: <6917c652.050a0220.174277.5149SMTPIN_ADDED_MISSING@mx.google.com> Received: from [172.21.0.3] (unknown [172.18.0.240]) by postal.iol.unh.edu (Postfix) with ESMTP id 7A7086051830; Fri, 14 Nov 2025 19:16:17 -0500 (EST) Subject: |SUCCESS| pw158777-158778 [PATCH] [2/2] net/iavf: check Rx timestamp From: dpdklab@iol.unh.edu To: Test Report Cc: dpdk-test-reports@iol.unh.edu, Bruce Richardson In-Reply-To: <20251113-jk-dpdk-iavf-rx-timestamping-improvements-v1-2-3d9a0168087b@intel.com> References: <20251113-jk-dpdk-iavf-rx-timestamping-improvements-v1-2-3d9a0168087b@intel.com> Content-Type: text/plain X-BeenThere: test-report@dpdk.org X-Mailman-Version: 2.1.29 Precedence: list List-Id: automatic DPDK test reports List-Unsubscribe: , List-Archive: List-Post: List-Help: List-Subscribe: , Errors-To: test-report-bounces@dpdk.org Test-Label: iol-unit-amd64-testing Test-Status: SUCCESS http://dpdk.org/patch/158778 _Testing PASS_ Submitter: Jacob Keller Date: Thursday, November 13 2025 21:33:45 DPDK git baseline: Repo:dpdk-next-net-intel Branch: master CommitID:e5357d609907d504f4705e4899f3dad43cb4b70f 158777-158778 --> testing pass Upstream job id: Generic-VM-Unit-Test-DPDK#32560 Test environment and result as below: +-------------------------------+----------------+ | Environment | dpdk_unit_test | +===============================+================+ | CentOS Stream 9 | PASS | +-------------------------------+----------------+ | Debian GNU/Linux 12 | PASS | +-------------------------------+----------------+ | CentOS Stream 10 | PASS | +-------------------------------+----------------+ | Fedora Linux 40 | PASS | +-------------------------------+----------------+ | Fedora Linux 41 | PASS | +-------------------------------+----------------+ | Fedora Linux 42 | PASS | +-------------------------------+----------------+ | Ubuntu 20.04 | PASS | +-------------------------------+----------------+ | Red Hat Enterprise Linux 8.10 | PASS | +-------------------------------+----------------+ | Red Hat Enterprise Linux 9.5 | PASS | +-------------------------------+----------------+ | Ubuntu 22.04 | PASS | +-------------------------------+----------------+ | Ubuntu 24.04 | PASS | +-------------------------------+----------------+ | Windows Server 2022 | PASS | +-------------------------------+----------------+ CentOS Stream 9 Kernel: 5.15 Compiler: gcc gcc (GCC) 11.5.0 20240719 (Red Hat 11.5.0-11) Debian GNU/Linux 12 Kernel: 5.15 Compiler: gcc gcc (Debian 12.2.0-14+deb12u1) 12.2.0 CentOS Stream 10 Kernel: 5.15 Compiler: gcc gcc (GCC) 14.2.1 20250110 (Red Hat 14.2.1-8) Fedora Linux 40 Kernel: 5.15 Compiler: gcc gcc (GCC) 14.2.1 20240912 (Red Hat 14.2.1-3) Fedora Linux 41 Kernel: 5.15 Compiler: gcc gcc (GCC) 14.3.1 20250523 (Red Hat 14.3.1-1) Fedora Linux 42 Kernel: 5.15 Compiler: gcc gcc (GCC) 15.2.1 20250808 (Red Hat 15.2.1-1) Ubuntu 20.04 Kernel: 5.15 Compiler: gcc gcc (Ubuntu 9.4.0-1ubuntu1~20.04.2) 9.4.0 Red Hat Enterprise Linux 8.10 Kernel: 5.15 Compiler: gcc gcc (GCC) 8.5.0 20210514 (Red Hat 8.5.0-22) Red Hat Enterprise Linux 9.5 Kernel: 5.15 Compiler: gcc gcc (GCC) 11.5.0 20240719 (Red Hat 11.5.0-2) Ubuntu 22.04 Kernel: 5.15 Compiler: gcc gcc (Ubuntu 11.4.0-1ubuntu1~22.04) 11.4.0 Ubuntu 24.04 Kernel: 5.15 Compiler: gcc gcc (Ubuntu 13.3.0-6ubuntu2~24.04) 13.3.0 Windows Server 2022 Kernel: 10.0.20348.2031 Compiler: clang 15.0.7, gcc 14.1.0 (MinGW), and MSVC VS 19.39.33521 To view detailed results, visit: https://lab.dpdk.org/results/dashboard/patchsets/34584/ UNH-IOL DPDK Community Lab To manage your email subscriptions, visit: https://lab.dpdk.org/results/dashboard/preferences/subscriptions/