From mboxrd@z Thu Jan 1 00:00:00 1970 Return-Path: Received: from mails.dpdk.org (mails.dpdk.org [217.70.189.124]) by inbox.dpdk.org (Postfix) with ESMTP id F2CC448B0E for ; Sat, 15 Nov 2025 01:22:13 +0100 (CET) Received: from mails.dpdk.org (localhost [127.0.0.1]) by mails.dpdk.org (Postfix) with ESMTP id DAD23400D6; Sat, 15 Nov 2025 01:22:13 +0100 (CET) Received: from mail-pj1-f100.google.com (mail-pj1-f100.google.com [209.85.216.100]) by mails.dpdk.org (Postfix) with ESMTP id ED213400D6 for ; Sat, 15 Nov 2025 01:22:11 +0100 (CET) Received: by mail-pj1-f100.google.com with SMTP id 98e67ed59e1d1-343514c7854so2275890a91.1 for ; Fri, 14 Nov 2025 16:22:11 -0800 (PST) DKIM-Signature: v=1; a=rsa-sha256; c=relaxed/relaxed; d=iol.unh.edu; s=unh-iol; t=1763166131; x=1763770931; darn=dpdk.org; h=references:in-reply-to:cc:to:from:subject:message-id:date:from:to :cc:subject:date:message-id:reply-to; bh=GNvBcfqqR+HtoL71bUWsjVelcNvcRxQbZeho3SEC66I=; b=Lx+qWuAm02doTklCDmd7kjA58jqtckfPcPlI/8Cs/LAwf0YnBWdXwqy44dLV2Ye2jO CExSlOvHnDz19wahk9zyviZp5wtqcUs2Fak8aOlrBKztMey2pCYVXtFK6b8PcKMklarZ PPw/fa0ajLBOOUFN4+Sn9z2ft9aB9V5UPQVHM= X-Google-DKIM-Signature: v=1; a=rsa-sha256; c=relaxed/relaxed; d=1e100.net; s=20230601; t=1763166131; x=1763770931; h=references:in-reply-to:cc:to:from:subject:message-id:date:x-gm-gg :x-gm-message-state:from:to:cc:subject:date:message-id:reply-to; bh=GNvBcfqqR+HtoL71bUWsjVelcNvcRxQbZeho3SEC66I=; b=B9kmF6/8nyOT/3/9r+Wgq/TUbLufSiuXWUf6+cqDI4TbkElFGPETLwv73kFOdROUxM x45F8S5lIk2zFHCw15GRu8V8UboUau6Ayt+BJ47Ea4PS7P02m3c2BEq0JSaH6+fdxIzW Jzdl5KZQPyX9/duZdGebtkom6OLn2VsMBJrFc2iBZhBz7WgRYaArIKa24gwZrCTaRmuM rb0ZHkyzWX10pXxqUby2QzFIHIrafiszf3wkC4N+B7G3o6jCfvJvlUGG0kI7PV6URcCV AEKSkSvRLp/6E/DMJbKbu+eRVRuxdemoliMb4RNq6sUvxRnguvr7KnMllcTOddxWWlUw U5Kg== X-Gm-Message-State: AOJu0YxECbBALBJNy6b60/EslQn7F1hT6qTPl3EoPE9tcIehAK4jE7Bo mUF7xcA0GSDSgcSj3tIMeBzW2paqsjUPP0UjjuP3tozvvotxy8WOSrjRe47QfPqMEmoCNDzBqQ5 5daNjnjTk4DtYSX7xBLNwLe/WPQmZswBSVJkswLWfJz6XYXoxEF+8cGNpLcvC X-Gm-Gg: ASbGnctIY3Vl/eb8p/feddSwRO6MMaB4qCHVmH5RTyDLL9paFUDWqIpPbBYuamZkyV0 ASByiUozCPxdA98I92YmcRgrutuvdXLX8VGQV9ckmBrWI74tct374W79mIVGCq8B7uvmlgsuce3 pg6uz9/F/qy/btFy7QKmDvL1BCsDFrpmKityzhymfghb7pO3phJKnouS7qiTFS0tNtznZhDszLP fGzawHv5dTvGCbxVGlgOAPZYXwBV51dPETH897GDiJmabhD/K7L1UfnQ2E0J3ZXCeGMd21VSibR 0pjxYrD3wEYR7YzUpN4eyHUErFJvmJOXKmg14KOayh3I+Fe+m/bOpTg/iLE9tuXJNu9JFQebHYA 7+0V1Mruf X-Google-Smtp-Source: AGHT+IE0ATKGm6BCkzT+y3YrYJZyWkXFaq4tmCsGc914XT4JoobnxNKuNR3yIwHvJnpwQ+M2gl2Lk7Ft62Fh X-Received: by 2002:a17:90b:1811:b0:341:1a50:2ea9 with SMTP id 98e67ed59e1d1-343eacbf2e9mr10116861a91.16.1763166130961; Fri, 14 Nov 2025 16:22:10 -0800 (PST) Received: from postal.iol.unh.edu (postal.iol.unh.edu. [2606:4100:3880:1234::84]) by smtp-relay.gmail.com with ESMTPS id 41be03b00d2f7-bc374cabda5sm480609a12.11.2025.11.14.16.22.10 (version=TLS1_2 cipher=ECDHE-ECDSA-AES128-GCM-SHA256 bits=128/128); Fri, 14 Nov 2025 16:22:10 -0800 (PST) X-Relaying-Domain: iol.unh.edu Date: Fri, 14 Nov 2025 16:22:10 -0800 (PST) Message-ID: <6917c7b2.050a0220.38f603.76d5SMTPIN_ADDED_MISSING@mx.google.com> Received: from [172.21.0.5] (unknown [172.18.0.240]) by postal.iol.unh.edu (Postfix) with ESMTP id DB85E6051830; Fri, 14 Nov 2025 19:22:09 -0500 (EST) Subject: |SUCCESS| pw158773-158774 [PATCH] [v4,2/2] dts: add QinQ test suite From: dpdklab@iol.unh.edu To: Test Report Cc: dpdk-test-reports@iol.unh.edu In-Reply-To: <20251113190309.310821-2-dmarx@iol.unh.edu> References: <20251113190309.310821-2-dmarx@iol.unh.edu> Content-Type: text/plain X-BeenThere: test-report@dpdk.org X-Mailman-Version: 2.1.29 Precedence: list List-Id: automatic DPDK test reports List-Unsubscribe: , List-Archive: List-Post: List-Help: List-Subscribe: , Errors-To: test-report-bounces@dpdk.org Test-Label: iol-compile-arm64-testing Test-Status: SUCCESS http://dpdk.org/patch/158774 _Testing PASS_ Submitter: Dean Marx Date: Thursday, November 13 2025 19:03:09 DPDK git baseline: Repo:dpdk-next-dts Branch: master CommitID:8dcc93a520b22330e0ad59d360a4594b854f9ddd 158773-158774 --> testing pass Upstream job id: Generic-DPDK-Compile-Meson#444244 Test environment and result as below: +------------------------------+--------------------+ | Environment | dpdk_meson_compile | +==============================+====================+ | Red Hat Enterprise Linux 9.5 | PASS | +------------------------------+--------------------+ | Ubuntu 20.04 | PASS | +------------------------------+--------------------+ | Debian GNU/Linux 12 | PASS | +------------------------------+--------------------+ | Fedora Linux 42 | PASS | +------------------------------+--------------------+ | Ubuntu 22.04 | PASS | +------------------------------+--------------------+ | Ubuntu 24.04 | PASS | +------------------------------+--------------------+ | CentOS Stream 9 | PASS | +------------------------------+--------------------+ | CentOS Stream 10 | PASS | +------------------------------+--------------------+ Red Hat Enterprise Linux 9.5 Kernel: 5.4 Compiler: gcc gcc (GCC) 11.5.0 20240719 (Red Hat 11.5.0-2) Ubuntu 20.04 Kernel: 5.15 Compiler: aarch64-linux-gnu-gcc gcc (Ubuntu 9.4.0-1ubuntu1~20.04.2) 9.4.0 Debian GNU/Linux 12 Kernel: 5.4 Compiler: gcc gcc (Debian 12.2.0-14+deb12u1) 12.2.0 Fedora Linux 42 Kernel: 5.4 Compiler: gcc gcc (GCC) 15.2.1 20250808 (Red Hat 15.2.1-1) Ubuntu 22.04 Kernel: 5.4 Compiler: gcc gcc (Ubuntu 11.4.0-1ubuntu1~22.04) 11.4.0 Ubuntu 24.04 Kernel: 5.4 Compiler: gcc gcc (Ubuntu 13.3.0-6ubuntu2~24.04) 13.3.0 CentOS Stream 9 Kernel: 5.4 Compiler: gcc gcc (GCC) 11.5.0 20240719 (Red Hat 11.5.0-11) CentOS Stream 10 Kernel: 5.4 Compiler: gcc gcc (GCC) 14.2.1 20250110 (Red Hat 14.2.1-8) To view detailed results, visit: https://lab.dpdk.org/results/dashboard/patchsets/34581/ UNH-IOL DPDK Community Lab To manage your email subscriptions, visit: https://lab.dpdk.org/results/dashboard/preferences/subscriptions/