From mboxrd@z Thu Jan 1 00:00:00 1970 Return-Path: Received: from mails.dpdk.org (mails.dpdk.org [217.70.189.124]) by inbox.dpdk.org (Postfix) with ESMTP id 0F36848B0E for ; Sat, 15 Nov 2025 01:22:53 +0100 (CET) Received: from mails.dpdk.org (localhost [127.0.0.1]) by mails.dpdk.org (Postfix) with ESMTP id 0A007400D6; Sat, 15 Nov 2025 01:22:53 +0100 (CET) Received: from mail-oa1-f100.google.com (mail-oa1-f100.google.com [209.85.160.100]) by mails.dpdk.org (Postfix) with ESMTP id A0095400D6 for ; Sat, 15 Nov 2025 01:22:52 +0100 (CET) Received: by mail-oa1-f100.google.com with SMTP id 586e51a60fabf-3e2eeb85822so1203313fac.2 for ; Fri, 14 Nov 2025 16:22:52 -0800 (PST) DKIM-Signature: v=1; a=rsa-sha256; c=relaxed/relaxed; d=iol.unh.edu; s=unh-iol; t=1763166172; x=1763770972; darn=dpdk.org; h=references:in-reply-to:cc:to:from:subject:message-id:date:from:to :cc:subject:date:message-id:reply-to; bh=FC+mZ0M7/C1t6KHuMyR4cYVbBKWXfe31E/ep90d5T6g=; b=QAUW945b3YkMTJObj8TmZYRTitlPPzlCGKZZt830ax5usDQoWWFQoGTU4jSNaR+J3I sMS1eQYocfSFliuoxjLClckXhluNRHz6nWFQ0SLFX5D2HH+iUVlDBfgIR2fWrOeW4PhH 15Gz7mo2nl4o4eqfiDKFu/4seT7hf6+uQF+hw= X-Google-DKIM-Signature: v=1; a=rsa-sha256; c=relaxed/relaxed; d=1e100.net; s=20230601; t=1763166172; x=1763770972; h=references:in-reply-to:cc:to:from:subject:message-id:date:x-gm-gg :x-gm-message-state:from:to:cc:subject:date:message-id:reply-to; bh=FC+mZ0M7/C1t6KHuMyR4cYVbBKWXfe31E/ep90d5T6g=; b=CNUH6tZ5wyxKALpeD1+NehZ8e44IXqEdLMuJCq0Dq8HdOVljR0k8I9te9EZRemkJk7 Z9tR7D/Zoaw1qrwFxGDAaMqmNTt9fhwyfiyJLWh0jdiL8MxWzfJgKZMZimyIZwCrWh2t DvREgah9PFxe74w0jKQzYShN9oX8OWGDz//5zrWUiAJKcewKir7QCtk8pfFKgyy5AP1h vgBOy35r0wgTPsM6VZfvEsOfgq1yjUHD9TXMjWGlR6E+bllRbSvucbYA8YhtXaVOnb6n b9I4BwNQpB+fHvUBj5thZVKLpB2UNEpnXZWWMVVI3eup7Y7DPMq20R/7cNi3DrXvJNAi AH6g== X-Gm-Message-State: AOJu0YyH4b7iLGCRq9WBhgJQAcTcJsI4ym5aKUr+zpKUPzSvHdKz487q oQewm736PjQK+jVpXIiR4kBi7RJFMQAyRIVD/Uuq3VAPnn/HT+5eR1iyRwp/EID5kcBVvdFsQhG h3kbOdyZ6Qfw+QU16M+YOq+8g92GUeSiDxImjcrrDh/V59H5miB06UU6HTGjn X-Gm-Gg: ASbGnctsyVySqt63WNy6h+WlWFv/MvCgc+E4/0KQJexKKZd+gtS73BdLdkfnLB7+y6n YmOGkZmN83AZmhFd84sWe3SyEwAoybLfhKA9XkzYjyp3LiJCDVjIGcqqkFa2A1pXKqQLPtR/OKY GGKZpfJGs8oj8frMyvgFq5xayPafHBaJ0ltwDf2mTdy2zMfDASCrD55RUAcUrQwD0I2a18t3d+O 2+4ujwB/0PzaShGkT6pHb5pMKha4C/3j35VnspswO1BlrKov+YJohXosbDk6wyDQxhBbrZ880yw YIoSjQG6b6wE7pzl4LWDEa8tC4oU64RApyAR6mSoEd7w9TwyGEOFkDPIt9586Rej8r6cam10yLQ Y/OEAXoes X-Google-Smtp-Source: AGHT+IGQ+C0FQ9+7buhuHtt9AWAFecqLGMUoB6rf1l0R4frk1FjDPkGUNhSxtbMZ9dqAM80vAXyQXmal53Jm X-Received: by 2002:a05:6870:612a:b0:3e0:9188:8f10 with SMTP id 586e51a60fabf-3e868a5940dmr3188935fac.0.1763166171871; Fri, 14 Nov 2025 16:22:51 -0800 (PST) Received: from postal.iol.unh.edu (postal.iol.unh.edu. [2606:4100:3880:1234::84]) by smtp-relay.gmail.com with ESMTPS id 586e51a60fabf-3e8522200e0sm517400fac.10.2025.11.14.16.22.51 (version=TLS1_2 cipher=ECDHE-ECDSA-AES128-GCM-SHA256 bits=128/128); Fri, 14 Nov 2025 16:22:51 -0800 (PST) X-Relaying-Domain: iol.unh.edu Date: Fri, 14 Nov 2025 16:22:51 -0800 (PST) Message-ID: <6917c7db.050a0220.5e00c.911aSMTPIN_ADDED_MISSING@mx.google.com> Received: from [172.21.0.3] (unknown [172.18.0.240]) by postal.iol.unh.edu (Postfix) with ESMTP id 11CF16051830; Fri, 14 Nov 2025 19:22:51 -0500 (EST) Subject: |SUCCESS| pw158775 [PATCH] net/mlx5: fix state corruption in dev sta From: dpdklab@iol.unh.edu To: Test Report Cc: dpdk-test-reports@iol.unh.edu In-Reply-To: <20251113193711.7883-1-mkashani@nvidia.com> References: <20251113193711.7883-1-mkashani@nvidia.com> Content-Type: text/plain X-BeenThere: test-report@dpdk.org X-Mailman-Version: 2.1.29 Precedence: list List-Id: automatic DPDK test reports List-Unsubscribe: , List-Archive: List-Post: List-Help: List-Subscribe: , Errors-To: test-report-bounces@dpdk.org Test-Label: iol-compile-arm64-testing Test-Status: SUCCESS http://dpdk.org/patch/158775 _Testing PASS_ Submitter: Maayan Kashani Date: Thursday, November 13 2025 19:37:11 DPDK git baseline: Repo:dpdk-next-net-mlx Branch: master CommitID:ae657d56b1f0ea979b3f611edf28d773efc2ddcf 158775 --> testing pass Upstream job id: Generic-DPDK-Compile-Meson#444277 Test environment and result as below: +------------------------------+--------------------+ | Environment | dpdk_meson_compile | +==============================+====================+ | Red Hat Enterprise Linux 9.5 | PASS | +------------------------------+--------------------+ | Ubuntu 20.04 | PASS | +------------------------------+--------------------+ | Debian GNU/Linux 12 | PASS | +------------------------------+--------------------+ | Fedora Linux 42 | PASS | +------------------------------+--------------------+ | Ubuntu 22.04 | PASS | +------------------------------+--------------------+ | Ubuntu 24.04 | PASS | +------------------------------+--------------------+ | CentOS Stream 9 | PASS | +------------------------------+--------------------+ | CentOS Stream 10 | PASS | +------------------------------+--------------------+ Red Hat Enterprise Linux 9.5 Kernel: 5.4 Compiler: gcc gcc (GCC) 11.5.0 20240719 (Red Hat 11.5.0-2) Ubuntu 20.04 Kernel: 5.15 Compiler: aarch64-linux-gnu-gcc gcc (Ubuntu 9.4.0-1ubuntu1~20.04.2) 9.4.0 Debian GNU/Linux 12 Kernel: 5.4 Compiler: gcc gcc (Debian 12.2.0-14+deb12u1) 12.2.0 Fedora Linux 42 Kernel: 5.4 Compiler: gcc gcc (GCC) 15.2.1 20250808 (Red Hat 15.2.1-1) Ubuntu 22.04 Kernel: 5.4 Compiler: gcc gcc (Ubuntu 11.4.0-1ubuntu1~22.04) 11.4.0 Ubuntu 24.04 Kernel: 5.4 Compiler: gcc gcc (Ubuntu 13.3.0-6ubuntu2~24.04) 13.3.0 CentOS Stream 9 Kernel: 5.4 Compiler: gcc gcc (GCC) 11.5.0 20240719 (Red Hat 11.5.0-11) CentOS Stream 10 Kernel: 5.4 Compiler: gcc gcc (GCC) 14.2.1 20250110 (Red Hat 14.2.1-8) To view detailed results, visit: https://lab.dpdk.org/results/dashboard/patchsets/34582/ UNH-IOL DPDK Community Lab To manage your email subscriptions, visit: https://lab.dpdk.org/results/dashboard/preferences/subscriptions/