From mboxrd@z Thu Jan 1 00:00:00 1970 Return-Path: Received: from mails.dpdk.org (mails.dpdk.org [217.70.189.124]) by inbox.dpdk.org (Postfix) with ESMTP id 25A7C48B0E for ; Sat, 15 Nov 2025 01:23:24 +0100 (CET) Received: from mails.dpdk.org (localhost [127.0.0.1]) by mails.dpdk.org (Postfix) with ESMTP id 1F497400D6; Sat, 15 Nov 2025 01:23:24 +0100 (CET) Received: from mail-qv1-f98.google.com (mail-qv1-f98.google.com [209.85.219.98]) by mails.dpdk.org (Postfix) with ESMTP id E2BAE400D6 for ; Sat, 15 Nov 2025 01:23:22 +0100 (CET) Received: by mail-qv1-f98.google.com with SMTP id 6a1803df08f44-882451b353fso16973056d6.1 for ; Fri, 14 Nov 2025 16:23:22 -0800 (PST) DKIM-Signature: v=1; a=rsa-sha256; c=relaxed/relaxed; d=iol.unh.edu; s=unh-iol; t=1763166202; x=1763771002; darn=dpdk.org; h=references:in-reply-to:cc:to:from:subject:message-id:date:from:to :cc:subject:date:message-id:reply-to; bh=aOtBt4StuHCXc0fhY/X1z4QOqT9oYhD//r5HQJxe86k=; b=PGAVT/lKlgzIf0L/L2Xqu9tG9puS/xaFE1TsQkNX4YCehPiuzwAGKRPYrccBXLeX5l GG0RUhv1TKY6McrSb8elRyeVfI6CftbzQBw7rsjEqkUotmX8wEHaW+UyqL2xK4d0WIfZ oXRKj9Ly8oOiaPUnOVIygOzKxvBTH0PG5nv+Q= X-Google-DKIM-Signature: v=1; a=rsa-sha256; c=relaxed/relaxed; d=1e100.net; s=20230601; t=1763166202; x=1763771002; h=references:in-reply-to:cc:to:from:subject:message-id:date:x-gm-gg :x-gm-message-state:from:to:cc:subject:date:message-id:reply-to; bh=aOtBt4StuHCXc0fhY/X1z4QOqT9oYhD//r5HQJxe86k=; b=bsfGUPJgyq1Dp+N7qS5019dcfq5e9PV3FRMGwSLpMclO+iK7uDHMj+9iUjmbJ2fqUw pjV3PJybs2vcIEwCiB0BHasNmN2OZ8PZXbBb8T1G/RoUE22E7PuzlfQyg5+X1lN6405K 3QcAbMillTsbpVyn9R6+uJzzxTkJthp2COMor/+vLzrNyoLFmO2x1Mm4Lpb9gTh0eMWl o1ksIivZcMsil51Q/mH6Jrt2prAl6uiBTE8uspE2TCq4i75F2VQCi/tXDyO6BKdDYImq Uy+uHbgYjbYCyJk7YsHb0r+KHioLC6rucN2yuwYRSIEG+Ma/E7bnPzO2GjUfMtpb3iXD ZBOA== X-Gm-Message-State: AOJu0YydA3tiWx2YQrRfx78fOflJ34zvtilFmc4tLdu6KQs4yvfPsPcH VRseyrtIUbnndCdF24hK8XgpG+kTYPi/MebFgtCN3zu7dokZFgDjPRd9VdOcPOq0Xf9/T4uc5T5 4Evz6BkMN4seGkqSoGaiPwKbZXLByNgGlnT0NcnjBuD4/ X-Gm-Gg: ASbGncuESrDUCy9eLyHKi25JR5Ic7z2NYugrZzDclR6iPyagYAhhZmySAGjOhe0JaTz LrhltuJtWVhvYbYr3C/lzOYiCxsU5YKWmg9RehbLw2egaVyzD5nffxtdL884UQ4Ms/AmcLmf68n 0ytJyzZ29t7v+ayR034AQjt+1GIY6FhqmsxZtYO7sXCml/eMIbDBfjGam9nBHK5p6HtDnJM3P6O FvoLu/zVG0cHnyRT0ite4vwV6QL5kr0KsnL0h/kNz37fVWZ1PRYTFMF6ymwAaRywCfzN+bUuxTf DYg0jtwZStyOOZi//y4qHDvJ/78jqmumKiPDCr2Uol3qL6G0epF60bsb/H1fWLBCvmH/LOxveoS r6CBiRmIHigrjTf9ODafEuDyuVwaJhqo= X-Google-Smtp-Source: AGHT+IHPXpMTuzPIaTc2saJY2+nV3MbrdA2iewNx1W4qdYqof9XtLG7kEulHNPfx9yHZr5vWMEjW7aUEES/0 X-Received: by 2002:a05:6214:3009:b0:880:52d3:9bfc with SMTP id 6a1803df08f44-882925e999bmr72729276d6.22.1763166202205; Fri, 14 Nov 2025 16:23:22 -0800 (PST) Received: from postal.iol.unh.edu (postal.iol.unh.edu. [132.177.123.84]) by smtp-relay.gmail.com with ESMTPS id 6a1803df08f44-882862b348asm7259316d6.2.2025.11.14.16.23.22 (version=TLS1_2 cipher=ECDHE-ECDSA-AES128-GCM-SHA256 bits=128/128); Fri, 14 Nov 2025 16:23:22 -0800 (PST) X-Relaying-Domain: iol.unh.edu Date: Fri, 14 Nov 2025 16:23:22 -0800 (PST) Message-ID: <6917c7fa.050a0220.bc0de.2ed8SMTPIN_ADDED_MISSING@mx.google.com> Received: from [172.21.0.6] (unknown [172.18.0.240]) by postal.iol.unh.edu (Postfix) with ESMTP id D2AF16051830; Fri, 14 Nov 2025 19:23:21 -0500 (EST) Subject: |SUCCESS| pw158776 [PATCH] app/testpmd: fix flex item link parsing From: dpdklab@iol.unh.edu To: Test Report Cc: dpdk-test-reports@iol.unh.edu, Stephen Hemminger In-Reply-To: <20251113201726.10597-1-mkashani@nvidia.com> References: <20251113201726.10597-1-mkashani@nvidia.com> Content-Type: text/plain X-BeenThere: test-report@dpdk.org X-Mailman-Version: 2.1.29 Precedence: list List-Id: automatic DPDK test reports List-Unsubscribe: , List-Archive: List-Post: List-Help: List-Subscribe: , Errors-To: test-report-bounces@dpdk.org Test-Label: iol-compile-arm64-testing Test-Status: SUCCESS http://dpdk.org/patch/158776 _Testing PASS_ Submitter: Maayan Kashani Date: Thursday, November 13 2025 20:17:25 DPDK git baseline: Repo:dpdk-next-net Branch: master CommitID:fca6f2910345c25a5050a0b586e0d324ca616cbb 158776 --> testing pass Upstream job id: Generic-DPDK-Compile-Meson#444304 Test environment and result as below: +------------------------------+--------------------+ | Environment | dpdk_meson_compile | +==============================+====================+ | Ubuntu 20.04 | PASS | +------------------------------+--------------------+ | Red Hat Enterprise Linux 9.5 | PASS | +------------------------------+--------------------+ | Debian GNU/Linux 12 | PASS | +------------------------------+--------------------+ | Fedora Linux 42 | PASS | +------------------------------+--------------------+ | Ubuntu 22.04 | PASS | +------------------------------+--------------------+ | Ubuntu 24.04 | PASS | +------------------------------+--------------------+ | CentOS Stream 9 | PASS | +------------------------------+--------------------+ | CentOS Stream 10 | PASS | +------------------------------+--------------------+ Ubuntu 20.04 Kernel: 5.15 Compiler: gcc gcc (Ubuntu 9.4.0-1ubuntu1~20.04.2) 9.4.0 Red Hat Enterprise Linux 9.5 Kernel: 5.4 Compiler: gcc gcc (GCC) 11.5.0 20240719 (Red Hat 11.5.0-2) Debian GNU/Linux 12 Kernel: 5.4 Compiler: gcc gcc (Debian 12.2.0-14+deb12u1) 12.2.0 Fedora Linux 42 Kernel: 5.4 Compiler: gcc gcc (GCC) 15.2.1 20250808 (Red Hat 15.2.1-1) Ubuntu 22.04 Kernel: 5.4 Compiler: gcc gcc (Ubuntu 11.4.0-1ubuntu1~22.04) 11.4.0 Ubuntu 24.04 Kernel: 5.4 Compiler: gcc gcc (Ubuntu 13.3.0-6ubuntu2~24.04) 13.3.0 CentOS Stream 9 Kernel: 5.4 Compiler: gcc gcc (GCC) 11.5.0 20240719 (Red Hat 11.5.0-11) CentOS Stream 10 Kernel: 5.4 Compiler: gcc gcc (GCC) 14.2.1 20250110 (Red Hat 14.2.1-8) To view detailed results, visit: https://lab.dpdk.org/results/dashboard/patchsets/34583/ UNH-IOL DPDK Community Lab To manage your email subscriptions, visit: https://lab.dpdk.org/results/dashboard/preferences/subscriptions/