automatic DPDK test reports
 help / color / mirror / Atom feed
From: dpdklab@iol.unh.edu
To: Test Report <test-report@dpdk.org>
Cc: dpdk-test-reports@iol.unh.edu,
	Bruce Richardson <bruce.richardson@intel.com>
Subject: |SUCCESS| pw158777-158778 [PATCH] [2/2] net/iavf: check Rx timestamp
Date: Fri, 14 Nov 2025 16:24:23 -0800 (PST)	[thread overview]
Message-ID: <6917c837.170a0220.3adac7.8331SMTPIN_ADDED_MISSING@mx.google.com> (raw)
In-Reply-To: <20251113-jk-dpdk-iavf-rx-timestamping-improvements-v1-2-3d9a0168087b@intel.com>

Test-Label: iol-compile-arm64-testing
Test-Status: SUCCESS
http://dpdk.org/patch/158778

_Testing PASS_

Submitter: Jacob Keller <jacob.e.keller@intel.com>
Date: Thursday, November 13 2025 21:33:45 
DPDK git baseline: Repo:dpdk-next-net-intel
  Branch: master
  CommitID:e5357d609907d504f4705e4899f3dad43cb4b70f

158777-158778 --> testing pass

Upstream job id: Generic-DPDK-Compile-Meson#444329

Test environment and result as below:

+------------------------------+--------------------+
|         Environment          | dpdk_meson_compile |
+==============================+====================+
| Red Hat Enterprise Linux 9.5 | PASS               |
+------------------------------+--------------------+
| Ubuntu 20.04                 | PASS               |
+------------------------------+--------------------+
| Debian GNU/Linux 12          | PASS               |
+------------------------------+--------------------+
| Fedora Linux 42              | PASS               |
+------------------------------+--------------------+
| Ubuntu 22.04                 | PASS               |
+------------------------------+--------------------+
| Ubuntu 24.04                 | PASS               |
+------------------------------+--------------------+
| CentOS Stream 9              | PASS               |
+------------------------------+--------------------+
| CentOS Stream 10             | PASS               |
+------------------------------+--------------------+


Red Hat Enterprise Linux 9.5
	Kernel: 5.4
	Compiler: gcc gcc (GCC) 11.5.0 20240719 (Red Hat 11.5.0-2)

Ubuntu 20.04
	Kernel: 5.15
	Compiler: aarch64-linux-gnu-gcc gcc (Ubuntu 9.4.0-1ubuntu1~20.04.2) 9.4.0

Debian GNU/Linux 12
	Kernel: 5.4
	Compiler: gcc gcc (Debian 12.2.0-14+deb12u1) 12.2.0

Fedora Linux 42
	Kernel: 5.4
	Compiler: gcc gcc (GCC) 15.2.1 20250808 (Red Hat 15.2.1-1)

Ubuntu 22.04
	Kernel: 5.4
	Compiler: gcc gcc (Ubuntu 11.4.0-1ubuntu1~22.04) 11.4.0

Ubuntu 24.04
	Kernel: 5.4
	Compiler: gcc gcc (Ubuntu 13.3.0-6ubuntu2~24.04) 13.3.0

CentOS Stream 9
	Kernel: 5.4
	Compiler: gcc gcc (GCC) 11.5.0 20240719 (Red Hat 11.5.0-11)

CentOS Stream 10
	Kernel: 5.4
	Compiler: gcc gcc (GCC) 14.2.1 20250110 (Red Hat 14.2.1-8)

To view detailed results, visit:
https://lab.dpdk.org/results/dashboard/patchsets/34584/

UNH-IOL DPDK Community Lab

To manage your email subscriptions, visit: 
https://lab.dpdk.org/results/dashboard/preferences/subscriptions/

  parent reply	other threads:[~2025-11-15  0:24 UTC|newest]

Thread overview: 27+ messages / expand[flat|nested]  mbox.gz  Atom feed  top
     [not found] <20251113-jk-dpdk-iavf-rx-timestamping-improvements-v1-2-3d9a0168087b@intel.com>
2025-11-13 20:59 ` |SUCCESS| pw158777-158778 [PATCH 2/2] net/iavf: check Rx timestamp validity bit qemudev
2025-11-13 21:04 ` qemudev
2025-11-13 21:33 ` |SUCCESS| pw158778 " checkpatch
2025-11-13 22:21 ` 0-day Robot
2025-11-13 22:21 ` 0-day Robot
2025-11-13 22:22 ` |PENDING| pw158777-158778 [PATCH] [2/2] net/iavf: check Rx timestamp dpdklab
2025-11-13 22:26 ` |SUCCESS| " dpdklab
2025-11-13 22:26 ` dpdklab
2025-11-13 22:29 ` dpdklab
2025-11-13 22:33 ` dpdklab
2025-11-13 22:36 ` |PENDING| " dpdklab
2025-11-13 22:43 ` dpdklab
2025-11-13 23:04 ` |SUCCESS| " dpdklab
2025-11-14  0:21 ` dpdklab
2025-11-14  0:22 ` dpdklab
2025-11-14  2:38 ` dpdklab
2025-11-14  3:45 ` dpdklab
2025-11-14  3:46 ` dpdklab
2025-11-14  4:05 ` dpdklab
2025-11-14  4:16 ` dpdklab
2025-11-14  8:03 ` dpdklab
2025-11-14 12:27 ` dpdklab
2025-11-14 15:56 ` |PENDING| " dpdklab
2025-11-14 17:22 ` |SUCCESS| " dpdklab
2025-11-15  0:16 ` dpdklab
2025-11-15  0:24 ` dpdklab [this message]
2025-11-15  0:36 ` dpdklab

Reply instructions:

You may reply publicly to this message via plain-text email
using any one of the following methods:

* Save the following mbox file, import it into your mail client,
  and reply-to-all from there: mbox

  Avoid top-posting and favor interleaved quoting:
  https://en.wikipedia.org/wiki/Posting_style#Interleaved_style

* Reply using the --to, --cc, and --in-reply-to
  switches of git-send-email(1):

  git send-email \
    --in-reply-to=6917c837.170a0220.3adac7.8331SMTPIN_ADDED_MISSING@mx.google.com \
    --to=dpdklab@iol.unh.edu \
    --cc=bruce.richardson@intel.com \
    --cc=dpdk-test-reports@iol.unh.edu \
    --cc=test-report@dpdk.org \
    /path/to/YOUR_REPLY

  https://kernel.org/pub/software/scm/git/docs/git-send-email.html

* If your mail client supports setting the In-Reply-To header
  via mailto: links, try the mailto: link
Be sure your reply has a Subject: header at the top and a blank line before the message body.
This is a public inbox, see mirroring instructions
for how to clone and mirror all data and code used for this inbox;
as well as URLs for NNTP newsgroup(s).