From mboxrd@z Thu Jan 1 00:00:00 1970 Return-Path: Received: from mails.dpdk.org (mails.dpdk.org [217.70.189.124]) by inbox.dpdk.org (Postfix) with ESMTP id 4247048B0E for ; Sat, 15 Nov 2025 01:24:25 +0100 (CET) Received: from mails.dpdk.org (localhost [127.0.0.1]) by mails.dpdk.org (Postfix) with ESMTP id 3C6AB400D6; Sat, 15 Nov 2025 01:24:25 +0100 (CET) Received: from mail-pl1-f227.google.com (mail-pl1-f227.google.com [209.85.214.227]) by mails.dpdk.org (Postfix) with ESMTP id B32D3400D6 for ; Sat, 15 Nov 2025 01:24:24 +0100 (CET) Received: by mail-pl1-f227.google.com with SMTP id d9443c01a7336-29845b06dd2so27576285ad.2 for ; Fri, 14 Nov 2025 16:24:24 -0800 (PST) DKIM-Signature: v=1; a=rsa-sha256; c=relaxed/relaxed; d=iol.unh.edu; s=unh-iol; t=1763166264; x=1763771064; darn=dpdk.org; h=references:in-reply-to:cc:to:from:subject:message-id:date:from:to :cc:subject:date:message-id:reply-to; bh=ebGZab4GlXhSt0PalsFCAn0dN03WiUmsIyoPle3yD80=; b=FvWJ23wCVfNXP7WvE97Rtll2MzbsPk92boH3Pdu7YkPke+SHlTzMDtHnbQhY4GLCU9 uGgZgsDm+clnzwmJM7rO55YYrrsUgQU4GElxUJu4XjZqLSjjbFYMTnj9aOvsLHXe9JQJ lRF9+NX3XWFXyjCn9oPZBRgYLuq/JkM2SLg8o= X-Google-DKIM-Signature: v=1; a=rsa-sha256; c=relaxed/relaxed; d=1e100.net; s=20230601; t=1763166264; x=1763771064; h=references:in-reply-to:cc:to:from:subject:message-id:date:x-gm-gg :x-gm-message-state:from:to:cc:subject:date:message-id:reply-to; bh=ebGZab4GlXhSt0PalsFCAn0dN03WiUmsIyoPle3yD80=; b=uJh3Sbh7xiI9Xo3PZIxUJ66zKaHevJqdqU/EKs4JZBFkcDv/yupMdAP3nezcreIV+a DvT6jXSCIdhmj8eXRA5M4m4kYDzYs+GQQEuVLfVlEvTFpjjwLvTQEvSvZ4GMnNgTDiUf 4EPZSv5PuPJJJeVdG93P7tQCiciZhCFXzW7gBudH3dBHkRL59a40n1ZxrzWhIL/qaEyD qhJ1RKvlv58Yc6ddp6OzPD+KXmkS3bJNHAsPNojdgKGt51Zl9iqpI1R22/HCbxL2gR9I bXTrRGx4gQXwGZyCMzeMg7JfQMXhNBM+dUkIBkkBxdhMgxe/AjdFfRLuwEHFVAvFlEgt dvkA== X-Gm-Message-State: AOJu0Yz7GEYxLhkX2vsvDhtemT5pfhEuc2RxBoQWptBORq54EW9fZw/8 Z/gMFNKvWKP19jiYtrRFSzQVC8c33/U6mcIQanSFki/c1DGHqsQ1MQf5o1TLGht5DquYqYWkO40 Qd3oy29q5VRQNOq76WU36MBabE222KY58rYcdaHQ38Qwir0S1DkHKylhDzubG X-Gm-Gg: ASbGncsqGjgKZ6vbslAbJopUzUqz43j51DKFAqf4urYBAZdALl9gp7kjx18M3ZXz4Gs WFrtxxvrHPtoilIIVDtZ7WcziBQWzfHOXEPo8IFOLB10Fi39wSC/jJIIsp68VovYITvF3jpGviL KTx7NWmQ35PLxcQslBvNe50p9nXrpkcsrYAFjN4P+lYQyGohOEoXPDrGcRY2KLndpEswvbtw0qn E6cr1UFH+yx4ydk8Fa5aYOz6picRXFJEUCvkW76mPonhXlj6SjEO6TBDACY8/n+lzhGgKzlQlFB +evPbZA2d8fOQPOeu7/qgYJu7TjV5qj4sEo0xMselOjG6NpJq4hVby9MkYThkj5kkTRgj+lRo+J kHa3kcVFJ X-Google-Smtp-Source: AGHT+IHf5oTYGwpM2FS9ilpvwEiDanPcLQJ5/Fg86ylLTwLYidQQ73e6hPJMyVNPA0aNAyRNh2jY1Ljh6IAg X-Received: by 2002:a17:902:e948:b0:294:cc1d:e28d with SMTP id d9443c01a7336-2986a6d6d8bmr57051935ad.25.1763166263927; Fri, 14 Nov 2025 16:24:23 -0800 (PST) Received: from postal.iol.unh.edu (postal.iol.unh.edu. [2606:4100:3880:1234::84]) by smtp-relay.gmail.com with ESMTPS id 98e67ed59e1d1-343e07e64b6sm1140039a91.7.2025.11.14.16.24.23 (version=TLS1_2 cipher=ECDHE-ECDSA-AES128-GCM-SHA256 bits=128/128); Fri, 14 Nov 2025 16:24:23 -0800 (PST) X-Relaying-Domain: iol.unh.edu Date: Fri, 14 Nov 2025 16:24:23 -0800 (PST) Message-ID: <6917c837.170a0220.3adac7.8331SMTPIN_ADDED_MISSING@mx.google.com> Received: from [172.21.0.4] (unknown [172.18.0.240]) by postal.iol.unh.edu (Postfix) with ESMTP id BA9616051830; Fri, 14 Nov 2025 19:24:22 -0500 (EST) Subject: |SUCCESS| pw158777-158778 [PATCH] [2/2] net/iavf: check Rx timestamp From: dpdklab@iol.unh.edu To: Test Report Cc: dpdk-test-reports@iol.unh.edu, Bruce Richardson In-Reply-To: <20251113-jk-dpdk-iavf-rx-timestamping-improvements-v1-2-3d9a0168087b@intel.com> References: <20251113-jk-dpdk-iavf-rx-timestamping-improvements-v1-2-3d9a0168087b@intel.com> Content-Type: text/plain X-BeenThere: test-report@dpdk.org X-Mailman-Version: 2.1.29 Precedence: list List-Id: automatic DPDK test reports List-Unsubscribe: , List-Archive: List-Post: List-Help: List-Subscribe: , Errors-To: test-report-bounces@dpdk.org Test-Label: iol-compile-arm64-testing Test-Status: SUCCESS http://dpdk.org/patch/158778 _Testing PASS_ Submitter: Jacob Keller Date: Thursday, November 13 2025 21:33:45 DPDK git baseline: Repo:dpdk-next-net-intel Branch: master CommitID:e5357d609907d504f4705e4899f3dad43cb4b70f 158777-158778 --> testing pass Upstream job id: Generic-DPDK-Compile-Meson#444329 Test environment and result as below: +------------------------------+--------------------+ | Environment | dpdk_meson_compile | +==============================+====================+ | Red Hat Enterprise Linux 9.5 | PASS | +------------------------------+--------------------+ | Ubuntu 20.04 | PASS | +------------------------------+--------------------+ | Debian GNU/Linux 12 | PASS | +------------------------------+--------------------+ | Fedora Linux 42 | PASS | +------------------------------+--------------------+ | Ubuntu 22.04 | PASS | +------------------------------+--------------------+ | Ubuntu 24.04 | PASS | +------------------------------+--------------------+ | CentOS Stream 9 | PASS | +------------------------------+--------------------+ | CentOS Stream 10 | PASS | +------------------------------+--------------------+ Red Hat Enterprise Linux 9.5 Kernel: 5.4 Compiler: gcc gcc (GCC) 11.5.0 20240719 (Red Hat 11.5.0-2) Ubuntu 20.04 Kernel: 5.15 Compiler: aarch64-linux-gnu-gcc gcc (Ubuntu 9.4.0-1ubuntu1~20.04.2) 9.4.0 Debian GNU/Linux 12 Kernel: 5.4 Compiler: gcc gcc (Debian 12.2.0-14+deb12u1) 12.2.0 Fedora Linux 42 Kernel: 5.4 Compiler: gcc gcc (GCC) 15.2.1 20250808 (Red Hat 15.2.1-1) Ubuntu 22.04 Kernel: 5.4 Compiler: gcc gcc (Ubuntu 11.4.0-1ubuntu1~22.04) 11.4.0 Ubuntu 24.04 Kernel: 5.4 Compiler: gcc gcc (Ubuntu 13.3.0-6ubuntu2~24.04) 13.3.0 CentOS Stream 9 Kernel: 5.4 Compiler: gcc gcc (GCC) 11.5.0 20240719 (Red Hat 11.5.0-11) CentOS Stream 10 Kernel: 5.4 Compiler: gcc gcc (GCC) 14.2.1 20250110 (Red Hat 14.2.1-8) To view detailed results, visit: https://lab.dpdk.org/results/dashboard/patchsets/34584/ UNH-IOL DPDK Community Lab To manage your email subscriptions, visit: https://lab.dpdk.org/results/dashboard/preferences/subscriptions/